BEGIN:VCALENDAR
VERSION:2.0
PRODID:-//Info Stargard - ECPv6.15.20//NONSGML v1.0//EN
CALSCALE:GREGORIAN
METHOD:PUBLISH
X-ORIGINAL-URL:https://infostargard.pl
X-WR-CALDESC:Wydarzenia dla Info Stargard
REFRESH-INTERVAL;VALUE=DURATION:PT1H
X-Robots-Tag:noindex
X-PUBLISHED-TTL:PT1H
BEGIN:VTIMEZONE
TZID:Europe/Helsinki
BEGIN:DAYLIGHT
TZOFFSETFROM:+0200
TZOFFSETTO:+0300
TZNAME:EEST
DTSTART:20240331T010000
END:DAYLIGHT
BEGIN:STANDARD
TZOFFSETFROM:+0300
TZOFFSETTO:+0200
TZNAME:EET
DTSTART:20241027T010000
END:STANDARD
BEGIN:DAYLIGHT
TZOFFSETFROM:+0200
TZOFFSETTO:+0300
TZNAME:EEST
DTSTART:20250330T010000
END:DAYLIGHT
BEGIN:STANDARD
TZOFFSETFROM:+0300
TZOFFSETTO:+0200
TZNAME:EET
DTSTART:20251026T010000
END:STANDARD
BEGIN:DAYLIGHT
TZOFFSETFROM:+0200
TZOFFSETTO:+0300
TZNAME:EEST
DTSTART:20260329T010000
END:DAYLIGHT
BEGIN:STANDARD
TZOFFSETFROM:+0300
TZOFFSETTO:+0200
TZNAME:EET
DTSTART:20261025T010000
END:STANDARD
END:VTIMEZONE
BEGIN:VEVENT
DTSTART;TZID=Europe/Helsinki:20251015T170000
DTEND;TZID=Europe/Helsinki:20251015T170000
DTSTAMP:20260420T055618
CREATED:20251002T095632Z
LAST-MODIFIED:20251013T140922Z
UID:24785-1760547600-1760547600@infostargard.pl
SUMMARY:Babskie pogaduchy w Książnicy Stargardzkiej
DESCRIPTION:Książnica Stargardzka zaprasza na kolejne spotkanie w ramach cyklu „Być kobietą”. Gośćmi będą Katarzyna Cybulska oraz Anna Rosiak.  \nSpotkanie „Aromaterapia w praktyce” odbędzie się w środę\, 15 października o godz. 17\, w Pracowni Kreatywności. Wstęp jest wolny. \n \n  \n 
URL:https://infostargard.pl/event/babskie-pogaduchy-w-ksiaznicy-stargardzkiej/
LOCATION:Pracownia Kreatywności – Książnica Stargardzka
END:VEVENT
BEGIN:VEVENT
DTSTART;TZID=Europe/Helsinki:20251015T170000
DTEND;TZID=Europe/Helsinki:20251015T170000
DTSTAMP:20260420T055618
CREATED:20251002T101829Z
LAST-MODIFIED:20251002T102038Z
UID:24789-1760547600-1760547600@infostargard.pl
SUMMARY:Teatr Lalek Pleciuga - Spektakl: "Oskar i rzeczy"
DESCRIPTION:Stargardzkie Centrum Kultury zaprasza na spektakl „Oskar i rzeczy”.  \nPrzedstawienie odbędzie się w środę\, 15 października o godz. 17\, na dużej scenie sck. Bilety w cenie 30 zł. \nInformacja SCK: \n\n\n\n„Oskar i rzeczy” to spektakl kierowany do młodej publiczności od 4 roku życia. \nMały Oskar po raz pierwszy zostaje na dłużej bez rodziców. Przyjazny dotąd dom Babci wydaje mu się obcy\, a wszystko wokół nagle napawa lękiem i budzi niechęć. Jak chłopiec poradzi sobie z tęsknotą za Mamą\, Tatą czy choćby własnym pokojem? W czym odkryje frajdę i co wyniesie z nowej sytuacji? Jakim cudem w historii o rozłące i samodzielności ważne okażą się Miotła\, Krzesło\, Dzbanuszek\, Konewka albo wróżąca Lampka? \n„Oskar i rzeczy” – spektakl stworzony na podstawie powieści Andrusa Kivirähka o tym samym tytule to podróż w świat nieposkromionej dziecięcej wyobraźni\, w której zwykłe codzienne przedmioty stają się przyczynkiem do wciągającej zabawy i oswajania małych-wielkich trosk. To też ciepła opowieść o emocjach\, rodzinie i wyjątkowości międzypokoleniowych relacji. \nSpektakl na podstawie książki „Oskar i rzeczy” (oryg. Oskar ja asjad) Andrusa Kivirähka\, tłum. Anna Michalczuk-Podlecki.
URL:https://infostargard.pl/event/teatr-lalek-pleciuga-spektakl-oskar-i-rzeczy/
LOCATION:Duża Scena SCK
END:VEVENT
END:VCALENDAR