BEGIN:VCALENDAR
VERSION:2.0
PRODID:-//Info Stargard - ECPv6.15.20//NONSGML v1.0//EN
CALSCALE:GREGORIAN
METHOD:PUBLISH
X-WR-CALNAME:Info Stargard
X-ORIGINAL-URL:https://infostargard.pl
X-WR-CALDESC:Wydarzenia dla Info Stargard
REFRESH-INTERVAL;VALUE=DURATION:PT1H
X-Robots-Tag:noindex
X-PUBLISHED-TTL:PT1H
BEGIN:VTIMEZONE
TZID:Europe/Helsinki
BEGIN:DAYLIGHT
TZOFFSETFROM:+0200
TZOFFSETTO:+0300
TZNAME:EEST
DTSTART:20240331T010000
END:DAYLIGHT
BEGIN:STANDARD
TZOFFSETFROM:+0300
TZOFFSETTO:+0200
TZNAME:EET
DTSTART:20241027T010000
END:STANDARD
BEGIN:DAYLIGHT
TZOFFSETFROM:+0200
TZOFFSETTO:+0300
TZNAME:EEST
DTSTART:20250330T010000
END:DAYLIGHT
BEGIN:STANDARD
TZOFFSETFROM:+0300
TZOFFSETTO:+0200
TZNAME:EET
DTSTART:20251026T010000
END:STANDARD
BEGIN:DAYLIGHT
TZOFFSETFROM:+0200
TZOFFSETTO:+0300
TZNAME:EEST
DTSTART:20260329T010000
END:DAYLIGHT
BEGIN:STANDARD
TZOFFSETFROM:+0300
TZOFFSETTO:+0200
TZNAME:EET
DTSTART:20261025T010000
END:STANDARD
END:VTIMEZONE
BEGIN:VEVENT
DTSTART;TZID=Europe/Helsinki:20251010T180000
DTEND;TZID=Europe/Helsinki:20251011T180000
DTSTAMP:20260420T055557
CREATED:20251008T094132Z
LAST-MODIFIED:20251008T094247Z
UID:25585-1760119200-1760205600@infostargard.pl
SUMMARY:Stargardzki Dzień Gier Planszowych 2025
DESCRIPTION:Stargardzkie Centrum Nauki Filary\, Książnica Stargardzka oraz Muzeum Archeologiczno-Historyczne zapraszają mieszkańców na Stargardzki Dzień Gier Planszowych.  \nWydarzenie potrwa od piątku\, 10 października do soboty 11 października. \n– Już po raz kolejny spotykamy się\, by wspólnie świętować Dzień Gier Planszowych – informują organizatorzy. – Czeka nas weekend pełen zabawy\, rywalizacji i spotkań przy planszy w różnych zakątkach miasta.  \nHarmonogram:\n \nPiątek\, 10.10 – Książnica Stargardzka\nW ramach Nocy w Bibliotece zapraszamy na wieczorne granie w gry planszowe.\n18:00 – 22:00 \nSobota\, 11.10 – Muzeum Archeologiczno – Historyczne (Basteja)\nHistoryczne mury Bastei wypełnią się planszówkami i dobrym humorem.\n18:00 – 22:00 \nSobota\, 11.10 – Stargardzkie Centrum Nauki Filary\nFilarowa przestrzeń zamieni się w wielką planszową arenę – dla rodzin\, przyjaciół i wszystkich fanów gier. Bilety w cenie 1 zł.\n12:00 – 18:00 \n– Wybierz swoją lokalizację albo odwiedź wszystkie! – zachęcają organizatorzy. – Spędź Dzień Gier Planszowych razem z nami!
URL:https://infostargard.pl/event/stargardzki-dzien-gier-planszowych-2025/
LOCATION:Książnica Stargardzka\, Basteja\, Stargardzkie Centrum Nauki Filary
END:VEVENT
BEGIN:VEVENT
DTSTART;TZID=Europe/Helsinki:20251011T100000
DTEND;TZID=Europe/Helsinki:20251011T100000
DTSTAMP:20260420T055557
CREATED:20250926T124257Z
LAST-MODIFIED:20251013T140648Z
UID:24208-1760176800-1760176800@infostargard.pl
SUMMARY:Grzybobranie w Dolicach
DESCRIPTION:
URL:https://infostargard.pl/event/grzybobranie-w-dolicach/
LOCATION:Wiśniowa Polana w Dolicach
END:VEVENT
BEGIN:VEVENT
DTSTART;TZID=Europe/Helsinki:20251011T150000
DTEND;TZID=Europe/Helsinki:20251011T150000
DTSTAMP:20260420T055557
CREATED:20251002T094357Z
LAST-MODIFIED:20251002T094405Z
UID:24781-1760194800-1760194800@infostargard.pl
SUMMARY:Mecz o mistrzostwo III ligi
DESCRIPTION:11 października o godz. 15 na stadionie miejskim przy ul. Ceglanej rozpocznie się mecz o mistrzostwo III ligi\, gr. II. \nBłękitni Stargard zmierzą się z Unią Swarzędz. \nBilety w cenie: normalny – 15 zł\, ulgowy oraz ze Stargardzka Kartą Mieszkańca – 10 zł\, dzieci i młodzież do lat 13 – wstęp wolny. \nSprzedaż biletów od środy do piątku w klubie w godz. 10-17 lub w dniu meczu w kasach stadionu.
URL:https://infostargard.pl/event/mecz-o-mistrzostwo-iii-ligi-3/
LOCATION:Stadion przy ul. Ceglanej
END:VEVENT
BEGIN:VEVENT
DTSTART;TZID=Europe/Helsinki:20251011T170000
DTEND;TZID=Europe/Helsinki:20251011T170000
DTSTAMP:20260420T055557
CREATED:20251008T091938Z
LAST-MODIFIED:20251008T092008Z
UID:25567-1760202000-1760202000@infostargard.pl
SUMMARY:Spektakl poetycki "Ludzki świat"
DESCRIPTION:Gminna Biblioteka Publiczna w Starej Dąbrowie zaprasza na spektakl poetycki „Ludzki świat” na podstawie twórczości Marka Strzeszewskiego.  \nWydarzenie odbędzie się w sobotę\, 11 października o godz. 17\, w świetlicy wiejskiej w Nowej Dąbrowie. \n„Ludzki świat” to spektakl poetycki o demokracji\, empatii\, manipulacji i codziennym życiu. \nW programie: spektakl poetycki 30-35 min\, scenariusz składa się z wierszy połączonych dialogiem\, spotkanie z autorem a także możliwość zakupu książek. \nWstęp jest wolny. 
URL:https://infostargard.pl/event/spektakl-poetycki-ludzki-swiat/
LOCATION:Świetlica Wiejska w Nowej Dąbrowie
END:VEVENT
END:VCALENDAR