BEGIN:VCALENDAR
VERSION:2.0
PRODID:-//Info Stargard - ECPv6.15.20//NONSGML v1.0//EN
CALSCALE:GREGORIAN
METHOD:PUBLISH
X-WR-CALNAME:Info Stargard
X-ORIGINAL-URL:https://infostargard.pl
X-WR-CALDESC:Wydarzenia dla Info Stargard
REFRESH-INTERVAL;VALUE=DURATION:PT1H
X-Robots-Tag:noindex
X-PUBLISHED-TTL:PT1H
BEGIN:VTIMEZONE
TZID:Europe/Helsinki
BEGIN:DAYLIGHT
TZOFFSETFROM:+0200
TZOFFSETTO:+0300
TZNAME:EEST
DTSTART:20240331T010000
END:DAYLIGHT
BEGIN:STANDARD
TZOFFSETFROM:+0300
TZOFFSETTO:+0200
TZNAME:EET
DTSTART:20241027T010000
END:STANDARD
BEGIN:DAYLIGHT
TZOFFSETFROM:+0200
TZOFFSETTO:+0300
TZNAME:EEST
DTSTART:20250330T010000
END:DAYLIGHT
BEGIN:STANDARD
TZOFFSETFROM:+0300
TZOFFSETTO:+0200
TZNAME:EET
DTSTART:20251026T010000
END:STANDARD
BEGIN:DAYLIGHT
TZOFFSETFROM:+0200
TZOFFSETTO:+0300
TZNAME:EEST
DTSTART:20260329T010000
END:DAYLIGHT
BEGIN:STANDARD
TZOFFSETFROM:+0300
TZOFFSETTO:+0200
TZNAME:EET
DTSTART:20261025T010000
END:STANDARD
END:VTIMEZONE
BEGIN:VEVENT
DTSTART;TZID=Europe/Helsinki:20251008T110000
DTEND;TZID=Europe/Helsinki:20251010T110000
DTSTAMP:20260420T055558
CREATED:20250925T104055Z
LAST-MODIFIED:20251007T090814Z
UID:24108-1759921200-1760094000@infostargard.pl
SUMMARY:Różowy Październik
DESCRIPTION:Stowarzyszenie Amazonek „Stokrotka” zapraszają na Różowy Październik\, który potrwa od 8 do 10 października.  \nStowarzyszenie Amazonek „Stokrotka” zaprasza stargardzian do wspólnych obchodów. Wszyscy zainteresowani zadbaniem o zdrowie swoje i bliskich mogą wziąć udział w ciekawych spotkaniach\, a także przejść w symbolicznym marszu „Różowej nadziei”. \nW środę (8.10) o 11:00 w Starostwie Powiatowym (ul. Skarbowa 1) odbędzie się prelekcja dietetyka\, spotkanie z ginekologiem-onkologiem i pokaz samobadania piersi. W czwartek (9.10) o 11:00 spod banku przy ul. S. Wyszyńskiego wyruszy różowy marsz. W piątek (10.10) o 8:00 na Rynku Staromiejskim stanie mammobus. Żeby skorzystać z bezpłatnego badania\, trzeba się zapisać wcześniej – podczas środowego spotkania w starostwie. Można również zadzwonić – tel. 68 41 41 411 (od poniedziałku do piątku w godzinach 8:00-16:00). \nInf. organizatora. Więcej szczegółów na plakacie poniżej.
URL:https://infostargard.pl/event/rozowy-pazdziernik/
LOCATION:Starostwo Powiatowe w Stargardzie\, Rynek Staromiejski
END:VEVENT
BEGIN:VEVENT
DTSTART;TZID=Europe/Helsinki:20251010T110000
DTEND;TZID=Europe/Helsinki:20251010T110000
DTSTAMP:20260420T055558
CREATED:20251008T112858Z
LAST-MODIFIED:20251013T140634Z
UID:25615-1760094000-1760094000@infostargard.pl
SUMMARY:75-lecie Zespołu Szkół nr 2
DESCRIPTION:Zespół Szkół nr 2 w Stargardzie świętuje w tym roku 75-lecie. Obchody odbędą się 10 października. \n\nProgram obchodów 75-lecia „ekonomika”:\n\n\n\n– 11:00 – Gala jubileuszowa\, sala gimnastyczna\n– ok. 13:00 – catering i zwiedzanie szkoły\n– ok. 13:30 – zbiórka chętnych absolwentów do zwiedzania dawnego budynku szkoły przy Pl. Majdanek\n– ok 14:30 – chętne osoby udają się na cmentarz w celu odwiedzenia grobów pracowników ZS nr 2\n– 18:00 do 2:00 – Bal Pokoleń\, hotel Lord.
URL:https://infostargard.pl/event/75-lecie-zespolu-szkol-nr-2/
LOCATION:ZS nr 2
END:VEVENT
BEGIN:VEVENT
DTSTART;TZID=Europe/Helsinki:20251010T170000
DTEND;TZID=Europe/Helsinki:20251010T220000
DTSTAMP:20260420T055558
CREATED:20251002T092928Z
LAST-MODIFIED:20251013T140616Z
UID:24778-1760115600-1760133600@infostargard.pl
SUMMARY:Noc Bibliotek
DESCRIPTION:W najbliższy piątek\, 10 października\, w Książnicy Stargardzkiej odbędzie się Noc Bibliotek. Początek godz. 17.  \nNoc Bibliotek to ogólnopolskie wydarzenie organizowane przez Fundację Centrum Edukacji Obywatelskiej. W tym roku odbywa się pod hasłem „Do dzieła”. W akcji bierze udział ponad 1400 placówek w całym kraju. \nO godz. 17:30 w Czytelni Głównej rozpocznie się spotkanie z autorem kryminałów\, pochodzącym ze Stargardu\, Rafałem Gliną. W tym samym miejscu o godz. 19:30 odbędzie się spotkanie z Ewą Bodnar – pedagożką i terapeutką z Poradni Psychologiczno-Pedagogicznej w Stargardzie. Tematem spotkania będzie uzależnienie dzieci od mediów. \n– Warto więc szukać równowagi między światem online a prawdziwym życiem – dla dobra naszych dzieci i nas samych – zachęcają organizatorzy. – Z Ewą Bodnar porozmawiamy i tym jak technologia wpływa na młody mózg\, psychikę i relację\, a także jak mądrze wspierać dzieci w cyfrowym świecie. To spotkanie nie tylko dla rodziców\, ale dla wszystkich\, którym zależy na zdrowych relacjach i równowadze w życiu.  \nO godz. 18. w Pracowni Kreatywności odbędą się warsztaty plastyczne z grafikiem\, Dawidem Czajkowskim. Każdy uczestnik stworzy własną pracę pod okiem profesjonalisty. Liczba miejsc jest ograniczona. Obowiązuje rezerwacja miejsc pod linkiem: https://app.evenea.pl/event/906896-1/. \nOprócz spotkań i warsztatów w Książnicy\, do godz. 22 potrwa kiermasz książek używanych. W programie przewidziano także możliwość wymiany puzzli i zabawy w planszówki. \nWstęp na te wydarzenia jest wolny.
URL:https://infostargard.pl/event/noc-bibliotek/
LOCATION:Książnica Stargardzka
END:VEVENT
BEGIN:VEVENT
DTSTART;TZID=Europe/Helsinki:20251010T180000
DTEND;TZID=Europe/Helsinki:20251011T180000
DTSTAMP:20260420T055558
CREATED:20251008T094132Z
LAST-MODIFIED:20251008T094247Z
UID:25585-1760119200-1760205600@infostargard.pl
SUMMARY:Stargardzki Dzień Gier Planszowych 2025
DESCRIPTION:Stargardzkie Centrum Nauki Filary\, Książnica Stargardzka oraz Muzeum Archeologiczno-Historyczne zapraszają mieszkańców na Stargardzki Dzień Gier Planszowych.  \nWydarzenie potrwa od piątku\, 10 października do soboty 11 października. \n– Już po raz kolejny spotykamy się\, by wspólnie świętować Dzień Gier Planszowych – informują organizatorzy. – Czeka nas weekend pełen zabawy\, rywalizacji i spotkań przy planszy w różnych zakątkach miasta.  \nHarmonogram:\n \nPiątek\, 10.10 – Książnica Stargardzka\nW ramach Nocy w Bibliotece zapraszamy na wieczorne granie w gry planszowe.\n18:00 – 22:00 \nSobota\, 11.10 – Muzeum Archeologiczno – Historyczne (Basteja)\nHistoryczne mury Bastei wypełnią się planszówkami i dobrym humorem.\n18:00 – 22:00 \nSobota\, 11.10 – Stargardzkie Centrum Nauki Filary\nFilarowa przestrzeń zamieni się w wielką planszową arenę – dla rodzin\, przyjaciół i wszystkich fanów gier. Bilety w cenie 1 zł.\n12:00 – 18:00 \n– Wybierz swoją lokalizację albo odwiedź wszystkie! – zachęcają organizatorzy. – Spędź Dzień Gier Planszowych razem z nami!
URL:https://infostargard.pl/event/stargardzki-dzien-gier-planszowych-2025/
LOCATION:Książnica Stargardzka\, Basteja\, Stargardzkie Centrum Nauki Filary
END:VEVENT
END:VCALENDAR