BEGIN:VCALENDAR
VERSION:2.0
PRODID:-//Info Stargard - ECPv6.15.20//NONSGML v1.0//EN
CALSCALE:GREGORIAN
METHOD:PUBLISH
X-ORIGINAL-URL:https://infostargard.pl
X-WR-CALDESC:Wydarzenia dla Info Stargard
REFRESH-INTERVAL;VALUE=DURATION:PT1H
X-Robots-Tag:noindex
X-PUBLISHED-TTL:PT1H
BEGIN:VTIMEZONE
TZID:Europe/Helsinki
BEGIN:DAYLIGHT
TZOFFSETFROM:+0200
TZOFFSETTO:+0300
TZNAME:EEST
DTSTART:20240331T010000
END:DAYLIGHT
BEGIN:STANDARD
TZOFFSETFROM:+0300
TZOFFSETTO:+0200
TZNAME:EET
DTSTART:20241027T010000
END:STANDARD
BEGIN:DAYLIGHT
TZOFFSETFROM:+0200
TZOFFSETTO:+0300
TZNAME:EEST
DTSTART:20250330T010000
END:DAYLIGHT
BEGIN:STANDARD
TZOFFSETFROM:+0300
TZOFFSETTO:+0200
TZNAME:EET
DTSTART:20251026T010000
END:STANDARD
BEGIN:DAYLIGHT
TZOFFSETFROM:+0200
TZOFFSETTO:+0300
TZNAME:EEST
DTSTART:20260329T010000
END:DAYLIGHT
BEGIN:STANDARD
TZOFFSETFROM:+0300
TZOFFSETTO:+0200
TZNAME:EET
DTSTART:20261025T010000
END:STANDARD
END:VTIMEZONE
BEGIN:VEVENT
DTSTART;TZID=Europe/Helsinki:20251006T100000
DTEND;TZID=Europe/Helsinki:20251006T140000
DTSTAMP:20260420T055621
CREATED:20250925T091200Z
LAST-MODIFIED:20250925T091200Z
UID:24081-1759744800-1759759200@infostargard.pl
SUMMARY:Konferencja "Kultura 60+. Biblioteki otwarte na potrzeby seniorów"
DESCRIPTION:Książnica Stargardzka zaprasza na konferencję podsumowującą cykl szkoleń dla bibliotekarzy o tematyce senioralnej\, które odbyły się w ostatnich miesiącach.  \nSpotkanie odbędzie się w poniedziałek\, 6 października w godz. 10-14\, w Pracowni Kreatywności. \nKonferencja skierowana jest głównie do bibliotekarzy\, ale organizatorzy zapraszają wszystkich zainteresowanych tematyką senioralną\, w tym samych seniorów. \n– Prosimy o potwierdzenie udziału do 30 września 2025 r\, na email: metodyczny@ksiaznicastargardzka.pl – informują organizatorzy. – Do zobaczenia!
URL:https://infostargard.pl/event/konferencja-kultura-60-biblioteki-otwarte-na-potrzeby-seniorow/
LOCATION:Książnica Stargardzka – Pracownia Kreatywności (wejście od ul. Pocztowej)
END:VEVENT
BEGIN:VEVENT
DTSTART;TZID=Europe/Helsinki:20251006T160000
DTEND;TZID=Europe/Helsinki:20251006T160000
DTSTAMP:20260420T055621
CREATED:20250926T124440Z
LAST-MODIFIED:20250926T124440Z
UID:24213-1759766400-1759766400@infostargard.pl
SUMMARY:Warsztaty w Tychowie
DESCRIPTION:
URL:https://infostargard.pl/event/warsztaty-w-tychowie/
LOCATION:świetlica w Tychowie
END:VEVENT
BEGIN:VEVENT
DTSTART;TZID=Europe/Helsinki:20251006T170000
DTEND;TZID=Europe/Helsinki:20251006T170000
DTSTAMP:20260420T055621
CREATED:20250925T113250Z
LAST-MODIFIED:20251002T070646Z
UID:24125-1759770000-1759770000@infostargard.pl
SUMMARY:Jubileusz 60-lecia Państwowej Szkoły Muzycznej
DESCRIPTION:Państwowa Szkoła Muzyczna I i II st. im. Witolda Lutosławskiego w Stargardzie zaprasza na obchody Jubileuszu 60-lecia\, które potrwają przez cały tydzień od 6 do 11 października 2025 r. \nHarmonogram: \n6 października 2025 poniedziałek – Koncert uczniów godz.17.00 / Sala koncertowa PSM I i II st. w Stargardzie \n7 października 2025 wtorek – Koncert pedagogów godz.17.00 / Sala koncertowa PSM I i II st. w Stargardzie \n9 października 2025  – czwartek – Koncert galowy godz.17.00 / Sala SCK \n11 października 2025 sobota – Koncert absolwentów godz.17.00 / Sala koncertowa PSM I i II st. w Stargardzie \n11 października 2025 sobota – Bal absolwentów godz.19.00 / Restauracja Ratuszowa w Stargardzie. \nNa wszystkie koncerty wstęp jest wolny. \nWięcej informacji na stronie: www.gov.pl/web/psmstargard.
URL:https://infostargard.pl/event/jubileusz-60-lecia-panstwowej-szkoly-muzycznej/
LOCATION:Sala koncertowa PSM im. prof. Marka Jasińskiego
END:VEVENT
END:VCALENDAR