BEGIN:VCALENDAR
VERSION:2.0
PRODID:-//Info Stargard - ECPv6.15.20//NONSGML v1.0//EN
CALSCALE:GREGORIAN
METHOD:PUBLISH
X-ORIGINAL-URL:https://infostargard.pl
X-WR-CALDESC:Wydarzenia dla Info Stargard
REFRESH-INTERVAL;VALUE=DURATION:PT1H
X-Robots-Tag:noindex
X-PUBLISHED-TTL:PT1H
BEGIN:VTIMEZONE
TZID:Europe/Helsinki
BEGIN:DAYLIGHT
TZOFFSETFROM:+0200
TZOFFSETTO:+0300
TZNAME:EEST
DTSTART:20240331T010000
END:DAYLIGHT
BEGIN:STANDARD
TZOFFSETFROM:+0300
TZOFFSETTO:+0200
TZNAME:EET
DTSTART:20241027T010000
END:STANDARD
BEGIN:DAYLIGHT
TZOFFSETFROM:+0200
TZOFFSETTO:+0300
TZNAME:EEST
DTSTART:20250330T010000
END:DAYLIGHT
BEGIN:STANDARD
TZOFFSETFROM:+0300
TZOFFSETTO:+0200
TZNAME:EET
DTSTART:20251026T010000
END:STANDARD
BEGIN:DAYLIGHT
TZOFFSETFROM:+0200
TZOFFSETTO:+0300
TZNAME:EEST
DTSTART:20260329T010000
END:DAYLIGHT
BEGIN:STANDARD
TZOFFSETFROM:+0300
TZOFFSETTO:+0200
TZNAME:EET
DTSTART:20261025T010000
END:STANDARD
END:VTIMEZONE
BEGIN:VEVENT
DTSTART;TZID=Europe/Helsinki:20251003T120000
DTEND;TZID=Europe/Helsinki:20251003T120000
DTSTAMP:20260420T055618
CREATED:20250922T102145Z
LAST-MODIFIED:20250925T075329Z
UID:23783-1759492800-1759492800@infostargard.pl
SUMMARY:80-lecie I LO w Stargardzie
DESCRIPTION:I Liceum Ogólnokształcące im. Adama Mickiewicza w Stargardzie zaprasza na uroczystość z okazji 80-lecia szkoły. \nWydarzenie odbędzie się w piątek\, 3 października o godz. 12. \nObchody rozpoczną się uroczystym apelem a następnie zaplanowano zwiedzanie wystawy poświęconej historii szkoły oraz „Spotkania po latach”. O godz. 17 rozpocznie się koncert absolwentów w którym wystąpią Daniel Ziomko (fortepian)\, Artur Słowik z zespołem\, Mariusz Zarzeczny z zespołem\, a także zespół NIKT oraz zespół DICE.
URL:https://infostargard.pl/event/80-lecie-i-lo-w-stargardzie/
LOCATION:I LO
END:VEVENT
BEGIN:VEVENT
DTSTART;TZID=Europe/Helsinki:20251003T130000
DTEND;TZID=Europe/Helsinki:20251003T130000
DTSTAMP:20260420T055618
CREATED:20251002T075146Z
LAST-MODIFIED:20251002T075152Z
UID:24756-1759496400-1759496400@infostargard.pl
SUMMARY:Warsztaty "Grzyby znane i mniej znane - jak je rozpoznawać i które zbierać?"
DESCRIPTION:Świętojański Klub Seniora zaprasza seniorów w piątek\, 3 października od godz. 13 na warsztaty prowadzone przez przedstawicieli sanepidu pod hasłem: „Grzyby znane i mniej znane – jak je rozpoznawać i które zbierać?”. \nSpotkanie to będzie przygotowaniem do wyjazdowego grzybobrania planowanego na wtorek\, 7 października.
URL:https://infostargard.pl/event/warsztaty-grzyby-znane-i-mniej-znane-jak-je-rozpoznawac-i-ktore-zbierac/
LOCATION:ul. Jana Chrzciciela 1
END:VEVENT
BEGIN:VEVENT
DTSTART;TZID=Europe/Helsinki:20251003T170000
DTEND;TZID=Europe/Helsinki:20251003T170000
DTSTAMP:20260420T055618
CREATED:20250929T104949Z
LAST-MODIFIED:20251002T115210Z
UID:24478-1759510800-1759510800@infostargard.pl
SUMMARY: IV Dzień z Kulturą Ukraińską w Stargardzie
DESCRIPTION:3 października o godz.17 w Domu Kultury Kolejarza odbędzie się czwarta edycja wydarzenia mającego na celu przybliżenie mieszkańcom Stargardu tradycji i kultury ukraińskiej. \nNa scenie DKK wystąpi koszaliński Chór „Majsternia Pisni” pod dyrygenturą pani Wiktorii Fedotowej.\nChór ℳ𝒶𝒿𝓈𝓉ℯ𝓇𝓃𝒾𝒶 𝓅𝒾𝓈𝓃𝒾 powstał na początku 2020 r. Tworzą go osoby narodowości ukraińskiej zarówno potomkowie rodzin wysiedlonych w ramach „Akcji Wisła” jak również osoby\, które przyjechały do Koszalina w ostatnich latach.\nM𝒶𝒿𝓈𝓉ℯ𝓇𝓃𝒾𝒶 𝓅𝒾𝓈𝓃𝒾i to chór amatorski\, któremu bliskie są tradycje i kultura ukraińska. W repertuarze zespołu odnaleźć można głównie pieśni ludowe w oryginalnych jak również we współczesnych aranżacjach\, kolędy i pastorałki oraz muzyczne opracowania twórczości wybitnego wieszcza narodowego Tarasa Szczewczenki.\nChór ℳ𝒶𝒿𝓈𝓉ℯ𝓇𝓃𝒾𝒶 𝓅𝒾𝓈𝓃𝒾 to ludzie o różnych charakterach\, wykształceniu czy wieku\, ale przede wszystkim to ludzie\, którym nie brakuje chęci i pasji do tego by wspólnie działać dla dobra i promocji ukraińskiej kultury w Polsce. Mimo\, iż chór jest amatorski to w jego szeregach nie brakuje osób z muzycznym wykształceniem. Jedną z nich jest dyrygentka Viktoria Fedotova. Viktoria pochodzi z Ukrainy\, tam też uczęszczała do szkół i zdobywała muzyczne doświadczenie. Wykształcenie wyższe uzyskała w Winnickiej Szkole Kultury i Sztuki im. Leontovycha\, na kierunku – dyrygent i artysta chóralny. \nPrzed publicznością zaprezentuje się również Dziecięcy Zespół Taneczny „Namysto” ze Stargardu pod kierownictwem pani Iryny Łukianowej. Młode tancerki i tancerze znalazły w naszym mieście schronienie po agresji rosyjskiej na Ukrainę. Pani Iryna jest zawodową choreografką oraz zaangażowaną animatorką kultury\, organizatorką wydarzeń związanych ze sztuką. W ramach IV Dnia z Kulturą Ukraińską będzie można zobaczyć wystawę dawnych ubiorów ludowych ozdobionych tradycyjnym haftem krzyżykowym. Niektóre z nich mają ponad 100 lat! W większość z prezentowanych eksponatów to kolekcja podarowana naszemu Kołu ZUwP przez pana Jana Syrnyka ze Szczecina.\nTak samo jak w poprzednich edycjach Dnia z Kulturą Ukraińską\, zapraszamy do kupna oryginalnych potraw kuchni ukraińskiej oraz udziału w loterii dobroczynnej.\nInformujemy\, że wszystkie środki uzyskane ze sprzedaży zostaną przekazane Stargardzkiemu Komitetowi Pomocy Ukrainie  na rzecz wsparcia Sił Obrony Ukrainy oraz cywilnych ofiar rosyjskiej agresji w Ukrainie.\nWstęp wolny. \nWspółorganizatorem jest Greckokatolicka Parafia P.W. Św. Męczennika Jozafata Kuncewicza. Wydarzenie jest współfinansowane ze środków Miasta Stargard w ramach zadania „Ukraińska Kultura w Stargardzie '2025”. \n \n 
URL:https://infostargard.pl/event/iv-dzien-z-kultura-ukrainska-w-stargardzie/
LOCATION:Dom Kultury Kolejarza
END:VEVENT
BEGIN:VEVENT
DTSTART;TZID=Europe/Helsinki:20251003T180000
DTEND;TZID=Europe/Helsinki:20251003T180000
DTSTAMP:20260420T055618
CREATED:20250925T092710Z
LAST-MODIFIED:20250925T092803Z
UID:24086-1759514400-1759514400@infostargard.pl
SUMMARY:Wernisaż MDK
DESCRIPTION:Młodzieżowy Dom Kultury zaprasza na wernisaż pt. „Martwa natura”.  \nWydarzenie odbędzie się w piątek\, 3 października o godz. 18 pod kierunkiem Jonatana E. Jurkowskiego.
URL:https://infostargard.pl/event/wernisaz-mdk/
LOCATION:Mlodzieżowy Dom Kultury\, ul. Portowa 3
END:VEVENT
END:VCALENDAR