BEGIN:VCALENDAR
VERSION:2.0
PRODID:-//Info Stargard - ECPv6.15.20//NONSGML v1.0//EN
CALSCALE:GREGORIAN
METHOD:PUBLISH
X-WR-CALNAME:Info Stargard
X-ORIGINAL-URL:https://infostargard.pl
X-WR-CALDESC:Wydarzenia dla Info Stargard
REFRESH-INTERVAL;VALUE=DURATION:PT1H
X-Robots-Tag:noindex
X-PUBLISHED-TTL:PT1H
BEGIN:VTIMEZONE
TZID:Europe/Helsinki
BEGIN:DAYLIGHT
TZOFFSETFROM:+0200
TZOFFSETTO:+0300
TZNAME:EEST
DTSTART:20240331T010000
END:DAYLIGHT
BEGIN:STANDARD
TZOFFSETFROM:+0300
TZOFFSETTO:+0200
TZNAME:EET
DTSTART:20241027T010000
END:STANDARD
BEGIN:DAYLIGHT
TZOFFSETFROM:+0200
TZOFFSETTO:+0300
TZNAME:EEST
DTSTART:20250330T010000
END:DAYLIGHT
BEGIN:STANDARD
TZOFFSETFROM:+0300
TZOFFSETTO:+0200
TZNAME:EET
DTSTART:20251026T010000
END:STANDARD
BEGIN:DAYLIGHT
TZOFFSETFROM:+0200
TZOFFSETTO:+0300
TZNAME:EEST
DTSTART:20260329T010000
END:DAYLIGHT
BEGIN:STANDARD
TZOFFSETFROM:+0300
TZOFFSETTO:+0200
TZNAME:EET
DTSTART:20261025T010000
END:STANDARD
END:VTIMEZONE
BEGIN:VEVENT
DTSTART;TZID=Europe/Helsinki:20251001T080000
DTEND;TZID=Europe/Helsinki:20251001T170000
DTSTAMP:20260420T055558
CREATED:20250922T104207Z
LAST-MODIFIED:20250922T104217Z
UID:23800-1759305600-1759338000@infostargard.pl
SUMMARY:Podsumowanie współzawodnictwa sportowego szkół
DESCRIPTION:
URL:https://infostargard.pl/event/podsumowanie-wspolzawodnictwa-sportowego-szkol/
LOCATION:Loft Amfiteatru
END:VEVENT
BEGIN:VEVENT
DTSTART;TZID=Europe/Helsinki:20251001T173000
DTEND;TZID=Europe/Helsinki:20251001T173000
DTSTAMP:20260420T055558
CREATED:20250904T110150Z
LAST-MODIFIED:20250904T110303Z
UID:21923-1759339800-1759339800@infostargard.pl
SUMMARY:Koncert: Wieczorem w Paryżu
DESCRIPTION:Stargardzkie Centrum Kultury zaprasza na muzyczny spektakl pn. „Wieczorem w Paryżu”.  \nKoncert odbędzie się w środę\, 1 października o godz. 17:30 i 20\, na Dużej Scenie SCK. Bilety w cenie 140 zł do 170 zł. \nInformacja SCK: \n\n\nKoncert\, który zabierze Cię w sam środek paryskiej nocy\, tej najprawdziwszej\, z legend kabaretów\, tajemnic ulic i namiętności. \nWejdź do świata Moulin Rouge\nNa scenie pojawia się ona: Nini Legs-in-the-Air – legendarna kurtyzana\, dawna gwiazda Moulin Rouge\, która nigdy nie pozwoliła\, aby blask jej sławy przygasł. Siedzi przy toaletce w peniuarze\, z papierosem w dłoni\, otoczona bibelotami\, piórami i kurzem minionych dni. Czy jej czas przeminął? Może. Ale dla Nini ten wieczór to okazja\, by jeszcze raz wywołać dawne czasy\, kiedy paryskie noce były dłuższe\, a historie pełne obietnic. Z ironicznym uśmiechem rzuca wyzywające spojrzenia ku widowni\, zapraszając na wieczór w Paryżu\, jaki znasz tylko z filmów i opowieści. \nMuzyka nocnych ulic Paryża\nTa opowieść to nie tylko wspomnienia – to także muzyka\, która pulsuje rytmem francuskich nocy. Usłyszymy „Milord”\, który prowadzi pełen pasji dialog z paryską ulicą\, wyraziste „Non\, je ne regrette rien” Édith Piaf\, słodko-gorzkie „La vie en rose” oraz zmysłowe „Tango de Roxanne”. W każdym z tych utworów tętni życie\, namiętność i odrobina melancholii – jakbyśmy sami błądzili po bulwarach i zaułkach Montmartre. \nParyskie sny i niespełnione tęsknoty\nWieczór rozwija się jak najlepszy spektakl. Z każdym kolejnym utworem Nini staje się bardziej pewna siebie\, jak dawna gwiazda\, która w brawurowym „Lady Marmalade”\, staje na środku sceny – triumfująca i pełna blasku. Obok niej wokaliści i tancerze\, a wokół pieśni o niespełnionej miłości\, o żarze\, który nigdy się nie kończy\, i o życiu\, którego się nie żałuje. \nWieczorem w Paryżu\nTo spotkanie z Paryżem pełnym magii\, namiętności i wiecznie żywych historii. Zanurz się w świecie\, gdzie puls miasta budzi się po zmroku\, a każda nuta przesiąka pragnieniami sprzed lat. \nZnakomici artyści\nGłosami paryskiej nocy są wspaniali artyści. Magdalena Smuk – aktorka\, której talent ożywi postać Nini – wraz z wybitnymi solistami i parą utalentowanych tancerzy przeniesie publiczność do świata kabaretów i klasycznych francuskich melodii.
URL:https://infostargard.pl/event/koncert-wieczorem-w-paryzu/
LOCATION:Duża Scena SCK
END:VEVENT
END:VCALENDAR