BEGIN:VCALENDAR
VERSION:2.0
PRODID:-//Info Stargard - ECPv6.15.20//NONSGML v1.0//EN
CALSCALE:GREGORIAN
METHOD:PUBLISH
X-ORIGINAL-URL:https://infostargard.pl
X-WR-CALDESC:Wydarzenia dla Info Stargard
REFRESH-INTERVAL;VALUE=DURATION:PT1H
X-Robots-Tag:noindex
X-PUBLISHED-TTL:PT1H
BEGIN:VTIMEZONE
TZID:Europe/Helsinki
BEGIN:DAYLIGHT
TZOFFSETFROM:+0200
TZOFFSETTO:+0300
TZNAME:EEST
DTSTART:20240331T010000
END:DAYLIGHT
BEGIN:STANDARD
TZOFFSETFROM:+0300
TZOFFSETTO:+0200
TZNAME:EET
DTSTART:20241027T010000
END:STANDARD
BEGIN:DAYLIGHT
TZOFFSETFROM:+0200
TZOFFSETTO:+0300
TZNAME:EEST
DTSTART:20250330T010000
END:DAYLIGHT
BEGIN:STANDARD
TZOFFSETFROM:+0300
TZOFFSETTO:+0200
TZNAME:EET
DTSTART:20251026T010000
END:STANDARD
BEGIN:DAYLIGHT
TZOFFSETFROM:+0200
TZOFFSETTO:+0300
TZNAME:EEST
DTSTART:20260329T010000
END:DAYLIGHT
BEGIN:STANDARD
TZOFFSETFROM:+0300
TZOFFSETTO:+0200
TZNAME:EET
DTSTART:20261025T010000
END:STANDARD
END:VTIMEZONE
BEGIN:VEVENT
DTSTART;TZID=Europe/Helsinki:20250922T100000
DTEND;TZID=Europe/Helsinki:20250927T180000
DTSTAMP:20260420T072049
CREATED:20250911T055217Z
LAST-MODIFIED:20250916T055657Z
UID:22620-1758535200-1758996000@infostargard.pl
SUMMARY:Plener malarski w Tychowie
DESCRIPTION:Gmina Stargard i Stargardzkie Centrum Kultury zapraszają młodzież i dorosłych do udziału w plenerze malarskim\, który rozpocznie się 22 września.  \nPlener potrwa do 27 września. Zapisy pod nr tel. 509 157 464 u Piotra Kosmala z SCK. Plener będzie się odbywał w świetlicy wiejskiej w Tychowie oraz w jej otoczeniu. Wernisaż wystawy 27 września o godz. 18. \n 
URL:https://infostargard.pl/event/plener-malarski-w-tychowie/
LOCATION:świetlica w Tychowie
END:VEVENT
BEGIN:VEVENT
DTSTART;TZID=Europe/Helsinki:20250924T084500
DTEND;TZID=Europe/Helsinki:20250924T090000
DTSTAMP:20260420T072049
CREATED:20250923T063028Z
LAST-MODIFIED:20250923T063028Z
UID:23814-1758703500-1758704400@infostargard.pl
SUMMARY:Dobrzańskie inspiracje w starostwie
DESCRIPTION:24 sierpnia w holu starostwa zostanie otwarta wystawa „Dobrzańskie inspiracje”. Początek godz. 8.45.  \nW połowie sierpnia odbył się jubileuszowy plener malarski „Dobrzańskie Inspiracje” organizowany przez Klub Pracy Twórczej w Dobrzanach. Przez sześć dni uczestnicy stworzyli wyjątkowe dzieła\, które przez najbliższy miesiąc będzie można oglądać w Galerii Jerzego Wąsiewicza w holu Starostwa Powiatowego w Stargardzie.
URL:https://infostargard.pl/event/dobrzanskie-inspiracje-w-starostwie/
LOCATION:hol Starostwa Powiatowego w Stargardzie
END:VEVENT
BEGIN:VEVENT
DTSTART;TZID=Europe/Helsinki:20250924T170000
DTEND;TZID=Europe/Helsinki:20250924T170000
DTSTAMP:20260420T072049
CREATED:20250911T055348Z
LAST-MODIFIED:20250911T055348Z
UID:22625-1758733200-1758733200@infostargard.pl
SUMMARY:Wernisaż Wystawy Zenona Ozgi
DESCRIPTION:
URL:https://infostargard.pl/event/wernisaz-wystawy-zenona-ozgi-2/
LOCATION:CKiR przy ul. Jeziornej w Kobylance
END:VEVENT
BEGIN:VEVENT
DTSTART;TZID=Europe/Helsinki:20250924T170000
DTEND;TZID=Europe/Helsinki:20250924T170000
DTSTAMP:20260420T072049
CREATED:20250923T061819Z
LAST-MODIFIED:20250923T065157Z
UID:23811-1758733200-1758733200@infostargard.pl
SUMMARY:𝗞𝗿ó𝗹\, 𝗱𝗮𝗺𝗮\, 𝘄𝗮𝗹𝗲𝘁. 𝗛𝗶𝘀𝘁𝗼𝗿𝗶𝗮 𝗸𝗮𝗿𝘁 𝗱𝗼 𝗴𝗿𝘆 – wykład Dariusza Machałka w Książnicy Stargardzkiej.
DESCRIPTION:Już w 𝘀́𝗿𝗼𝗱𝗲̨\, 𝟮𝟰 𝘄𝗿𝘇𝗲𝘀́𝗻𝗶𝗮 o godz. 𝟭𝟳:𝟬𝟬\, w 𝗣𝗿𝗮𝗰𝗼𝘄𝗻𝗶 𝗞𝗿𝗲𝗮𝘁𝘆𝘄𝗻𝗼𝘀́𝗰𝗶 𝗞𝘀𝗶𝗮̨𝘇̇𝗻𝗶𝗰𝘆 𝗦𝘁𝗮𝗿𝗴𝗮𝗿𝗱𝘇𝗸𝗶𝗲𝗷 (ul. Mieszka I 1) odbędzie się wyjątkowe spotkanie dla miłośników historii\, kultury oraz gier towarzyskich. \n\nJak co roku\, Książnica Stargardzka uczestniczy w obchodach Europejskich Dni Dziedzictwa. Tegoroczne hasło EDD brzmi „W stronę architektury. Młode dziedzictwo”.\n\nW ramach obchodów zaprasza na wykład pt. „𝗞𝗿ó𝗹\, 𝗱𝗮𝗺𝗮\, 𝘄𝗮𝗹𝗲𝘁. 𝗛𝗶𝘀𝘁𝗼𝗿𝗶𝗮 𝗸𝗮𝗿𝘁 𝗱𝗼 𝗴𝗿𝘆”\, który poprowadzi 𝗗𝗮𝗿𝗶𝘂𝘀𝘇 𝗠𝗮𝗰𝗵𝗮ł𝗲𝗸 – kolekcjoner i pasjonat\, posiadający imponujący zbiór ponad 𝗱𝘄ó𝗰𝗵 𝘁𝘆𝘀𝗶𝗲̨𝗰𝘆 𝘁𝗮𝗹𝗶𝗶 𝗸𝗮𝗿𝘁. Choć karty do gry towarzyszą ludziom od wieków i są powszechnie znane\, ich historia może zaskoczyć niejednego słuchacza. Podczas spotkania będzie można usłyszeć o mniej oczywistych aspektach związanych z kartami – ich przeszłością\, znaczeniem kulturowym czy ciekawostkami\, które przez wieki narosły wokół tych niepozornych przedmiotów.\n\n𝗗𝗮𝗿𝗶𝘂𝘀𝘇 𝗠𝗮𝗰𝗵𝗮ł𝗲𝗸\, kolekcjoner i miłośnik kart\, podzieli się swoją pasją i opowieściami związanymi z tworzoną przez lata kolekcją. Wśród nich znajdują się egzemplarze wyjątkowe\, które uczestnicy będą mogli zobaczyć na żywo.\nTo wydarzenie to niepowtarzalna okazja\, by spojrzeć na popularne karty z zupełnie innej perspektywy – jako na przedmiot o bogatej tradycji\, historii i wartości kolekcjonerskiej.\n\nPonadto od 9 do 30 września w Czytelni Głównej będzie można obejrzeć wystawę pt. „Aplikacja na papierze. Dokumenty życia społecznego prezentujące walory turystyczne Pomorza Zachodniego”.\n\nInf. organizatora
URL:https://infostargard.pl/event/%f0%9d%97%9e%f0%9d%97%bfo%f0%9d%97%b9-%f0%9d%97%b1%f0%9d%97%ae%f0%9d%97%ba%f0%9d%97%ae-%f0%9d%98%84%f0%9d%97%ae%f0%9d%97%b9%f0%9d%97%b2%f0%9d%98%81-%f0%9d%97%9b%f0%9d%97%b6%f0%9d%98%80%f0%9d%98%81/
LOCATION:Pracownia Kreatywności
END:VEVENT
END:VCALENDAR