BEGIN:VCALENDAR
VERSION:2.0
PRODID:-//Info Stargard - ECPv6.15.20//NONSGML v1.0//EN
CALSCALE:GREGORIAN
METHOD:PUBLISH
X-WR-CALNAME:Info Stargard
X-ORIGINAL-URL:https://infostargard.pl
X-WR-CALDESC:Wydarzenia dla Info Stargard
REFRESH-INTERVAL;VALUE=DURATION:PT1H
X-Robots-Tag:noindex
X-PUBLISHED-TTL:PT1H
BEGIN:VTIMEZONE
TZID:Europe/Helsinki
BEGIN:DAYLIGHT
TZOFFSETFROM:+0200
TZOFFSETTO:+0300
TZNAME:EEST
DTSTART:20240331T010000
END:DAYLIGHT
BEGIN:STANDARD
TZOFFSETFROM:+0300
TZOFFSETTO:+0200
TZNAME:EET
DTSTART:20241027T010000
END:STANDARD
BEGIN:DAYLIGHT
TZOFFSETFROM:+0200
TZOFFSETTO:+0300
TZNAME:EEST
DTSTART:20250330T010000
END:DAYLIGHT
BEGIN:STANDARD
TZOFFSETFROM:+0300
TZOFFSETTO:+0200
TZNAME:EET
DTSTART:20251026T010000
END:STANDARD
BEGIN:DAYLIGHT
TZOFFSETFROM:+0200
TZOFFSETTO:+0300
TZNAME:EEST
DTSTART:20260329T010000
END:DAYLIGHT
BEGIN:STANDARD
TZOFFSETFROM:+0300
TZOFFSETTO:+0200
TZNAME:EET
DTSTART:20261025T010000
END:STANDARD
END:VTIMEZONE
BEGIN:VEVENT
DTSTART;TZID=Europe/Helsinki:20250919T193000
DTEND;TZID=Europe/Helsinki:20250921T193000
DTSTAMP:20260420T071616
CREATED:20250911T053552Z
LAST-MODIFIED:20250917T065051Z
UID:22600-1758310200-1758483000@infostargard.pl
SUMMARY:Soni Spatium - festiwal im. Marka Jasińskiego
DESCRIPTION:19-21 września odbędzie się w Stargardzie piąta edycja Międzynarodowego Festiwalu im. prof. Marka Jasińskiego SONI SPATIUM. \n– Pragniemy zaprosić Państwa do świętowania z nami pierwszego małego jubileuszu festiwalu poświęconego muzyce prof. Marka Jasińskiego – zapraszają organizatorzy. – Od pierwszej edycji SONI SPATIUM odbywa się w miejscu\, w którym muzyka brzmi wyjątkowo pięknie\, zwłaszcza chóralna. Pierwsze trzy edycje odbyły się w stargardzkiej Kolegiacie jeszcze wśród rusztowań podczas remontu. Ubiegłoroczna edycja już w pełnej krasie przepięknego wnętrza kolegiaty mariackiej. \nOrganizatorem Soni Spatium jest Fundacja Camerata Stargard. Pierwszym akcentem wydarzeń\, które odbędą się w ten weekend\, było otwarcie 15 września wystawy fotograficznej w parku Chrobrego\, poświęconej festiwalowi. Jednym z autorów prezentowanych tam zdjęć jest Roman Budzowski. \n– Dobierając zdjęcia do wystawy starałem się pokazać nie tylko wykonawców\, ale też stworzyć opowieść o festiwalu – komentuje Roman Budzowski. – Bo festiwal to nie tylko trzy dni koncertowe\, to również próby\, spotkania\, wykłady czy koncerty poza Stargardem.  \nUczczono też tego dnia pamięć Grzegorza Konopczyńskiego\, muzyka\, wieloletniego dyrektora stargardzkiej szkoły muzycznej\, twórcy Orkiestry Camerata Stargard\, pomysłodawcy festiwalu SONI SPATIUM oraz Marka Jasińskiego\, wybitnego kompozytora\, głównie muzyki sakralnej\, nauczyciela stargardzkiej szkoły muzycznej. Na ich grobach złożono kwiaty i zapalono znicze. \nNiżej program koncertów w ramach Soni Spatium. Wstęp jest darmowy.
URL:https://infostargard.pl/event/soni-spatium-festiwal-im-marka-jasinskiego/
LOCATION:Kolegiata NMP KŚ
END:VEVENT
BEGIN:VEVENT
DTSTART;TZID=Europe/Helsinki:20250920T000000
DTEND;TZID=Europe/Helsinki:20250921T000000
DTSTAMP:20260420T071616
CREATED:20250808T061117Z
LAST-MODIFIED:20250908T122647Z
UID:19514-1758326400-1758412800@infostargard.pl
SUMMARY:XXIII Jarmark Wsi Zachodniopomorskiej Złota Dynia
DESCRIPTION:
URL:https://infostargard.pl/event/xxiii-jarmark-wsi-zachodniopomorskiej-zlota-dynia/
LOCATION:Promenada nad j. Miedwie
END:VEVENT
BEGIN:VEVENT
DTSTART;TZID=Europe/Helsinki:20250920T080000
DTEND;TZID=Europe/Helsinki:20250920T080000
DTSTAMP:20260420T071616
CREATED:20250917T103845Z
LAST-MODIFIED:20250917T103915Z
UID:23222-1758355200-1758355200@infostargard.pl
SUMMARY:15. Regaty o Złotą Dynię
DESCRIPTION:20 września br. nad jeziorem Miedwie odbędą się 15. Regaty o Złotą Dynię.  \nProgram: \n8:00 – 8:30 – zgłoszenia do regat\n10:15 – uroczyste otwarcie regat\, odprawa załóg\n11:00 – start do pierwszego wyścigu\nok. 16:00 – uroczyste zakończenie regat\, wręczenie nagród. \nRegaty rozgrywane będą w kategoriach: \n\nklasa optimist do 10 lat – rocznik 2015 i młodsi\nklasa optimist 11-14 lat rocznik 2014 – 2011\nklasa optimist szkółka osobna trasa\nnajmłodszy żeglarz\nnajmłodsza żeglarka\nbieg memoriałowy im. Marcina Tura.
URL:https://infostargard.pl/event/15-regaty-o-zlota-dynie/
LOCATION:Ośrodek Wodny MDK w Morzyczynie
END:VEVENT
BEGIN:VEVENT
DTSTART;TZID=Europe/Helsinki:20250920T103000
DTEND;TZID=Europe/Helsinki:20250920T150000
DTSTAMP:20260420T071616
CREATED:20250909T055023Z
LAST-MODIFIED:20250915T120459Z
UID:22541-1758364200-1758380400@infostargard.pl
SUMMARY:Festyn ekologiczny na Bobrowej Polanie
DESCRIPTION:Stowarzyszenie Stargard na Rowery zaprasza na Festyn Ekologiczny na Bobrowej Polanie.\n\nStowarzyszenie oficjalnie przejęło od Stargardzkiego Porozumienia Rowerowego organizację Rowerowej Masy Krytycznej. Nie zmienia się data wydarzenia – przełom końca lata i początku jesieni. Widzimy się już w najbliższą sobotę\, 20 września.\n\n\n Miejsce zbiórki: Rynek Staromiejski\n Zbiórka: 10:30\n Start przejazdu: 11:00\n Meta: Bobrowa Polana\n\n\n Na uczestników czeka Piknik Ekologiczny\, podczas którego organizatorzy szykują mnóstwo atrakcji (szczegóły na plakacie).\n\n\nPrzyjedźcie całymi rodzinami\, ze znajomymi i pokażmy\, że Stargard jest miastem przyjaznym rowerzystom.\nInf. organizatora\n\n 
URL:https://infostargard.pl/event/festyn-ekologiczny-na-bobrowej-polanie/
LOCATION:Bobrowa Polana
END:VEVENT
BEGIN:VEVENT
DTSTART;TZID=Europe/Helsinki:20250920T110000
DTEND;TZID=Europe/Helsinki:20250921T110000
DTSTAMP:20260420T071616
CREATED:20250912T071934Z
LAST-MODIFIED:20250912T072604Z
UID:22738-1758366000-1758452400@infostargard.pl
SUMMARY:VI Ogólnopolskie Mistrzostwa Stargardu w Scrabble
DESCRIPTION:20 i 21 września\, w FILARACH odbędą się VI Ogólnopolskie Mistrzostwa Stargardu w Scrabble\, organizowane przez Klub Blank.  \nFormularz zgłoszeniowy można wypełnić na stronie organizatora: https://www.pfs.org.pl/turniej.php?id=1388#info\, a zwycięzcy zostaną uhonorowani pucharami\, otrzymają również nagrody pieniężne i rzeczowe.
URL:https://infostargard.pl/event/vi-ogolnopolskie-mistrzostwa-stargardu-w-scrabble/
LOCATION:SCN Filary
END:VEVENT
BEGIN:VEVENT
DTSTART;TZID=Europe/Helsinki:20250920T120000
DTEND;TZID=Europe/Helsinki:20250920T120000
DTSTAMP:20260420T071616
CREATED:20250911T054834Z
LAST-MODIFIED:20250912T072540Z
UID:22612-1758369600-1758369600@infostargard.pl
SUMMARY:Dożynki gminne w Marianowie
DESCRIPTION:
URL:https://infostargard.pl/event/dozynki-gminne-w-marianowie-2/
LOCATION:plaża w Marianowie
END:VEVENT
BEGIN:VEVENT
DTSTART;TZID=Europe/Helsinki:20250920T120000
DTEND;TZID=Europe/Helsinki:20250920T120000
DTSTAMP:20260420T071616
CREATED:20250915T054208Z
LAST-MODIFIED:20250915T060329Z
UID:22918-1758369600-1758369600@infostargard.pl
SUMMARY:II Stargardzki Charytatywny Wyścig Kaczek
DESCRIPTION:II Stargardzki Charytatywny Wyścig Kaczek odbędzie się 20 września. \n\n\n\nTo będzie dzień\, w którym setki żółtych plastikowych kaczek opanują rzekę\, niosąc ze sobą radość\, emocje i… ogromne serce Stargardu.\n\n\n DLACZEGO MUSISZ mieć swoją kaczkę?\n Bo w zeszłym roku wyprzedały się wszystkie numery – i wielu spóźnialskich zostało z niczym.\n Bo za 25 zł masz i zabawę\, i szansę na nagrody\, i robisz coś naprawdę dobrego.\n Bo nawet jeśli nie możesz być na miejscu – Twoja kaczka i tak płynie\, i może wygrać.\n Bo to świetny sposób na rodzinną sobotę pełną śmiechu\, emocji i atrakcji – najpierw widowiskowy wyścig na Inie\, a potem festyn!\n Bo każda kaczka pomaga – dosłownie.\n\n\n Na co zbieramy?\nDochód z akcji trafi tam\, gdzie jest najbardziej potrzebny:\n na warsztaty fizyczne EUREKA z Centrum Nauki FILARY\n na stypendia i wsparcie uzdolnionej młodzieży\n dla Młodzieżowego Ośrodka Socjoterapii w Stargardzie\n oraz na ogólnoświatowy program walki z polio\n\n\n A co może wygrać Twoja kaczka?\n Rower marki Kands\n Telewizor\n Tablet\n Dron\n Vouchery m.in. do Agrodolinki\, na organizację urodzin w FILARACH\, rodzinne bilety do SCN Filary\, zakupy w sklepie Westpomerania.com\, sesje w komorze normobarycznej OxyHub (aż po 750 zł każdy!) i wiele innych.\n\n\n Nie musisz wygrać wyścigu – po wszystkim odbędzie się losowanie nagród wśród wszystkich numerów! Nawet jeśli Twoja kaczka nie była demonem prędkości\, może wrócić z cenną nagrodą. \n\n\n Jak wziąć udział?\n Wejdź na www.kaczki.stargard.pl\n\n\n Wybierz numer swojej kaczki\n Kibicuj jej z brzegu… albo z drugiego końca świata!\n\n\n Masz już swoją kaczkę? Zostaw lajka!\n Przeczytałeś? Udostępnij – niech inni też się dowiedzą!\n\n\n Nie czekaj na ostatnią chwilę – bo kiedy kaczki się skończą\, będzie za późno.\nNie przegap tej szansy – zrób coś dobrego\, przeżyj coś wyjątkowego i… pozwól swojej kaczce popłynąć po nagrodę!\n\n\n Kaczka za 25 zł = pomoc + emocje + dobra zabawa.\nPo prostu: kup i płyń z nami!\nInf. organizatora
URL:https://infostargard.pl/event/ii-stargardzki-charytatywny-wyscig-kaczek/
LOCATION:Most przy ul. K. Wielkiego
END:VEVENT
BEGIN:VEVENT
DTSTART;TZID=Europe/Helsinki:20250920T120000
DTEND;TZID=Europe/Helsinki:20250920T120000
DTSTAMP:20260420T071616
CREATED:20250917T060903Z
LAST-MODIFIED:20250918T071027Z
UID:23147-1758369600-1758369600@infostargard.pl
SUMMARY:Dzień Sąsiada na os. Lotnisko
DESCRIPTION:Stowarzyszenie „Potrzebny Dom” zaprasza wszystkich do wspólnej zabawy na os. Lotnisko. Festyn z okazji Dnia Sąsiada zaplanowano na sobotę (20.09). Początek imprezy o 12. \n– Jak zawsze spotkamy się na parkingu przy ul. J. Śniadeckiego – zaprasza stowarzyszenie Potrzebny Dom. \nNa festynie każdy znajdzie coś dla siebie\, zapewniają organizatorzy. W tym roku motywem przewodnim będzie piłka nożna. W akcji zobaczymy m.in. młodych zawodników z Kluczevii. Oprócz tego nie zabraknie dobrej muzyki\, konkursów z nagrodami\, tematycznych stoisk i zabaw dla małych i dużych.
URL:https://infostargard.pl/event/dzien-sasiada-na-os-lotnisko/
LOCATION:parking przed kompleksem dla seniorów
END:VEVENT
BEGIN:VEVENT
DTSTART;TZID=Europe/Helsinki:20250920T120000
DTEND;TZID=Europe/Helsinki:20250921T180000
DTSTAMP:20260420T071616
CREATED:20250909T053808Z
LAST-MODIFIED:20250912T072445Z
UID:22526-1758369600-1758477600@infostargard.pl
SUMMARY:Ekopiknik w parku Zamkowym
DESCRIPTION:Weekend 20 – 21 września\, w Stargardzkim Centrum Nauki FILARY będzie wypełniony atrakcjami. \nNa sobotę\, 20 września FILARY zaplanowały tegoroczny #EKOlogiczny Piknik Naukowy. Odbędzie się\, jak zwykle w Parku Zamkowym\, w godzinach 12:00–18:00. Tym razem głównym partnerem wydarzenia będzie Zarząd Usług Komunalnych w Stargardzie\, a swoje przybycie potwierdzili już między innymi: Morskie Centrum Nauki w Szczecinie\, Transgraniczny Ośrodek Edukacji ekologicznej w Zalesiu\, Centrum Nauki w Sianowie i Zakład Unieszkodliwiania Odpadów Promieniotwórczych. \nZwiedzanie FILARÓW w tym dniu będzie możliwe w ekstra cenie\, 10 złotych\, a w salach centrum\, w tym dniu pojawią się prace plastyczne o tematyce przyrodniczej i ekologicznej. \nW czasie trwania Pikniku Naukowego odbędzie się II Stargardzki Charytatywny Wyścig Kaczek\, organizowany przez ROTARY CLUB Stargard. Kaczki\, w cenie 25 zł już można kupić na www.kaczki.stargard.pl. \nDochód z wyścigu zostanie przeznaczony na realizację działań statutowych Rotary Club Stargard\, w tym przeprowadzenie przez Stargardzkie Centrum Nauki FILARY\, warsztatów zachęcających dzieci i młodzież do zainteresowania się fizyką\, EUREKA. \nNa uczestników czekają nagrody\, między innymi rower marki Kands\, telewizor\, tablet\, dron i Vouchery na zakupy\, usługi i rodzinne atrakcje. \n20 i 21 września\, w FILARACH odbędzie się też VI Ogólnopolskie Mistrzostwa Stargardu w Scrabble\, organizowane przez Klub Blank. Formularz zgłoszeniowy można wypełnić na stronie organizatora: https://www.pfs.org.pl/turniej.php?id=1388#info\, a zwycięzcy zostaną uhonorowani pucharami\, otrzymają również nagrody pieniężne i rzeczowe. \nStargardzkie Centrum Nauki FILARY wciąż jeszcze prowadzi nabór do Pracowni Zajęć Popołudniowych. Więcej informacji można uzyskać pod numerem telefonu: 786 905 760.
URL:https://infostargard.pl/event/ekopiknik-w-parku-zamkowym/
LOCATION:Park Zamkowy
END:VEVENT
BEGIN:VEVENT
DTSTART;TZID=Europe/Helsinki:20250920T163000
DTEND;TZID=Europe/Helsinki:20250920T163000
DTSTAMP:20260420T071616
CREATED:20250528T101433Z
LAST-MODIFIED:20250603T093227Z
UID:12310-1758385800-1758385800@infostargard.pl
SUMMARY:Kabaret Młodych Panów „Z żartami nie ma żartów” - 20-lecie kabaretu
DESCRIPTION:Stargardzkie Centrum Kultury zaprasza na występ Kabaretu Młodych Panów\, który obchodzi w tym roku 20-lecie działalności artystycznej. \nWydarzenie to odbędzie się w sobotę\, 20 września o godz. 16:30\, na Dużej Scenie SCK. \nBilety od 120 do 140 zł dostępne w kasie kina lub online na stronie. Stargardzka Karta Mieszkańca na to wydarzenie nie obowiązuje. \n\n\nInformacja SCK: \nZ okazji 20-lecia\, Kabaret Młodych Panów przygotował dla swoich fanów coś wyjątkowego – nowy premierowy program: „Z ŻARTAMI NIE MA ŻARTÓW”.  Program ten jest hołdem dla dotychczasowej drogi artystycznej i jednocześnie zaproszeniem do wspólnego świętowania tego wyjątkowego jubileuszu. \nW najnowszym programie widzowie będą mieli okazję ponownie spotkać się z ulubionymi postaciami\, które na przestrzeni lat wywoływały najwięcej śmiechu i wzruszeń. Nie zabraknie także momentów pożegnań z postaciami\, które na zawsze zapiszą się w historii kabaretu. \nProgram zapowiada się jako wyjątkowa mieszanka satyry\, inteligentnego humoru i ostrej obserwacji otaczającego nas świata. Kabaret Młodych Panów po raz kolejny będzie udowadniał\, że humor\, to potężna broń z którą nie ma żartów. \n„Nie spoczywamy na laurach” – mówią artyści\, zapewniając\, że w programie „Z żartami nie ma żartów” widzowie zobaczą wyłącznie premierowy materiał. Panowie obiecują dalszy rozwój i ciągłe poszukiwanie nowych form wyrazu artystycznego. Kabaret Młodych Panów zaprasza wszystkich na wspólne świętowanie 20-lecia na scenie. „Z żartami nie ma żartów” to nie tylko podsumowanie dotychczasowej kariery\, ale również obietnica dalszych lat pełnych humoru\, refleksji i doskonałej zabawy.
URL:https://infostargard.pl/event/kabaret-mlodych-panow-z-zartami-nie-ma-zartow-20-lecie-kabaretu/
LOCATION:Duża Scena SCK
END:VEVENT
BEGIN:VEVENT
DTSTART;TZID=Europe/Helsinki:20250920T180000
DTEND;TZID=Europe/Helsinki:20250920T180000
DTSTAMP:20260420T071616
CREATED:20250917T091948Z
LAST-MODIFIED:20251002T082444Z
UID:23207-1758391200-1758391200@infostargard.pl
SUMMARY:Mecz o mistrzostwo III ligi
DESCRIPTION:20 września o godz. 18 na stadionie przy ul. Niemcewicza rozpocznie się mecz o mistrzostwo III ligi\, gr II.  \nPolski Cukier Kluczevia Stargard zmierzy się z Tłuchowią Tłuchowo. \nBilety na stronie www.kluczevia.pl
URL:https://infostargard.pl/event/mecz-o-mistrzostwo-iii-ligi/
LOCATION:Stadion przy ul. Niemcewicza
END:VEVENT
END:VCALENDAR