BEGIN:VCALENDAR
VERSION:2.0
PRODID:-//Info Stargard - ECPv6.15.20//NONSGML v1.0//EN
CALSCALE:GREGORIAN
METHOD:PUBLISH
X-ORIGINAL-URL:https://infostargard.pl
X-WR-CALDESC:Wydarzenia dla Info Stargard
REFRESH-INTERVAL;VALUE=DURATION:PT1H
X-Robots-Tag:noindex
X-PUBLISHED-TTL:PT1H
BEGIN:VTIMEZONE
TZID:Europe/Helsinki
BEGIN:DAYLIGHT
TZOFFSETFROM:+0200
TZOFFSETTO:+0300
TZNAME:EEST
DTSTART:20240331T010000
END:DAYLIGHT
BEGIN:STANDARD
TZOFFSETFROM:+0300
TZOFFSETTO:+0200
TZNAME:EET
DTSTART:20241027T010000
END:STANDARD
BEGIN:DAYLIGHT
TZOFFSETFROM:+0200
TZOFFSETTO:+0300
TZNAME:EEST
DTSTART:20250330T010000
END:DAYLIGHT
BEGIN:STANDARD
TZOFFSETFROM:+0300
TZOFFSETTO:+0200
TZNAME:EET
DTSTART:20251026T010000
END:STANDARD
BEGIN:DAYLIGHT
TZOFFSETFROM:+0200
TZOFFSETTO:+0300
TZNAME:EEST
DTSTART:20260329T010000
END:DAYLIGHT
BEGIN:STANDARD
TZOFFSETFROM:+0300
TZOFFSETTO:+0200
TZNAME:EET
DTSTART:20261025T010000
END:STANDARD
END:VTIMEZONE
BEGIN:VEVENT
DTSTART;TZID=Europe/Helsinki:20250909T100000
DTEND;TZID=Europe/Helsinki:20250917T110000
DTSTAMP:20260420T071620
CREATED:20250904T100646Z
LAST-MODIFIED:20250904T100653Z
UID:21905-1757412000-1758106800@infostargard.pl
SUMMARY:Stargardzkie Dni Seniora
DESCRIPTION:Prezydent Stargardu wraz ze Stargardzkim Centrum Wspierania Organizacji Pozarządowych zapraszają na Dni Seniora 2025. \nStargardzkie Dni Seniora odbywają się od 2016 r. i obejmują cykl kilkudniowych wydarzeń o charakterze kulturalnym\, sportowym i rekreacyjnym. \n– Bogaty program\, mnóstwo atrakcji – zachęcają organizatorzy. – Nie może Was zabraknąć! \nInformacja Urzędu Miejskiego: \nX Stargardzkie Dni Seniora rozpoczną się we wtorek (9.09). Od 10:00 do 15:00 potrwa dzień otwarty w Klubie „Senior+” na os. Lotnisko (ul. J. Śniadeckiego 11). To wyjątkowe miejsce\, w którym osoby starsze integrują się\, spędzają czas na wspólnych aktywnościach i biorą udział w ciekawych wydarzeniach. W środę (10.09) przyjdzie czas na zadbanie o swoje zdrowie. Osoby posiadające Stargardzką Kartę Mieszkańca skorzystają z bezpłatnych badań profilaktycznych. Wystarczy przyjść od 8:00 do 12:00 do siedziby Stowarzyszenia „Edukacja-Zdrowie-Aktywność” (ul. Wojska Polskiego 4u/3). Kolejne badania odbędą się tam również w czwartek (11.09\, 9:00-13:00) i w piątek (12.09\, 9:00-14:00). \nW czwartek (11.09) o 11:00 w Domu Kultury Kolejarza tradycyjnie będą świętować 80-latkowie z Polskiego Związku Emerytów\, Rencistów i Inwalidów. Tego dnia między 10:00 a 13:00 można wpaść do Uniwersytetu Trzeciego Wieku. Dzień otwarty odbędzie się w siedzibie UTW w Stargardzkim Centrum Kultury (ul. J. Piłsudskiego 105). \nW piątek (12.09) seniorzy oficjalnie dostaną klucze do miasta i wezmą udział w rywalizacji sportowej. Najwytrwalsi na koniec potańczą na dyskotece. Początek zabawy o 14:00 w Teatrze Letnim. W ciągu dnia warto również wpaść do Książnicy Stargardzkiej na darmowe zajęcia sensogimnastyki (12:00)\, zwiedzić za złotówkę Muzeum Archeologiczno-Historyczne (w Bastei i na Rynku Staromiejskim)\, Stargardzkie Centrum Nauki FILARY i skorzystać ze Strefy Wodnej w AquaStar za 5 zł/2 h. Wybierając się na te 3 atrakcje\, trzeba pamiętać o zabraniu ze sobą Stargardzkiej Karty Mieszkańca. \nSobota (13.09) to kolejna okazja do zwiedzania MAH i zabawy w AquaStar. Symboliczną złotówkę seniorzy zapłacą też za odwiedziny w Stargardzkim Centrum Nauki FILARY. Do SCN za 1 zł mogą zaprosić też wnuków (obowiązuje zasada 1 senior + jedna osoba towarzysząca – trzeba mieć SKM). Oprócz tego najwięksi pasjonaci już o 7:00 rozpoczną wędkarską rywalizację na stawach hodowlanych w Kluczewie. O 14:30 z Rynku Staromiejskiego ruszy parada – w tym roku motywem przewodnim będzie Dziki Zachód. Seniorzy przejdą do Teatru Letniego\, gdzie pobawią się na festynie (do 18:00) i potańczą na dyskotece (do 22:00). \nW niedzielę (14.09) nadal będzie można korzystać z oferty MAH\, AquaStar i FILARÓW. Stargardzkie Centrum Kultury specjalnie dla uczestników SDS przygotowało też 3 seanse filmowe. Seniorzy posiadający SKM zapłacą za bilet tylko 15 zł. O 11:00 na Bobrowej Polanie rozpocznie się piknik z ogniskiem\, wspólnym pieczeniem kiełbasek i grochówką. Na tych\, którzy nie dotrą na miejsce we własnym zakresie\, o 10:30 w Zintegrowanym Centrum Przesiadkowym będzie czekał specjalny autobus. \nJubileuszowe Stargardzkie Dni Seniora zakończy piknik Uniwersytetu Trzeciego Wieku. Słuchacze UTW tradycyjnie pożegnają lato w środę (17.09) w Ośrodku Wypoczynkowym HANIA w Morzyczynie.
URL:https://infostargard.pl/event/stargardzkie-dni-seniora/
LOCATION:Okolice miasta
END:VEVENT
BEGIN:VEVENT
DTSTART;TZID=Europe/Helsinki:20250912T100000
DTEND;TZID=Europe/Helsinki:20250914T160000
DTSTAMP:20260420T071620
CREATED:20250827T045738Z
LAST-MODIFIED:20250904T094358Z
UID:20903-1757671200-1757865600@infostargard.pl
SUMMARY:Barzkowickie Targi Rolne - program
DESCRIPTION:
URL:https://infostargard.pl/event/barzkowickie-targi-rolne/
LOCATION:Barzkowice
END:VEVENT
BEGIN:VEVENT
DTSTART;TZID=Europe/Helsinki:20250912T130000
DTEND;TZID=Europe/Helsinki:20250914T130000
DTSTAMP:20260420T071620
CREATED:20250801T083848Z
LAST-MODIFIED:20250802T050307Z
UID:18977-1757682000-1757854800@infostargard.pl
SUMMARY:Zawody Drwali w Barzkowicach
DESCRIPTION:13 września w Barzkowicach odbędą się Mistrzostwa Polski STIHL TIMBERSPORTS® 2025. Info Stargard jest patronem medialnym wydarzenia.  \nNajlepsi drwale w Polsce przygotowują się do sezonu i szlifują umiejętności w jednym z najbardziej ekstremalnych sportów na świecie. \n–Przed nami cykl wydarzeń\, w trakcie których wyłonieni zostaną najlepsi w Polsce specjaliści we władaniu piłą i siekierą\, a następnie będą oni reprezentować nasz kraj na arenie międzynarodowej – informują organizatorzy wydarzenia. \nPrzerąbanie potężnej kłody siekierą\, a następnie odcięcie dwumetrową piłą idealnie równego krążka to dla przeciętnego człowieka zadanie przynajmniej na kilka godzin wytężonej pracy\, po której przez kilka dni czuć wszystkie bolące mięśnie. A najlepsi drwale w naszym kraju są w stanie to zrobić w pół minuty\, po czym wziąć udział w kolejnych wymagających konkurencjach. \nXXII Mistrzostwa Polski STIHL TIMBERSPORTS® odbędą się w sobotę 13 września w Barzkowicach w trakcie targów rolnych AGRO POMERANIA. W weekend będą miały miejsce także dwie inne rywalizacje: w piątek 12 września w międzynarodowych zawodach zaprezentują się najlepsi juniorzy\, natomiast na niedzielę 14 września zaplanowano starcie w pucharowej formule Trophy\, w której drwale rywalizują ze sobą równolegle w pojedynkach 1 na 1. \nPiątek\, 12 września g. 13.00 – międzynarodowe zawody juniorów – Polish Rookie Championship \nSobota\, 13 września g. 13.00 – XXII Mistrzostwa Polski \nNiedziela\, 14 września g. 13.30 – zawody w formacie trophy \nMiejsce: polana na terenie targów AGRO POMERANIA w Barzkowicach. \n-Nasi reprezentanci w 2017 roku zostali drużynowymi wicemistrzami świata STIHL TIMBERSPORTS®\, a w 2024 roku pobili w tej konkurencji rekord Europy – informuje organizator zawodów. -Emocji na Mistrzostwach Polski na pewno nie zabraknie\, bo wystąpią w nich Michał Dubicki i Szymon Groenwald. Plasują się oni w ścisłej czołówce ekstremalnych drwali i obaj trenują już do zawodów. Pierwszy z nich może się pochwalić tytułem wicemistrza świata w zawodach World Trophy 2023. Drugi został także w roku 2023 najlepszym juniorem świata i wrócił z mistrzostw ze złotym medalem. Najlepsi zawodnicy\, których zobaczymy w Barzkowicach\, pojadą reprezentować nasz kraj na szczeblu międzynarodowym.  \nNajważniejszymi zawodami sezonu będą rozegrane między 24 a 25 października Mistrzostwa Świata STIHL TIMBERSPORTS® w Mediolanie. \nInf. pras. i fot. STIHL TIMBERSPORTS® 
URL:https://infostargard.pl/event/zawody-drwali-w-barzkowicach/
LOCATION:Barzkowice
END:VEVENT
BEGIN:VEVENT
DTSTART;TZID=Europe/Helsinki:20250913T100000
DTEND;TZID=Europe/Helsinki:20250913T100000
DTSTAMP:20260420T071620
CREATED:20250911T054656Z
LAST-MODIFIED:20250912T072747Z
UID:22609-1757757600-1757757600@infostargard.pl
SUMMARY:XX Memoriał Zenona Świętońskiego
DESCRIPTION:
URL:https://infostargard.pl/event/xx-memorial-zenona-swietonskiego/
LOCATION:Hala OSiR
END:VEVENT
BEGIN:VEVENT
DTSTART;TZID=Europe/Helsinki:20250913T100000
DTEND;TZID=Europe/Helsinki:20250914T180000
DTSTAMP:20260420T071620
CREATED:20250903T085222Z
LAST-MODIFIED:20250904T084414Z
UID:21762-1757757600-1757872800@infostargard.pl
SUMMARY:Dni Zamku w Pęzinie
DESCRIPTION:Zamek w Pęzinie to idealne miejsce na zorganizowanie wesela\, komunii\, konferencji\, szkolenia czy spotkań rodzinnych. \nOd 13 do 14 września w godz. 10-18 potrwają dni otwarte zamku. \n – Serdecznie zapraszamy! – zachęcają organizatorzy. – Towarzyszyć nam będą Qevent’s\, Winnica Sydonia. W sobotę o godz. 12 odwiedzi nas grupa motocyklistów z Moto Stargard. Natomiast w niedzielę Olga Dąbkiewicz z grupą Retro Vibes poprowadzi niesamowity pokaz mody.  \nBilety do nabycia w kasie w cenie: dorośli – 20 zł\, dzieci do lat 12 – 15 zł.
URL:https://infostargard.pl/event/dni-zamku-w-pezinie/
LOCATION:Pęzino
END:VEVENT
BEGIN:VEVENT
DTSTART;TZID=Europe/Helsinki:20250913T130000
DTEND;TZID=Europe/Helsinki:20250913T130000
DTSTAMP:20260420T071620
CREATED:20250909T054230Z
LAST-MODIFIED:20250912T072729Z
UID:22529-1757768400-1757768400@infostargard.pl
SUMMARY:Piknik ze Spójnią
DESCRIPTION:PGE Spójnia zaprasza wszystkich na piknik. \n\n– Czeka na Was mnóstwo atrakcji dla całych rodzin– zaprasza klub.\n\n\n\n W programie m.in.:\n Atrakcje i strefa zabaw dla dzieci\n Strefa koszykarska\n Retro strefa z Vario Transport\n Dmuchańce i foodtrucki \n Strefa rodzinnej rozrywki\n Prelekcje dla rodziców\n\n\n A o 17:30 – mecz sparingowy:\nPGE Spójnia Stargard  Enea Basket Poznań\n\n\nPo meczu odbędzie się uroczysta prezentacja pierwszego zespołu PGE Spójni Stargard\, Akademii Koszykówki oraz zespołu rezerw \n\n\n Hala OSiR\, Stargard\n 13 września\, start 13:00.\n\n\nInf. PGE Spójnia
URL:https://infostargard.pl/event/piknik-ze-spojnia/
LOCATION:Hala OSiR
END:VEVENT
BEGIN:VEVENT
DTSTART;TZID=Europe/Helsinki:20250913T150000
DTEND;TZID=Europe/Helsinki:20250913T153000
DTSTAMP:20260420T071620
CREATED:20250911T054457Z
LAST-MODIFIED:20250912T072716Z
UID:22604-1757775600-1757777400@infostargard.pl
SUMMARY:Dożynki wiejskie w Czarnkowie
DESCRIPTION:
URL:https://infostargard.pl/event/dozynki-wiejskie-w-czarnkowie/
LOCATION:plac wiejski w Czarnkowie
END:VEVENT
END:VCALENDAR