BEGIN:VCALENDAR
VERSION:2.0
PRODID:-//Info Stargard - ECPv6.15.20//NONSGML v1.0//EN
CALSCALE:GREGORIAN
METHOD:PUBLISH
X-ORIGINAL-URL:https://infostargard.pl
X-WR-CALDESC:Wydarzenia dla Info Stargard
REFRESH-INTERVAL;VALUE=DURATION:PT1H
X-Robots-Tag:noindex
X-PUBLISHED-TTL:PT1H
BEGIN:VTIMEZONE
TZID:Europe/Helsinki
BEGIN:DAYLIGHT
TZOFFSETFROM:+0200
TZOFFSETTO:+0300
TZNAME:EEST
DTSTART:20240331T010000
END:DAYLIGHT
BEGIN:STANDARD
TZOFFSETFROM:+0300
TZOFFSETTO:+0200
TZNAME:EET
DTSTART:20241027T010000
END:STANDARD
BEGIN:DAYLIGHT
TZOFFSETFROM:+0200
TZOFFSETTO:+0300
TZNAME:EEST
DTSTART:20250330T010000
END:DAYLIGHT
BEGIN:STANDARD
TZOFFSETFROM:+0300
TZOFFSETTO:+0200
TZNAME:EET
DTSTART:20251026T010000
END:STANDARD
BEGIN:DAYLIGHT
TZOFFSETFROM:+0200
TZOFFSETTO:+0300
TZNAME:EEST
DTSTART:20260329T010000
END:DAYLIGHT
BEGIN:STANDARD
TZOFFSETFROM:+0300
TZOFFSETTO:+0200
TZNAME:EET
DTSTART:20261025T010000
END:STANDARD
END:VTIMEZONE
BEGIN:VEVENT
DTSTART;TZID=Europe/Helsinki:20250909T100000
DTEND;TZID=Europe/Helsinki:20250917T110000
DTSTAMP:20260420T072048
CREATED:20250904T100646Z
LAST-MODIFIED:20250904T100653Z
UID:21905-1757412000-1758106800@infostargard.pl
SUMMARY:Stargardzkie Dni Seniora
DESCRIPTION:Prezydent Stargardu wraz ze Stargardzkim Centrum Wspierania Organizacji Pozarządowych zapraszają na Dni Seniora 2025. \nStargardzkie Dni Seniora odbywają się od 2016 r. i obejmują cykl kilkudniowych wydarzeń o charakterze kulturalnym\, sportowym i rekreacyjnym. \n– Bogaty program\, mnóstwo atrakcji – zachęcają organizatorzy. – Nie może Was zabraknąć! \nInformacja Urzędu Miejskiego: \nX Stargardzkie Dni Seniora rozpoczną się we wtorek (9.09). Od 10:00 do 15:00 potrwa dzień otwarty w Klubie „Senior+” na os. Lotnisko (ul. J. Śniadeckiego 11). To wyjątkowe miejsce\, w którym osoby starsze integrują się\, spędzają czas na wspólnych aktywnościach i biorą udział w ciekawych wydarzeniach. W środę (10.09) przyjdzie czas na zadbanie o swoje zdrowie. Osoby posiadające Stargardzką Kartę Mieszkańca skorzystają z bezpłatnych badań profilaktycznych. Wystarczy przyjść od 8:00 do 12:00 do siedziby Stowarzyszenia „Edukacja-Zdrowie-Aktywność” (ul. Wojska Polskiego 4u/3). Kolejne badania odbędą się tam również w czwartek (11.09\, 9:00-13:00) i w piątek (12.09\, 9:00-14:00). \nW czwartek (11.09) o 11:00 w Domu Kultury Kolejarza tradycyjnie będą świętować 80-latkowie z Polskiego Związku Emerytów\, Rencistów i Inwalidów. Tego dnia między 10:00 a 13:00 można wpaść do Uniwersytetu Trzeciego Wieku. Dzień otwarty odbędzie się w siedzibie UTW w Stargardzkim Centrum Kultury (ul. J. Piłsudskiego 105). \nW piątek (12.09) seniorzy oficjalnie dostaną klucze do miasta i wezmą udział w rywalizacji sportowej. Najwytrwalsi na koniec potańczą na dyskotece. Początek zabawy o 14:00 w Teatrze Letnim. W ciągu dnia warto również wpaść do Książnicy Stargardzkiej na darmowe zajęcia sensogimnastyki (12:00)\, zwiedzić za złotówkę Muzeum Archeologiczno-Historyczne (w Bastei i na Rynku Staromiejskim)\, Stargardzkie Centrum Nauki FILARY i skorzystać ze Strefy Wodnej w AquaStar za 5 zł/2 h. Wybierając się na te 3 atrakcje\, trzeba pamiętać o zabraniu ze sobą Stargardzkiej Karty Mieszkańca. \nSobota (13.09) to kolejna okazja do zwiedzania MAH i zabawy w AquaStar. Symboliczną złotówkę seniorzy zapłacą też za odwiedziny w Stargardzkim Centrum Nauki FILARY. Do SCN za 1 zł mogą zaprosić też wnuków (obowiązuje zasada 1 senior + jedna osoba towarzysząca – trzeba mieć SKM). Oprócz tego najwięksi pasjonaci już o 7:00 rozpoczną wędkarską rywalizację na stawach hodowlanych w Kluczewie. O 14:30 z Rynku Staromiejskiego ruszy parada – w tym roku motywem przewodnim będzie Dziki Zachód. Seniorzy przejdą do Teatru Letniego\, gdzie pobawią się na festynie (do 18:00) i potańczą na dyskotece (do 22:00). \nW niedzielę (14.09) nadal będzie można korzystać z oferty MAH\, AquaStar i FILARÓW. Stargardzkie Centrum Kultury specjalnie dla uczestników SDS przygotowało też 3 seanse filmowe. Seniorzy posiadający SKM zapłacą za bilet tylko 15 zł. O 11:00 na Bobrowej Polanie rozpocznie się piknik z ogniskiem\, wspólnym pieczeniem kiełbasek i grochówką. Na tych\, którzy nie dotrą na miejsce we własnym zakresie\, o 10:30 w Zintegrowanym Centrum Przesiadkowym będzie czekał specjalny autobus. \nJubileuszowe Stargardzkie Dni Seniora zakończy piknik Uniwersytetu Trzeciego Wieku. Słuchacze UTW tradycyjnie pożegnają lato w środę (17.09) w Ośrodku Wypoczynkowym HANIA w Morzyczynie.
URL:https://infostargard.pl/event/stargardzkie-dni-seniora/
LOCATION:Okolice miasta
END:VEVENT
BEGIN:VEVENT
DTSTART;TZID=Europe/Helsinki:20250909T170000
DTEND;TZID=Europe/Helsinki:20250909T170000
DTSTAMP:20260420T072048
CREATED:20250903T084441Z
LAST-MODIFIED:20250906T071342Z
UID:21749-1757437200-1757437200@infostargard.pl
SUMMARY:Europejskie Dni Dziedzictwa w Książnicy Stargardzkiej
DESCRIPTION:Jak co roku\, Książnica Stargardzka uczestniczy w obchodach Europejskich Dni Dziedzictwa. Tegoroczne hasło EDD brzmi „W stronę architektury. Młode dziedzictwo”.  \nJuż od 9 września w Czytelni Głównej będzie można obejrzeć wystawę pt.: „Aplikacja na papierze. Dokumenty życia społecznego prezentujące walory turystyczne Pomorza Zachodniego”. Przed upowszechnieniem się Internetu to wszelkiego rodzaju foldery\, przewodniki i ulotki były głównym źródłem informacji dla turystów. Często do ich opracowania zatrudniano znawców tematu. Nasza instytucja posiad pokaźny zbiór tego typu materiałów. Wystawa potrwa do 30 września. \nPrawdziwą gratką dla pasjonatów sztuki i nie tylko będzie wykład pt.: „Klechda o romantyku z Pomorza. Śladami Caspara Davida Friedricha”. Będzie to pasjonującą podróż do świata\, w którym przyroda była największą inspiracją\, a jej symbolika w dziełach malarza skłania do refleksji. Wydarzenie będzie miało miejsce 9 września o godz. 17:00 w Sali Projekcyjnej Książnicy Stargardzkiej. Poprowadzi je Daniel Źródlewski. \nCiekawie zapowiada się również wykład pt. „Król\, dama\, walet. Historia kart do gry”\, który odbędzie się 24 września o godz. 17:00 w Pracowni Kreatywności. Kart do gry nie trzeba nikomu przedstawiać\, ale ich historia to już inna para kaloszy. Wykład poprowadzi Dariusz Machałek. \nInf. organizatora
URL:https://infostargard.pl/event/europejskie-dni-dziedzictwa-w-ksiaznicy-stargardzkiej/
LOCATION:Sala projekcyjna Ksiąznicy Stargardzkiej
END:VEVENT
BEGIN:VEVENT
DTSTART;TZID=Europe/Helsinki:20250909T193000
DTEND;TZID=Europe/Helsinki:20250909T193000
DTSTAMP:20260420T072048
CREATED:20250507T113700Z
LAST-MODIFIED:20250603T094132Z
UID:9332-1757446200-1757446200@infostargard.pl
SUMMARY:Stand-up Mateusza Sochy pt. „Szur”!
DESCRIPTION:Stargardzkie Centrum Kultury zaprasza na koncert najnowszego programu stand-up Mateusza Sochy pt. „Szczur”.\nWydarzenie odbędzie się we wtorek\, 9 września o godz. 19:30 w Amfiteatrze w Stargardzie.\nZarezerwuj miejsca na występ już teraz – zachęcają organizatorzy.\nWażne informacje:\n– Bilety do kupienia tylko na www.kupbilecik.pl\n– Występ dla osób powyżej 18 roku życia (między 16 a 18 rokiem życia z pisemnym pozwoleniem od rodziców)\n– Zakup biletu równoważny jest ze zgodą na upublicznienie swojego wizerunku.\n– Nagrywanie występu w formie audio i video jest zabronione\n– Bilet nie daje prawa do przeszkadzania występującym.\n– Organizator zastrzega sobie prawo wyproszenia przeszkadzającej osoby\, bez możliwości zwrotu za bilety.\n– Kupując bilet akceptujesz powyższe uwagi.
URL:https://infostargard.pl/event/stand-up-mateusza-sochy-pt-szur/
LOCATION:Amfiteatr Stargard
END:VEVENT
END:VCALENDAR