BEGIN:VCALENDAR
VERSION:2.0
PRODID:-//Info Stargard - ECPv6.15.20//NONSGML v1.0//EN
CALSCALE:GREGORIAN
METHOD:PUBLISH
X-WR-CALNAME:Info Stargard
X-ORIGINAL-URL:https://infostargard.pl
X-WR-CALDESC:Wydarzenia dla Info Stargard
REFRESH-INTERVAL;VALUE=DURATION:PT1H
X-Robots-Tag:noindex
X-PUBLISHED-TTL:PT1H
BEGIN:VTIMEZONE
TZID:Europe/Helsinki
BEGIN:DAYLIGHT
TZOFFSETFROM:+0200
TZOFFSETTO:+0300
TZNAME:EEST
DTSTART:20240331T010000
END:DAYLIGHT
BEGIN:STANDARD
TZOFFSETFROM:+0300
TZOFFSETTO:+0200
TZNAME:EET
DTSTART:20241027T010000
END:STANDARD
BEGIN:DAYLIGHT
TZOFFSETFROM:+0200
TZOFFSETTO:+0300
TZNAME:EEST
DTSTART:20250330T010000
END:DAYLIGHT
BEGIN:STANDARD
TZOFFSETFROM:+0300
TZOFFSETTO:+0200
TZNAME:EET
DTSTART:20251026T010000
END:STANDARD
BEGIN:DAYLIGHT
TZOFFSETFROM:+0200
TZOFFSETTO:+0300
TZNAME:EEST
DTSTART:20260329T010000
END:DAYLIGHT
BEGIN:STANDARD
TZOFFSETFROM:+0300
TZOFFSETTO:+0200
TZNAME:EET
DTSTART:20261025T010000
END:STANDARD
END:VTIMEZONE
BEGIN:VEVENT
DTSTART;VALUE=DATE:20250905
DTEND;VALUE=DATE:20250908
DTSTAMP:20260420T071616
CREATED:20250826T112457Z
LAST-MODIFIED:20250902T181741Z
UID:20856-1757030400-1757289599@infostargard.pl
SUMMARY:ArtFestiwal Stargard 25
DESCRIPTION: Tegoroczna edycja ArtFestiwal Stargard 2025 ma tytuł: Sploty Pamięci – Festiwal Tradycji i Sztuki. Potrwa od 5 do 7 września.   \nProgram wydarzeń: \nPIĄTEK / 05.09.2025 \n16:00-23:30 / Brama Pyrzycka / ArtBus – wystawa obrazów \n19:00 / Teatr Letni / Nieobecni\, ale wieczni | koncert pamięci stargardzkich artystów i twórców \nWystąpią: Adrianna Bąk\, Julia Kisiel\, Małgorzata Nowak\, Nikola Szkodlarska\, Mateusz Tarkowski\, Natalia Szymkowiak\, Nailah Vitha\, Jakub Zajączkowski\, \nDaniel Ziomko – piano\, kierownik muzyczny \nMarcin Rakowski – perkusja \nŁukasz Wons – gitara \nKrzysztof Borkowski – gitara basowa \nMichał Koniarski – trąbka \nPiotr Okrzyński – saksofon \nPraca warsztatowa i reżyseria: Katarzyna Buja Kazuba \n20:30-04:00 / Teatr letni / Światło Pamięci | okolicznościowa iluminacja \n21:00 / Teatr letni / GRUBO ALBO FCALE | dyskoteka pod gwiazdami \nSOBOTA / 06.09.2025 \n24 h / Rynek Staromiejski / Wokół stołu księcia Jana Fryderyka\, ekspozycja plenerowa \n24 h / Stargardzkie ściany \nPomorze Zachodnie Zielony Region\, Złotników 7\, Jakub Bitka \nRyszard Manna 1933-1997\, Grodzka 2\, Maciej Kreda Jurkiewicz \nDavid Gilly\, Szkoła Podstawowa nr 5\, Chrobrego\, Maciej Kreda Jurkiewicz \nWitold Pilecki\, Pileckiego 5\, Maciej Kreda Jurkiewicz \nSpójnia Stargard\,  Pierwszej Brygady 1\, Jacek Zgliński \nStunt\, Plac Majdanek 8\, Ceski & RASM \nAniołek\, Giżynek 5\, Ceski \nPociąg\, Szkolna\, Ceski \nAleja murali\,  garaże na ul. Przedwiośnie \n24 h / Płaskie powierzchnie miejskie / Miszmasz Kolektyw | Czasem czuję – sztuka naklejkowa w plenerze \n07:00-21:00 / AquaStar\, Szczecińska 35 / Żaneta Śniadek | wystawa malarstwa \n09:00-23:00 / Puerto Kingdom\, Mickiewicza 35 / Artur Gąsior | Kawa z Dawidem \n10:00-15:00 / Bazar Stargard\, Usługowa 2 / Arkadiusz Paul Novak | zielony ołówek \n10:00-17:00 / Muzeum Archeologiczno-Historyczne\, Rynek Staromiejski / Orzeł czy reszka? Monety w historii\, historia w monetach. \nAptekarstwo pomorskie i stargardzkie na przestrzeni wieków. \nDzień po dniu… Stargard 1945-1989. \n10:00-17:00 / Starostwo Powiatowe\, Galeria im. Jerzego Wąsiewicza / Ludmiła Sabadini | „Świat kolorami wyrażony” \n10:00-24:00 / Teatr Letni\, Park / Moja kultura | ekspozycja uczniów ZS 1 w Stargardzie. \n11:00 / Bazar Stargard\, Usługowa 2 / Celina Paulina | Smooth Jazz. Koncert w Bazarze. \n11:00-18:00 / Cerkiew Świętych Apostołów Piotra i Pawła\,  Świętego Jana Chrzciciela 2 / Kolory i duchowość | malowidła stargardzkiej cerkwi. \n11:00-19:00 / Galeria Handlowa Starówka – podziemia / Małgorzata Gontarz & Artur Gąsior | SPLOTY co-op \n11:00-21:00 / Caffé Bianca\, Strażnicza 3a / Katarzyna Witkowska | Cisza barw \n11:00-20:00 / Stargardzkie Centrum Kultury\, Galeria Hol / Regina Szymanowska-Kulska | wystawa malarstwa \n12:00-20:00 / Stargardzkie Centrum Kultury\, Mała Scena / Bernadeta Wdzięczna | Sploty pamięci / Verlochtene erinnerungen \n12:00 / Park Chrobrego – fontanna / Marianna Boruta  & Maryna | wiersze na ulicy \n12:00-17:00 / Czarnieckiego 28 / Arkadiusz Paul Novak | zielony las \n12:00-18:00 / Radkam. Kancelaria podatkowa\, Warowna 19 / Sławomir Wilk\, Sekrety Japonii \nRafał Rataj\, fotografia \nPiotr Kosmal\, malarstwo \nIzabela Justyna Strzelczyk-Kosmal\, ikony \n12:00-18:00 / Książnica Stargardzka / Weronika Pietrzyk | Barwy\, struktury i słowa. \n12:00-18:00 / Książnica Stargardzka / Miasto. Światło. Przestrzeń. Fotografie Beaty Piechockiej \n12:00-24:00 / Amfiteatr – loft / Pablo Picasso | La Flute Double.  Epicentrum Art. Gallery \n12:00-24:00 / Amfiteatr – scena / Kim jestem? Wystawa Magdaleny Hołubowicz (Poznań) \n12:00 / Książnica Stargardzka / Narodowe Czytanie 2025 | Jan Kochanowski \n12:00 / Rynek Staromiejski / Aleja Malachitowa | wystawa malarstwa grupy plastycznej Malachit. Autorzy:  Danuta Jańczak\, Aleksandra Cyglicka\, Danuta Szudzichowska\, \nMaria Magdalena Proskurowska\, Bożena Smółka\, Bożena Socik\, \nAnna Drywa\, Honorata Matyga\, Zenon Ozga\, Janusz Liczba. \n12:00 / Rynek Staromiejski\, pomnik kolejarza / Moda na Pionierów | Happening Starego Ogólniaka \n12:00-21:00 / Rynek Staromiejski / Rynek Sztuki: obrazy i spotkania z artystami SSMSP Brama \n12:00-21:00 / Rynek Staromiejski / Aneta Małek | Cztery Żywioły – Jedno Serce \n12:00-21:00 / Rynek Staromiejski / Agnieszka Jenczmionka | Światło\, które nie zasypia \n12:00-21:00 / Rynek Staromiejski / Namiot Sztuki Gminy Stargard: Anna Wilk\,  Izabela Justyna Strzelczyk-Kosmal \, Zuzanna Kosmal\, Piotr Kosmal\, Zenon Ozga. \n12:00-16:00 / Rynek Staromiejski / Instytut dialogu | rozmowy z artystami i twórcami kultury \n12:00 / Rynek Staromiejski / Jadalna sztuka #tortkonopny | Marcelina Szuba \n12:00-21:00 / Rynek Staromiejski / Wyśpij się w Grodzkim | instalacja artystyczna i performatywna \n12:00-22:00 / Hotel Grodzki / Strefa wolnego dźwięku | Piano Zone \n12:00-21:00 / Hotel GrodzkiAnna Wilk | wystawa obrazów \n12:00-24:00 / Rynek Staromiejski / ArtBus – wystawa obrazów \n12:00 / Rynek Staromiejski / Teatr uliczny Pasja | Warsztaty Terapii Zajęciowej \n12:00-18:00 / Książnica Stargardzka / Kobiety Świata:  Madagaskar\, Malediwy\, Mongolia \ni Wietnam poza utartymi szlakami – Urszula Kałużna \n12:00-18:00 / Brama Portowa / Inspiracje UTW | wystawa malarstwa „Nasz Stargard” \n12:00-20:00 / Brama Pyrzycka / Amelia Iwańska | Obiektywna rzeczywistość \n12:00-18:00 / Brama Pyrzycka / Strefa Rzemiosła / Tkactwo artystyczne: pokaz rzemiosła Małgorzaty Just (Szczecin) \nMuzyka dawnych wieków | pokaz instrumentów Dobromira Strzelczyka (Wolin) \nSnycerstwo artystyczne | pokaz wyrobów drewnianych Daniela Strzelczyka (Wolin) \nFilcowanie z wełny | pokaz i wyroby Justyny Rychlickiej (Gryfino) \nBarwierstwo dawnych czasów | naturalne barwniki Michała Lipińskiego (Szczecin) \n12:00-17:00 / Brama Pyrzycka / Rękodzieło artystyczne | Warsztaty Terapii Zajęciowej \n12:00-18:00 / Brama Wałowa / Wystawa zbiorowa „BRAMA” \n13:00 / Rynek Staromiejski / Leokadia Herman | rękodzieło i wyroby artystyczne \n13:00-15:00 / Książnica Stargardzka / Ilona Wójcik ilo.oko | (nie)wielka sztuka \n13:00-17:00 / Basteja\, Park Piastowski 1 / Maja Sulżycka | Oblicza – wystawa fotografii \nStargard – miejsce z historią. Stargard od czasów późnego średniowiecza do lat 20. XX wieku. \n13:00-18:00 / Wieża Ciśnień / Czas | wystawa Pracowni Fotograficznej SCK \n13:00-18:00 / Wieża Ciśnień / Roman Budzowski |  Duch Pol’and’Rock \n13:30 / Park Chrobrego\, fontanna / Seniority&Chabry | taniec \n13:30\, 14:30\, 15:30\, 16:30\, 20:00 / Rynek Staromiejski / Strefa wolnego dźwięku | Państwowa Szkoła Muzyczna I i II st. im. Witolda Lutosławskiego w Stargardzie \n14:00 / Książnica Stargardzka\, sala projekcyjna / 22. Europejski Festiwal Filmowy Integracja Ty i Ja \n14:00-15:00 / róg Wyszyńskiego i Piłsudskiego / spotkanie w trzech aktach\, rzeźba społeczna\, Agata Baj & cyfrowy minimalista \n14:00-16:30 / Park Chrobrego\, fontanna / Terytorium poezji | Urszula Łukasiewicz \n14:00-19:00 / Dom Kultury Kolejarza\, Szczecińska 17 / Aleja Malachitowa | wystawa malarstwa grupy plastycznej Malachit. \n14:00-20:00 / Brama Pyrzycka / Mowa drewna | Kazimierz Franaszczuk \n16:30-23:30 / Teatr Letni / Fabryka brzmienia: \n16:30 – For and the sun \n18:30 – De Facto\, Muffinki\, gościnnie:  Scena Art Cafe \n20:30 – Retro Disco \n17:00 – Park Chrobrego\, fontanna / 19:00 – Rynek Staromiejski / Strefa wolnego dźwięku | Message on the pavement. \nZuzia Susz (wokal)\, Marcin Denisiuk (instrumenty perkusyjne)\, Piotr Ałanowski (gitara elektryczna)\, Michał Chmielenko (bas\, gitara akustyczna). \n20:30-04:00 / Teatr Letni / Światło Pamięci | okolicznościowa iluminacja \n21:00 / Rynek Staromiejski / Fire Arrow | pokaz ognia \nNIEDZIELA / 07.09.2025 \n24 h / Rynek Staromiejski / Wokół stołu księcia Jana Fryderyka\, ekspozycja plenerowa \n08:00-20:00 / AquaStar\, Szczecińska 35 / Żaneta Śniadek | wystawa malarstwa \n09:00-23:00 / Puerto Kingdom\, Mickiewicza 35 / Kawa z Dawidem | Artur Gąsior \n10:00-15:00 / Bazar Stargard\, Usługowa 2 / ArtBus – wystawa obrazów \n10:00-15:00 / Bazar Stargard\, Usługowa 2 / Arkadiusz Paul Novak | zielony ołówek \n10:00-17:00 / Starostwo Powiatowe\, Galeria im. Jerzego Wąsiewicza / Ludmiła Sabadini\, „Świat kolorami wyrażony” \n11:00 / Bazar Stargard\, Usługowa 2 / Julita Kożuszek. Agnieszka i nie tylko. Koncert w Bazarze. \n11:00-20:00 / Caffé Bianca\, Strażnicza 3a / Katarzyna Witkowska | Cisza barw \n11:00-17:00 / Cerkiew Świętych Apostołów Piotra i Pawła\, Świętego Jana Chrzciciela 2 / Kolory i duchowość | malowidła stargardzkiej cerkwi \n12:00-17:00 / Czarnieckiego 28 / Arkadiusz Paul Novak | zielony las \n12:00-18:00 / Piwnica pod Galerią\, Rynek Staromiejski / Miasto. Światło. Przestrzeń. Fotografie Beaty Piechockiej \n12:00-18:00 / Galeria Handlowa Starówka – podziemia / Małgorzata Gontarz & Artur Gąsior | SPLOTY co-op \n12:00-20:00 / Różanka\, Park Jagielloński / Amelia Iwańska | Obiektywna rzeczywistość \n12:00-18:00 / Brama Wałowa / Wystawa zbiorowa „BRAMA” \n12:00-15:00 / Brama Portowa / Inspiracje UTW | wystawa malarstwa „Nasz Stargard” \n13:00-18:00 / Wieża Ciśnień / Roman Budzowski |  Duch Pol’and’Rock \n13:00-18:00 / Wieża Ciśnień / Czas | wystawa Pracowni Fotograficznej SCK \n13:30 / Park Chrobrego\, fontanna / Seniority&Chabry | taniec \n17:00 / Cerkiew Świętych Apostołów Piotra i Pawła\, Świętego Jana Chrzciciela 2 / Sacrum Wschodu | duchowe pieśni cerkiewne\, koncert \n17:00 / Qlturalny Dom Publiczny – scena Alu-Star\, Pierwszej Brygady 35 / Spektakl Garold i Mod\, Krzywa Scena – SCK\, A-To-My – UTW Stargard\, Nie Ma – Szczecin\, reż. Tatiana Malinowska-Tyszkiewicz. \nProjekt dofinansowany ze środków budżetu państwa\, przyznanych przez Ministra Edukacji w ramach programu „Nasze tradycje” .
URL:https://infostargard.pl/event/artfestiwal-stargard/
LOCATION:Stargard
END:VEVENT
BEGIN:VEVENT
DTSTART;TZID=Europe/Helsinki:20250905T090000
DTEND;TZID=Europe/Helsinki:20250905T130000
DTSTAMP:20260420T071616
CREATED:20250903T084954Z
LAST-MODIFIED:20250904T072439Z
UID:21755-1757062800-1757077200@infostargard.pl
SUMMARY:Festyn charytatywny dla Kuby w SP7
DESCRIPTION:W piątek\, 5 września od godz. 9\, rozpocznie się szkolny festyn bezpieczeństwa pn. „Bezpieczny start – wspólnie dla Kuby”.  \nWydarzenie odbędzie się w Szkole Podstawowej nr 7 im. Astrid Lindgren w Stargardzie – pl. Majdanek 13. \nPodczas festynu zbierane będą środki na leczenie Kuby\, który zmaga się z rzadkim nowotworem kości. Uczeń siódemki walczy o zdrowie\, w czym pomaga mu unikalny lek. Jedno opakowanie kosztuje ponad 135 000 zł. \nW programie m.in. gry i zabawy sportowe\, malowanie twarzy\, zabawy na dmuchańcach\, plecenie warkoczyków oraz gry dotyczące bezpieczeństwa. Dla nieco starszych dzieci przygotowane zostaną pokazy i ćwiczenia resuscytacji krążeniowo – oddechowej\, pokazy sprzętu policyjnego i ratowniczego a także ćwiczenia z symulatorem „Pojedynek”. \nAtrakcje będą dostosowane do wieku uczestników. Oprócz zabawy wszyscy zyskają też konkretną wiedzę m.in. na temat cyberbezpieczeństwa i zasad udzielania pierwszej pomocy. \nWięcej szczegółów na plakatach poniżej.
URL:https://infostargard.pl/event/festyn-charytatywny-dla-kuby-w-sp7/
LOCATION:Szkoła Podstawowa nr 7 przy pl. Majdanek
END:VEVENT
BEGIN:VEVENT
DTSTART;TZID=Europe/Helsinki:20250905T170000
DTEND;TZID=Europe/Helsinki:20250905T200000
DTSTAMP:20260420T071616
CREATED:20250716T104257Z
LAST-MODIFIED:20250716T104320Z
UID:17665-1757091600-1757102400@infostargard.pl
SUMMARY:Koncert André Rieu: Przetańczyć całą noc!
DESCRIPTION:Stargardzkie Centrum Kultury zaprasza na koncert André’a Rieu pt.: „Przetańczyć całą noc”\, który odbędzie się w piątek\, 5 września na Dużej Scenie SCK. Początek godz. 17. \nBilety w cenie: 40 zł/ulgowy\, 45 zł/normalny. \nRetransmisję koncertu poprowadzi Maja Jasińska\, polska flecistka w Orkiestrze Johanna Straussa. \nInformacja SCK: \nNajnowszy koncert „Przetańczyć całą noc!” uświetnią znakomici goście Twojego ukochanego króla walca\, z rozwijającą swoją niezwykłą karierę Emmą Kok na czele. Wielka miłość André Rieu do polskiej publiczności zaowocowała po raz kolejny wyjątkową gratką dla wszystkich widzów znad Wisły: gospodynią i prowadzącą show maestra znów będzie Maja Jasińska\, flecistka z jego Orkiestry Johanna Straussa. \nTegoroczny kinowy koncert będzie ze wszech miar niepowtarzalny\, bowiem w 2025 roku przypada 200. rocznica urodzin Johanna Straussa – patrona wspaniałej orkiestry André Rieu i osobistego idola samego maestra. W takich okolicznościach Straussowski walc „Nad pięknym modrym Dunajem” wybrzmi jeszcze donioślej i piękniej. Poza tym najsłynniejszym walcem świata posłuchasz również innych klasycznych melodii\, a także premierowych wykonań szlagierów muzyki pop oraz filmowej. \nDaj się porwać do tańca najbardziej romantycznemu kinowemu wydarzeniu roku! Zabierz do kina drugą połowę\, rodzinę\, przyjaciół oraz znajomych! Obejmij najbliższe Ci osoby w tali i w rytm muzyki André Rieu przetańczcie całą noc!
URL:https://infostargard.pl/event/koncert-andre-rieu-przetanczyc-cala-noc-2/
LOCATION:Duża Scena SCK
END:VEVENT
BEGIN:VEVENT
DTSTART;TZID=Europe/Helsinki:20250905T200000
DTEND;TZID=Europe/Helsinki:20250905T200000
DTSTAMP:20260420T071616
CREATED:20250827T043808Z
LAST-MODIFIED:20250904T073225Z
UID:20886-1757102400-1757102400@infostargard.pl
SUMMARY:Kino na leżakach w Morzyczynie
DESCRIPTION:Centrum Kultury i Rekreacji w Kobylance zaprasza na kino na leżakach do amfiteatru w Morzyczynie. Początek godz. 20.  \nW repertuarze francuski kryminał muzyczny Emilia Perez. \n– Ubierzcie się odpowiednio\, weźcie kocyki – zachęcają organizatorzy. – Jak wiadomo\, nad jeziorem zawsze jest nieco chłodniej! \nWstęp na to wydarzenie jest wolny.
URL:https://infostargard.pl/event/kino-na-lezakach-w-morzyczynie-2/
LOCATION:Muszla koncertowa w Morzyczynie
END:VEVENT
END:VCALENDAR