BEGIN:VCALENDAR
VERSION:2.0
PRODID:-//Info Stargard - ECPv6.15.20//NONSGML v1.0//EN
CALSCALE:GREGORIAN
METHOD:PUBLISH
X-WR-CALNAME:Info Stargard
X-ORIGINAL-URL:https://infostargard.pl
X-WR-CALDESC:Wydarzenia dla Info Stargard
REFRESH-INTERVAL;VALUE=DURATION:PT1H
X-Robots-Tag:noindex
X-PUBLISHED-TTL:PT1H
BEGIN:VTIMEZONE
TZID:Europe/Helsinki
BEGIN:DAYLIGHT
TZOFFSETFROM:+0200
TZOFFSETTO:+0300
TZNAME:EEST
DTSTART:20240331T010000
END:DAYLIGHT
BEGIN:STANDARD
TZOFFSETFROM:+0300
TZOFFSETTO:+0200
TZNAME:EET
DTSTART:20241027T010000
END:STANDARD
BEGIN:DAYLIGHT
TZOFFSETFROM:+0200
TZOFFSETTO:+0300
TZNAME:EEST
DTSTART:20250330T010000
END:DAYLIGHT
BEGIN:STANDARD
TZOFFSETFROM:+0300
TZOFFSETTO:+0200
TZNAME:EET
DTSTART:20251026T010000
END:STANDARD
BEGIN:DAYLIGHT
TZOFFSETFROM:+0200
TZOFFSETTO:+0300
TZNAME:EEST
DTSTART:20260329T010000
END:DAYLIGHT
BEGIN:STANDARD
TZOFFSETFROM:+0300
TZOFFSETTO:+0200
TZNAME:EET
DTSTART:20261025T010000
END:STANDARD
END:VTIMEZONE
BEGIN:VEVENT
DTSTART;TZID=Europe/Helsinki:20250831T100000
DTEND;TZID=Europe/Helsinki:20250831T100000
DTSTAMP:20260420T083507
CREATED:20250827T045536Z
LAST-MODIFIED:20250912T073139Z
UID:20899-1756634400-1756634400@infostargard.pl
SUMMARY:Joga przy DKK
DESCRIPTION:Darmowe zajęcia przy Domu Kultury Kolejarza w Stargardzie odbywają się w wakacje w każdą niedzielę o godzinie 10. \n\nGodzinę później mogą z nich korzystać rodzice\, w tym czasie ich pociechami zajmują się wolontariuszki. Jogę prowadzi Fundacja Równowagi – Szkoła Jogi. Wstęp na to wydarzenie jest darmowy.
URL:https://infostargard.pl/event/joga-przy-dkk-2/
LOCATION:teren przy DKK
END:VEVENT
BEGIN:VEVENT
DTSTART;TZID=Europe/Helsinki:20250831T120000
DTEND;TZID=Europe/Helsinki:20250831T120000
DTSTAMP:20260420T083507
CREATED:20250827T044734Z
LAST-MODIFIED:20250912T073130Z
UID:20896-1756641600-1756641600@infostargard.pl
SUMMARY:Stargardzkie Dzieciaki Kinomaniaki - „Arka Noego. Ahoj przygodo”
DESCRIPTION:W niedzielę\, 31 sierpnia o godz. 12 w kinie SCK kolejne spotkanie z cyklu Stargardzkie Dzieciaki Kinomaniaki. \n\nDo obejrzenia tym razem seans familijny „Arka Noego. Ahoj przygodo” – bilety dla wszystkich za… 1 zł!  Można je kupić w kasie kina od g. 10 w dniu seansu.
URL:https://infostargard.pl/event/stargardzkie-dzieciaki-kinomaniaki-arka-noego-ahoj-przygodo/
END:VEVENT
BEGIN:VEVENT
DTSTART;TZID=Europe/Helsinki:20250831T140000
DTEND;TZID=Europe/Helsinki:20250831T170000
DTSTAMP:20260420T083507
CREATED:20250829T070725Z
LAST-MODIFIED:20250912T073110Z
UID:21115-1756648800-1756659600@infostargard.pl
SUMMARY:Festyn Stargard XXI
DESCRIPTION:
URL:https://infostargard.pl/event/festyn-stargard-xxi/
LOCATION:Teatr Letni
END:VEVENT
END:VCALENDAR