BEGIN:VCALENDAR
VERSION:2.0
PRODID:-//Info Stargard - ECPv6.15.20//NONSGML v1.0//EN
CALSCALE:GREGORIAN
METHOD:PUBLISH
X-ORIGINAL-URL:https://infostargard.pl
X-WR-CALDESC:Wydarzenia dla Info Stargard
REFRESH-INTERVAL;VALUE=DURATION:PT1H
X-Robots-Tag:noindex
X-PUBLISHED-TTL:PT1H
BEGIN:VTIMEZONE
TZID:Europe/Helsinki
BEGIN:DAYLIGHT
TZOFFSETFROM:+0200
TZOFFSETTO:+0300
TZNAME:EEST
DTSTART:20240331T010000
END:DAYLIGHT
BEGIN:STANDARD
TZOFFSETFROM:+0300
TZOFFSETTO:+0200
TZNAME:EET
DTSTART:20241027T010000
END:STANDARD
BEGIN:DAYLIGHT
TZOFFSETFROM:+0200
TZOFFSETTO:+0300
TZNAME:EEST
DTSTART:20250330T010000
END:DAYLIGHT
BEGIN:STANDARD
TZOFFSETFROM:+0300
TZOFFSETTO:+0200
TZNAME:EET
DTSTART:20251026T010000
END:STANDARD
BEGIN:DAYLIGHT
TZOFFSETFROM:+0200
TZOFFSETTO:+0300
TZNAME:EEST
DTSTART:20260329T010000
END:DAYLIGHT
BEGIN:STANDARD
TZOFFSETFROM:+0300
TZOFFSETTO:+0200
TZNAME:EET
DTSTART:20261025T010000
END:STANDARD
END:VTIMEZONE
BEGIN:VEVENT
DTSTART;TZID=Europe/Helsinki:20250829T000000
DTEND;TZID=Europe/Helsinki:20250831T000000
DTSTAMP:20260420T083958
CREATED:20250829T064400Z
LAST-MODIFIED:20250829T064400Z
UID:21105-1756425600-1756598400@infostargard.pl
SUMMARY:II Zlot Motocyklowy w Krzemieniu
DESCRIPTION:
URL:https://infostargard.pl/event/ii-zlot-motocyklowy-w-krzemieniu/
LOCATION:Krzemień 1
END:VEVENT
BEGIN:VEVENT
DTSTART;TZID=Europe/Helsinki:20250830T100000
DTEND;TZID=Europe/Helsinki:20250830T100000
DTSTAMP:20260420T083958
CREATED:20250823T063800Z
LAST-MODIFIED:20250823T064037Z
UID:20652-1756548000-1756548000@infostargard.pl
SUMMARY:II Turniej Siatkówki Plażowej
DESCRIPTION:30 sierpnia na plaży głównej w Zieleniewie  odbędzie się II Turniej Siatkówki Plażowej dla Przedsiębiorców.  \n– Początek zabawy o godz. 10 – informuje Urząd Miejski w Stargardzie. – Świetna zabawa\, sporo ruchu\, szczypta rywalizacji i okazja do integracji z przedstawicielami lokalnych firm – to wszystko czeka na uczestników. Tym razem drużyny spotkają się na plaży głównej w Zieleniewie. Cały czas można dołączyć do zabawy. Czekamy na zgłoszenia 2-osobowych zespołów – damskich\, męskich i mieszanych. \nTym razem przedsiębiorcy powalczą na plaży w Zieleniewie (SASVOLLEY Beach Park). \nChętni mogą się jeszcze zapisywać. Zapisy online są tutaj. W ubiegłym roku do rywalizacji stanęło aż 15 drużyn. Relację z pierwszej odsłony turnieju w Parku Przemysłowym Nowoczesnych Technologii można zobaczyć tutaj. \nInf. organizatorów.
URL:https://infostargard.pl/event/ii-turniej-siatkowki-plazowej/
LOCATION:Zieleniewo
END:VEVENT
BEGIN:VEVENT
DTSTART;TZID=Europe/Helsinki:20250830T100000
DTEND;TZID=Europe/Helsinki:20250830T100000
DTSTAMP:20260420T083958
CREATED:20250830T055337Z
LAST-MODIFIED:20250912T073327Z
UID:21162-1756548000-1756548000@infostargard.pl
SUMMARY:Rodzinny Rajd rowerowy w Chociwlu
DESCRIPTION:
URL:https://infostargard.pl/event/rodzinny-rajd-rowerowy-w-chociwlu/
LOCATION:Hala w Chociwlu
END:VEVENT
BEGIN:VEVENT
DTSTART;TZID=Europe/Helsinki:20250830T100000
DTEND;TZID=Europe/Helsinki:20250830T140000
DTSTAMP:20260420T083958
CREATED:20250820T092500Z
LAST-MODIFIED:20250912T073315Z
UID:20520-1756548000-1756562400@infostargard.pl
SUMMARY:Biała Sobota w Marianowie
DESCRIPTION:
URL:https://infostargard.pl/event/biala-sobota-w-marianowie/
LOCATION:Dom Strażaka Marianowo
END:VEVENT
BEGIN:VEVENT
DTSTART;TZID=Europe/Helsinki:20250830T110000
DTEND;TZID=Europe/Helsinki:20250830T110000
DTSTAMP:20260420T083958
CREATED:20250812T062438Z
LAST-MODIFIED:20250912T073259Z
UID:20034-1756551600-1756551600@infostargard.pl
SUMMARY:Memoriał o Srebrny Grot Stargardu
DESCRIPTION:
URL:https://infostargard.pl/event/memorial-o-srebrny-grot-stargardu/
LOCATION:stadion lekkoatletycznr Pomorze
END:VEVENT
BEGIN:VEVENT
DTSTART;TZID=Europe/Helsinki:20250830T130000
DTEND;TZID=Europe/Helsinki:20250830T130000
DTSTAMP:20260420T083958
CREATED:20250829T205900Z
LAST-MODIFIED:20250912T073244Z
UID:21145-1756558800-1756558800@infostargard.pl
SUMMARY:Festyn rodzinny Pożegnanie Wakacji w Marianowie
DESCRIPTION:
URL:https://infostargard.pl/event/festyn-rodzinny-pozegnanie-wakacji-w-marianowie/
LOCATION:plaża w Marianowie
END:VEVENT
BEGIN:VEVENT
DTSTART;TZID=Europe/Helsinki:20250830T140000
DTEND;TZID=Europe/Helsinki:20250830T140000
DTSTAMP:20260420T083958
CREATED:20250812T060638Z
LAST-MODIFIED:20250912T073228Z
UID:20002-1756562400-1756562400@infostargard.pl
SUMMARY:Festyn rodzinny na os. Pyrzyckim
DESCRIPTION:W sobotę (30.08) zapowiada się prawdziwa moc atrakcji na os. Pyrzyckim.  \nO godz. 14 na kompleksie sportowym przy ul. Armii Krajowej rozpocznie się festyn rodzinny. Będzie turniej piłki nożnej dla dzieci\, dmuchańce\, gry i zabawy dla całej rodziny\, słodka wata cukrowa\, chrupiący popcorn i mnóstwo niespodzianek. Każdy na pewno znajdzie coś dla siebie. \n\nW programie m.in.:\n turniej piłki nożnej dla dzieci (każdy uczestnik z medalem )\n dmuchańce: zjeżdżalnia\, plac zabaw i tor przeszkód\n gry i zabawy\n animacje\n wata cukrowa i popcorn\n piana party – dla małych i dużych!\n\n\n Sobota\, 30 sierpnia\n Start: godz. 14:00\n Kompleks sportowy przy ul. Armii Krajowej\n\n\nBędzie radośnie\, sportowo i rodzinnie – zapraszamy całe rodziny!\n\nOrganizatorami są radni Wojciech Seredyński i Grzegorz Rybaczuk\, współorganizatorem OSiR Stargard.\nInf. UM w Stargardzie \n 
URL:https://infostargard.pl/event/festyn-rodzinny-na-os-pyrzyckim/
LOCATION:Kompleks sportowy przy u. Armii Krajowej
END:VEVENT
BEGIN:VEVENT
DTSTART;TZID=Europe/Helsinki:20250830T150000
DTEND;TZID=Europe/Helsinki:20250830T150000
DTSTAMP:20260420T083958
CREATED:20250812T061915Z
LAST-MODIFIED:20250912T073215Z
UID:20024-1756566000-1756566000@infostargard.pl
SUMMARY:Dożynki w Dalewie
DESCRIPTION:
URL:https://infostargard.pl/event/dozynki-w-dalewie/
LOCATION:Plac Pod Dębem
END:VEVENT
BEGIN:VEVENT
DTSTART;TZID=Europe/Helsinki:20250830T150000
DTEND;TZID=Europe/Helsinki:20250830T150000
DTSTAMP:20260420T083958
CREATED:20250812T062215Z
LAST-MODIFIED:20250912T073158Z
UID:20029-1756566000-1756566000@infostargard.pl
SUMMARY:Dożynki gminne w Grzędzicach
DESCRIPTION:
URL:https://infostargard.pl/event/dozynki-gminne-w-grzedzicach/
LOCATION:boisko
END:VEVENT
BEGIN:VEVENT
DTSTART;TZID=Europe/Helsinki:20250830T154500
DTEND;TZID=Europe/Helsinki:20250830T154500
DTSTAMP:20260420T083958
CREATED:20250820T092243Z
LAST-MODIFIED:20250820T095901Z
UID:20515-1756568700-1756568700@infostargard.pl
SUMMARY:Dożynki Gminne w Kunowie
DESCRIPTION:
URL:https://infostargard.pl/event/dozynki-gminne-w-kunowie/
LOCATION:Kunowo
END:VEVENT
BEGIN:VEVENT
DTSTART;TZID=Europe/Helsinki:20250830T160000
DTEND;TZID=Europe/Helsinki:20250830T160000
DTSTAMP:20260420T083958
CREATED:20250812T060212Z
LAST-MODIFIED:20250820T093945Z
UID:19994-1756569600-1756569600@infostargard.pl
SUMMARY:Dożynki gminne w Dobrzanach
DESCRIPTION:
URL:https://infostargard.pl/event/dozynki-gminne-w-dobrzanach/
LOCATION:Park Miejski w Dobrzanach
END:VEVENT
BEGIN:VEVENT
DTSTART;TZID=Europe/Helsinki:20250830T200000
DTEND;TZID=Europe/Helsinki:20250830T200000
DTSTAMP:20260420T083958
CREATED:20250727T071153Z
LAST-MODIFIED:20250827T163142Z
UID:18565-1756584000-1756584000@infostargard.pl
SUMMARY:Koncert z okazji 45-lecia powstania Solidarności
DESCRIPTION:W tym roku w całej Polsce obchodzimy 45-lecie powstania Niezależnego Samorządnego Związku Zawodowego „Solidarność”. Z tej okazji w naszym mieście odbędzie się kilka ciekawych wydarzeń. Spotkamy się w kinie plenerowym\, posłuchamy koncertu\, pobawimy się na festynie i potańczymy na dyskotece. Będzie również uroczysta msza święta. Wstęp na wszystko – bezpłatny. \nW piątek (29.08) o 21:00 w Teatrze Letnim do zobaczenia „Czarny Czwartek. Janek Wiśniewski padł”. To pierwszy film fabularny o wydarzeniach z grudnia 1970 roku. \nW sobotę (30.08) od 13:00 pobawimy się na rodzinnym festynie. Moc atrakcji dla małych i dużych do odkrycia w Parku Chrobrego. Na Alei Słowiczej pojawią się pojazdy Policji i Straży Pożarnej. W pobliżu stanie też Artbus\, w którym będzie można obejrzeć tematyczną wystawę przygotowaną przez Muzeum Archeologiczno-Historyczne. Z kolei na terenie zielonym przy Baszcie Morze Czerwone najmłodsi poszaleją na dmuchańcach\, skorzystają z animacji i zabaw\, a także wezmą udział w konkursach z nagrodami. Festyn w Parku Chrobrego potrwa do 17:00. O 18:30 w kościele pw. św. Jana rozpocznie się uroczysta msza święta. W nabożeństwie wezmą udział poczty sztandarowe. \nO 20:00 w Teatrze Letnim zacznie się koncert „Człowiek rodzi się i żyje wolnym”. Na scenie wystąpią: Celina Gładysz\, Krzysztof Gładysz\, Piotr Dolata\, Piotr Świrepo\, Maciej Szeliga\, Maja Piekarska\, Martyna Tańska\, Amelia Pędzik\, Lena Pędzik\, tercet wokalny „Muffinki”\, Nikola Szkodlarska i Dominika Lewandowska. Wokalistom będzie towarzyszył zespół w składzie: Alex Marek (piano)\, Adrian Kluś (gitara basowa)\, Mariusz Lipiński (perkusja)\, Wojciech Wójcicki (gitara). Po koncercie Teatr Letni zamieni się w plenerową dyskotekę. Potańczymy do największych hitów z lat 80. i 90. Zabawa potrwa od 21:30 aż do 1:00. \nObchody 45-lecia „Solidarności” świętujemy w Stargardzie na zakończenie Coolturalnych Wakacji. \nInf. UM w Stargardzie \n 
URL:https://infostargard.pl/event/koncert-z-okazji-45-lecia-powstania-solidarnosci/
LOCATION:Teatr Letni w Parku Chrobrego
END:VEVENT
END:VCALENDAR