BEGIN:VCALENDAR
VERSION:2.0
PRODID:-//Info Stargard - ECPv6.15.20//NONSGML v1.0//EN
CALSCALE:GREGORIAN
METHOD:PUBLISH
X-ORIGINAL-URL:https://infostargard.pl
X-WR-CALDESC:Wydarzenia dla Info Stargard
REFRESH-INTERVAL;VALUE=DURATION:PT1H
X-Robots-Tag:noindex
X-PUBLISHED-TTL:PT1H
BEGIN:VTIMEZONE
TZID:Europe/Helsinki
BEGIN:DAYLIGHT
TZOFFSETFROM:+0200
TZOFFSETTO:+0300
TZNAME:EEST
DTSTART:20240331T010000
END:DAYLIGHT
BEGIN:STANDARD
TZOFFSETFROM:+0300
TZOFFSETTO:+0200
TZNAME:EET
DTSTART:20241027T010000
END:STANDARD
BEGIN:DAYLIGHT
TZOFFSETFROM:+0200
TZOFFSETTO:+0300
TZNAME:EEST
DTSTART:20250330T010000
END:DAYLIGHT
BEGIN:STANDARD
TZOFFSETFROM:+0300
TZOFFSETTO:+0200
TZNAME:EET
DTSTART:20251026T010000
END:STANDARD
BEGIN:DAYLIGHT
TZOFFSETFROM:+0200
TZOFFSETTO:+0300
TZNAME:EEST
DTSTART:20260329T010000
END:DAYLIGHT
BEGIN:STANDARD
TZOFFSETFROM:+0300
TZOFFSETTO:+0200
TZNAME:EET
DTSTART:20261025T010000
END:STANDARD
END:VTIMEZONE
BEGIN:VEVENT
DTSTART;TZID=Europe/Helsinki:20250825T000000
DTEND;TZID=Europe/Helsinki:20250830T000000
DTSTAMP:20260420T084013
CREATED:20250823T073415Z
LAST-MODIFIED:20250825T085540Z
UID:20669-1756080000-1756512000@infostargard.pl
SUMMARY:IV edycja Stargardzkich Letnich Warsztatów Muzycznych\,
DESCRIPTION:25 sierpnia 2025 roku rozpocznie się IV edycja Stargardzkich Letnich Warsztatów Muzycznych\, wydarzenie\, które na stałe wpisało się w kulturalny kalendarz naszego miasta.  \nW tegorocznej edycji udział weźmie aż 113 uczestników\, 17 wykładowców i nauczycieli\, a także 10 zaangażowanych wolontariuszy – rodziców uczniów Ogólnokształcącej Szkoły Muzycznej. Dyrektorem warsztatów jest  Żaneta Bartosiewicz\, a funkcję dyrektora artystycznego pełni Pan Krzysztof Borkowski. \nFundacja OSMuza została powołana z inicjatywy Włodzimierza Kochańskiego – rodzica uczennicy drugiego rocznika nowo utworzonej szkoły muzycznej w naszym mieście. Jej misją\, uzgodnioną jeszcze ze śp. Dyrektorem Grzegorzem Konopczyńskim\, jest wspieranie działalności stargardzkich państwowych szkół muzycznych.\nCo ważne\, w strukturach Fundacji aktywnie działają rodzice uczniów szkoły\, którzy z wielkim zaangażowaniem wspierają organizację wydarzeń oraz codzienne funkcjonowanie instytucji. Jako Organizacja Pożytku Publicznego\, staramy się aktywnie działać na rzecz rozwoju edukacji artystycznej i kultury w naszym regionie. \nRozpoczęcie warsztatów – 25 sierpnia\, godzina 9.00. Wydarzeniu towarzyszył będzie koncert naszego wykładowcy\, dra Daniela Ziomko (fortepian) \n\n Warsztaty orkiestrowe prowadzone przez Marka Siwka i Krzysztofa Borkowskiego odbywać się będą od poniedziałku do piątku w godzinach 10.00-14.30\n\n\n Warsztaty sambowe poprowadzi Rafał Krzanowski. Będą odbywać się od środy do piątku w godzinach 16.00-19.00.\n\n\n\n\n\nKONCERTY:\n\n\n Piątek\, godz. 18.30 – koncert zespołów kameralnych\n\n\n Sobota\, godz. 12.00 – pokaz uliczny samby\n\n\n Sobota\, godz. 14.00 – koncert pianistów\n\n\n Sobota\, godz. 18.00 – finał warsztatów – koncert orkiestry i solistów\n\n\nINTEGRACJA:\n\n\n Zajęcia sportowe w OSM – wtorek\, godz. 17.00-19.00\n\n\n Ognisko w Gospodarstwo Kochańscy – czwartek\, godz. 17.00.\n\n\nInf. organizatorzy\n \n 
URL:https://infostargard.pl/event/iv-edycja-stargardzkich-letnich-warsztatow-muzycznych/
LOCATION:PSM I i II stopnia w Stargardzie
END:VEVENT
BEGIN:VEVENT
DTSTART;TZID=Europe/Helsinki:20250828T140000
DTEND;TZID=Europe/Helsinki:20250828T140000
DTSTAMP:20260420T084013
CREATED:20250801T082538Z
LAST-MODIFIED:20250802T050518Z
UID:18969-1756389600-1756389600@infostargard.pl
SUMMARY:XVII Spartakiada Sportowa Amazonek
DESCRIPTION:
URL:https://infostargard.pl/event/xvii-spartakiada-sportowa-amazonek/
LOCATION:Altana Pod Jabłonią\, pl. Majdanek
END:VEVENT
BEGIN:VEVENT
DTSTART;TZID=Europe/Helsinki:20250828T180000
DTEND;TZID=Europe/Helsinki:20250828T180000
DTSTAMP:20260420T084013
CREATED:20250827T164055Z
LAST-MODIFIED:20250827T164055Z
UID:20959-1756404000-1756404000@infostargard.pl
SUMMARY:Wernisaż wystawy zbiorowej "Brama"
DESCRIPTION:Stargardzkie Stowarzyszenie Miłośników Sztuk Plastycznych BRAMA zaprasza na wernisaż wystawy zbiorowej „Brama”.  \nOprawę muzyczną wydarzenia zapewni Mariusz Kuziel. Wernisaż odbędzie się w czwartek\, 27 sierpnia o godz. 18. Wstęp wolny. \n 
URL:https://infostargard.pl/event/wernisaz-wystawy-zbiorowej-brama/
LOCATION:Brama Wałowa
END:VEVENT
END:VCALENDAR