BEGIN:VCALENDAR
VERSION:2.0
PRODID:-//Info Stargard - ECPv6.15.20//NONSGML v1.0//EN
CALSCALE:GREGORIAN
METHOD:PUBLISH
X-WR-CALNAME:Info Stargard
X-ORIGINAL-URL:https://infostargard.pl
X-WR-CALDESC:Wydarzenia dla Info Stargard
REFRESH-INTERVAL;VALUE=DURATION:PT1H
X-Robots-Tag:noindex
X-PUBLISHED-TTL:PT1H
BEGIN:VTIMEZONE
TZID:Europe/Helsinki
BEGIN:DAYLIGHT
TZOFFSETFROM:+0200
TZOFFSETTO:+0300
TZNAME:EEST
DTSTART:20240331T010000
END:DAYLIGHT
BEGIN:STANDARD
TZOFFSETFROM:+0300
TZOFFSETTO:+0200
TZNAME:EET
DTSTART:20241027T010000
END:STANDARD
BEGIN:DAYLIGHT
TZOFFSETFROM:+0200
TZOFFSETTO:+0300
TZNAME:EEST
DTSTART:20250330T010000
END:DAYLIGHT
BEGIN:STANDARD
TZOFFSETFROM:+0300
TZOFFSETTO:+0200
TZNAME:EET
DTSTART:20251026T010000
END:STANDARD
BEGIN:DAYLIGHT
TZOFFSETFROM:+0200
TZOFFSETTO:+0300
TZNAME:EEST
DTSTART:20260329T010000
END:DAYLIGHT
BEGIN:STANDARD
TZOFFSETFROM:+0300
TZOFFSETTO:+0200
TZNAME:EET
DTSTART:20261025T010000
END:STANDARD
END:VTIMEZONE
BEGIN:VEVENT
DTSTART;TZID=Europe/Helsinki:20250622T160000
DTEND;TZID=Europe/Helsinki:20250824T160000
DTSTAMP:20260420T083516
CREATED:20250620T070425Z
LAST-MODIFIED:20250620T073757Z
UID:15142-1750608000-1756051200@infostargard.pl
SUMMARY:II Mariackie Koncerty Muzyki Organowej
DESCRIPTION:II Mariackie Koncerty Muzyki Organowej i Kameralnej 2025 \n22.06.2025-24.08.2025\nWstęp wolny!\nMiejsce: Kolegiata pw. Najświętszej Maryi Panny Królowej Świata\n22.06. / 16:00 \nBogdan Narloch- organy\n\nIrena Davidson – harfa\n\nLindsay Davidson (Szkocja)\n06.07. / 16:00 \nKarol Hilla – organy\n\nZespół muzyki dawnej „Consortium Sedinum”\n\nMikołaj Zgółka – skrzypce barokowe\n\nJustyna Młynarczyk – viola da gamba\n\nUrszula Stawicka – klawesyn\n20.07. / 16:00 \nElżbieta Budnik – orgny\n\nWiktor Łyjak – organy\n\nZespół muzyki cerkiewnej „Partes” (Ukraina)\n\nSerhiy Bida – tenor\, dyrygent\n\nOlena Tsygankova – alt\n\nVasyl Huliak – tenor\n\nKostiantyn Lenchyk – bas\n\nIvan Yarems – bas\n03.08. / 16:00 \n„Stuttgarter Barock Collegium”\n\nMarcus Raiser (Niemcy) – organy\n\nEckhard Schmidt\, Rudi Scheck (Niemcy) – trąbki\, rogi myśliwskie\n\n24.08. / 16:00 \nAgnieszka Radwan-Stefańska – organy\n\nMarek Stefański – organy\n\nJan Jakub Bokun – klarnet\n\nJakub Kościuszko – gitara\nOrganizatorzy: Miasto Stargard\, Stargardzkie Centrum Kultury\, Parafia pw. NMP Królowej Świata w Stargardzie \nKierownictwo artystyczne: Bogdan Narloch \nProwadzenie koncertów: Damian Grabowski \nKoncerty finansuje Urząd Miejski w Stargardzie.
URL:https://infostargard.pl/event/ii-mariackie-koncerty-muzyki-organowej/
LOCATION:kościół NMP KŚ
END:VEVENT
BEGIN:VEVENT
DTSTART;TZID=Europe/Helsinki:20250804T000000
DTEND;TZID=Europe/Helsinki:20250828T000000
DTSTAMP:20260420T083516
CREATED:20250806T060041Z
LAST-MODIFIED:20250806T060232Z
UID:19326-1754265600-1756339200@infostargard.pl
SUMMARY:Plan pracy PZERiI na sierpień 25
DESCRIPTION:
URL:https://infostargard.pl/event/plan-pracy-pzerii-na-sierpien-25/
END:VEVENT
BEGIN:VEVENT
DTSTART;TZID=Europe/Helsinki:20250806T000000
DTEND;TZID=Europe/Helsinki:20250828T000000
DTSTAMP:20260420T083516
CREATED:20250731T070512Z
LAST-MODIFIED:20250802T051613Z
UID:18863-1754438400-1756339200@infostargard.pl
SUMMARY:Sierpień w Książnicy Stargardzkiej
DESCRIPTION:
URL:https://infostargard.pl/event/sierpien-w-ksiaznicy-stargardzkiej/
LOCATION:Książnica Stargardzka
END:VEVENT
BEGIN:VEVENT
DTSTART;TZID=Europe/Helsinki:20250823T150000
DTEND;TZID=Europe/Helsinki:20250823T150000
DTSTAMP:20260420T083516
CREATED:20250812T060831Z
LAST-MODIFIED:20250822T055033Z
UID:20006-1755961200-1755961200@infostargard.pl
SUMMARY:Festyn na zakończenie wakacji w Kobylance
DESCRIPTION:Festyn na zakończenie wakacji odbędzie się 23 sierpnia w Kobylance.\n\n– Czeka na Was mnóstwo atrakcji! – zapewniają organizatorzy wydarzenia\, które rozpocznie się o godz.  15. – Dmuchańcowe wyzwania\, animacje\, bańki mydlane i tak popularne ostatnio Piana Party! To wszystko i jeszcze więcej na terenie przy CKiR w Kobylance dla dużych i małych mieszkańców gminy!!
URL:https://infostargard.pl/event/festyn-na-zakonczenie-wakacji-w-kobylance/
LOCATION:teren przy CKIR w Kobylance
END:VEVENT
BEGIN:VEVENT
DTSTART;TZID=Europe/Helsinki:20250823T150000
DTEND;TZID=Europe/Helsinki:20250823T150000
DTSTAMP:20260420T083516
CREATED:20250820T092027Z
LAST-MODIFIED:20250820T092027Z
UID:20510-1755961200-1755961200@infostargard.pl
SUMMARY:Zakończenie Wakacji w Brodzie
DESCRIPTION:
URL:https://infostargard.pl/event/zakonczenie-wakacji-w-brodzie/
LOCATION:Boisko sportowe za świetlicą
END:VEVENT
BEGIN:VEVENT
DTSTART;TZID=Europe/Helsinki:20250823T150000
DTEND;TZID=Europe/Helsinki:20250823T203000
DTSTAMP:20260420T083516
CREATED:20250727T070214Z
LAST-MODIFIED:20250817T111103Z
UID:18557-1755961200-1755981000@infostargard.pl
SUMMARY:Jarmark u Królowej Świata
DESCRIPTION:Jarmark u Królowej Świata odbędzie się 23 sierpnia na Rynku Staromiejskim w Stargardzie. Impreza potrwa od godz. 15 do 20.30.  \nJarmark u Królowej Świata to coroczny festyn organizowany przez parafię pw. NMP Królowej Świata wspólnie ze Stargardzkim Centrum Kultury. Odbywa się na Rynku Staromiejskim\, tuż obok kolegiaty Najświętszej Maryi Panny Królowej Świata \nPROGRAM IMPREZY: \nPrzez cały czas trwania koncertów na rynku będą stanowiska wystawiennicze oraz trzy food trucki. Wystawcy będą oferowali lokalne specjały\, ekologiczne przysmaki i piękne rękodzielnicze przedmioty. Na scenie plenerowej zaprezentują się stargardzcy wykonawcy oraz goście. \nNa scenie wystąpią: \n– Big Band Stargard\, działający przy Domu Kultury Kolejarza\, to jedna z najbardziej zasłużonych formacji muzycznych naszego miasta. Działa nieprzerwanie od ponad 75 lat\, łącząc tradycję z nowoczesnym brzmieniem. Po latach\, pod batutą dyrygenta Mirosława Wesołowskiego\, muzycy tworzą teraz zespół liczący około 23 osób\, który odzyskuje młodzieńczą energię i coraz częściej wzbogaca skład o kobiety. Repertuar wypełniają swingowe i jazzowe standardy\, doskonale znane melodie z minionych dziesięcioleci. Zespół występuje regularnie podczas miejskich imprez plenerowych\, takich jak Coolturalne Wakacje. Towarzyszy także uczestnikom Wojewódzkich Igrzysk Lekkoatletycznych Osób Niepełnosprawnych oraz prowadzi parady podczas Dni Seniora — stając się rozpoznawalnym symbolem muzycznego życia miasta. Orkiestra zyskała uznanie i liczne wyróżnienia na ogólnopolskich przeglądach\, a także otrzymała jubileuszową nagrodę od Prezydenta Stargardu za całokształt działalności kulturalnej. \n-Zespół De Facto\, to ceniona pracownia wokalna działająca w Stargardzkim Centrum Kultury\, prowadzona przez doświadczoną wokalistkę i pedagoga Celinę Gładysz. Przez dziesięciolecia zespół zgromadził liczne pokolenia młodych wokalistów\, którzy każdego roku biorą udział w bardzo wielu projektach podczas\, których prezentują różnorodny repertuar muzyczny. Co więcej\, ich utalentowane reprezentantki zdobywały laury na ogólnopolskich konkursach\, jak również konkursach międzynarodowych w Czechach\, Portugalii i we Włoszech. \n-Muffinki\, to żeński tercet wokalny –   działające w ramach Stargardzkiego Centrum Kultury pod opieką Celiny Gładysz.  Trzy wokalistki Anna Krajewska-Pędzik\, Aleksandra Myślicka i Agata Harhaj. W ich różnorodnym repertuarze znajdziemy wiele coverów w nowych aranżacjach. \n-Krystyna Giżowska wokalistka\, która przywoła wiele wspomnień. Profesjonalną karierę zaczęła w latach 70.\, występując w zespołach wojskowych jako solistka. Samodzielną drogę na estradzie rozpoczęła w 1976 na Międzynarodowym Festiwalu Piosenki w Soczi. Mimo skromnego (acz własnego) repertuaru zdobyła drugą nagrodę dzięki wypracowanej technice śpiewania i obyciu estradowemu. Nabyte umiejętności przyniosły jej też kolejne sukcesy: drugą nagrodę na Coupe d’Europe w Austrii w 1977; pierwszą nagrodę za interpretację piosenki do muzyki Chopina na Festiwalu Przebojów w NRD w 1978; trzecią nagrodę i nagrodę publiczności na Festiwalu Piosenki w Dreźnie w 1979; Grand Prix na Festiwalu Krajów Nadbałtyckich w Szwecji w 1981 oraz Grand Prix na Międzynarodowym Festiwalu Piosenki w Sopocie w 1984.Repertuar piosenkarki jest bardzo różnorodny. Niektóre z jej piosenek – jak „Złote obrączki”\, „Przeżyłam z tobą tyle lat” czy „Nie było ciebie tyle lat” – pobiły rekordy popularności. Z kolei utwory bardziej ambitne – jak „Blue Box”\, „Nim zrobisz błąd” czy „Koncert na światło i cień” – zyskały najwyższe uznanie krytyki. \n-Zespół Flow State to świeża\, pięcioosobowa formacja muzyczna powstała w 2024 roku\, łącząca przyjaciół z pasją do muzyki o różnym wieku i doświadczeniu \nOd momentu kiedy wystąpili w ramach Stargardzkiej Manufaktury Sztuki z koncertem pt. „Złap Flow State z Amy Winehouse” 14 września 2024 roku i zaprezentowali  własne interpretacje kultowych utworów Amy Winehouse\, łącząc elementy jazzu\, soulu i bluesa\, co nadało ich występowi wyjątkowego nastroju\, ich popularność w naszym regionie nieustannie rośnie. Formacja powstała niedawno\, ale już zdobywa uznanie za profesjonalne i emocjonalne występy. Skład: Nikola Szkodlarska – wokal\, Marek Wysocki – instrumenty klawiszowy\, Zuzanna Wesołowska – na saksofonie\, Radosław Dziakowicz – gitara\, Krzysztof Drwal Rozesłański – perkusja\, na gitarze basowej Grzegorz Dziakowicz. \n \n 
URL:https://infostargard.pl/event/jarmark-u-krolowej-swiata/
LOCATION:Rynek Staromiejski w Stargardzie
END:VEVENT
BEGIN:VEVENT
DTSTART;TZID=Europe/Helsinki:20250823T160000
DTEND;TZID=Europe/Helsinki:20250823T160000
DTSTAMP:20260420T083516
CREATED:20250812T060414Z
LAST-MODIFIED:20250820T091727Z
UID:19998-1755964800-1755964800@infostargard.pl
SUMMARY:Zielony Dzień Sąsiada w Kani
DESCRIPTION:
URL:https://infostargard.pl/event/zielony-dzien-sasiada-w-kani-2/
LOCATION:Plac przy garażach
END:VEVENT
BEGIN:VEVENT
DTSTART;TZID=Europe/Helsinki:20250823T180000
DTEND;TZID=Europe/Helsinki:20250823T180000
DTSTAMP:20260420T083516
CREATED:20250716T101316Z
LAST-MODIFIED:20250716T101325Z
UID:17657-1755972000-1755972000@infostargard.pl
SUMMARY:Klasyka Kina: Nienawiść
DESCRIPTION:Stargardzkie Centrum Kultury zaprasza na seans pt. „Nienawiść”\, organizowany w ramach cyklu Klasyka Kina. \nWydarzenie odbędzie się w sobotę. 23 sierpnia o godz. 18. Bilety w cenie 20 zł. \nKlasyka Kina to cykl\, w którym raz w miesiącu przedstawiane są najwybitniejsze filmy światowej kinematografii. Dzieła uznane przez widzów i krytyków\, podziwiane za reżyserie\, scenariusze\, kreacje aktorskie i tematykę\, która zawsze pozostaje aktualna. Ponadczasowe kino\, które tym razem wyjątkowo można obejrzeć na wielki\, ekranie. Dystrybutorem cyklu jest firma Reset. \nInformacja SCK: \nSłynny film z 1995 roku to opowieść o 24 godzinach z życia Araba Saida\, Żyda Vince’a i czarnoskórego Huberta podczas których ważą się losy młodych ludzi. To moment decydujący po burzliwej nocy podczas której policja zraniła młodego Araba a jeden z funkcjonariuszy zgubił… broń.  Charakter tego głośnego obrazu\, który krytyka uznała za “film dekady” tworzy paradokumentalny styl i niezapomniana ścieżka dźwiękowa. W jednej z głównych ról wystąpiła przyszła gwiazda francuskiego kina – Vincent Cassel. \n“Nienawiść” przyniosła 28-letniemu reżyserowi nagrodę za reżyserię na Międzynarodowym Festiwalu Filmowym w Cannes\, trzy Cezary (w tym za najlepszy film roku) a także nagrodę Europejskiej Akademii Filmowej dla najlepszego młodego europejskiego filmu roku. (Reset)
URL:https://infostargard.pl/event/klasyka-kina-nienawisc/
LOCATION:Sala nr 2 – SCK
END:VEVENT
BEGIN:VEVENT
DTSTART;TZID=Europe/Helsinki:20250823T213000
DTEND;TZID=Europe/Helsinki:20250823T213000
DTSTAMP:20260420T083516
CREATED:20250812T061657Z
LAST-MODIFIED:20250822T055347Z
UID:20021-1755984600-1755984600@infostargard.pl
SUMMARY:Kino na leżakach w Morzyczynie
DESCRIPTION:Kino na leżakach w Morzyczynie odbędzie się 23 sierpnia.  \n\n– Tym razem propozycja jest dla dorosłych – informuje Centrum Kultury i Rekreacji w Kobylance. – „Emilia Perez”. „Emilia Perez” to odważny musical kryminalny w reżyserii Jacques’a Audiarda\, który zdobył aż 13 nominacji do Oscara. Fantastyczne kino na wieczorny relaks! Serdecznie zapraszamy – tym razem do Amfiteatru w Morzyczynie! Na pewno przyda się kocyk i coś na komary . Wstęp oczywiście wolny!!\n\nPoczątek seansu godz. 21.30.\n 
URL:https://infostargard.pl/event/kino-na-lezakach-w-morzyczynie/
LOCATION:Amfiteatr w Morzyczynie
END:VEVENT
END:VCALENDAR