BEGIN:VCALENDAR
VERSION:2.0
PRODID:-//Info Stargard - ECPv6.15.20//NONSGML v1.0//EN
CALSCALE:GREGORIAN
METHOD:PUBLISH
X-ORIGINAL-URL:https://infostargard.pl
X-WR-CALDESC:Wydarzenia dla Info Stargard
REFRESH-INTERVAL;VALUE=DURATION:PT1H
X-Robots-Tag:noindex
X-PUBLISHED-TTL:PT1H
BEGIN:VTIMEZONE
TZID:Europe/Helsinki
BEGIN:DAYLIGHT
TZOFFSETFROM:+0200
TZOFFSETTO:+0300
TZNAME:EEST
DTSTART:20240331T010000
END:DAYLIGHT
BEGIN:STANDARD
TZOFFSETFROM:+0300
TZOFFSETTO:+0200
TZNAME:EET
DTSTART:20241027T010000
END:STANDARD
BEGIN:DAYLIGHT
TZOFFSETFROM:+0200
TZOFFSETTO:+0300
TZNAME:EEST
DTSTART:20250330T010000
END:DAYLIGHT
BEGIN:STANDARD
TZOFFSETFROM:+0300
TZOFFSETTO:+0200
TZNAME:EET
DTSTART:20251026T010000
END:STANDARD
BEGIN:DAYLIGHT
TZOFFSETFROM:+0200
TZOFFSETTO:+0300
TZNAME:EEST
DTSTART:20260329T010000
END:DAYLIGHT
BEGIN:STANDARD
TZOFFSETFROM:+0300
TZOFFSETTO:+0200
TZNAME:EET
DTSTART:20261025T010000
END:STANDARD
END:VTIMEZONE
BEGIN:VEVENT
DTSTART;TZID=Europe/Helsinki:20250622T160000
DTEND;TZID=Europe/Helsinki:20250824T160000
DTSTAMP:20260420T083546
CREATED:20250620T070425Z
LAST-MODIFIED:20250620T073757Z
UID:15142-1750608000-1756051200@infostargard.pl
SUMMARY:II Mariackie Koncerty Muzyki Organowej
DESCRIPTION:II Mariackie Koncerty Muzyki Organowej i Kameralnej 2025 \n22.06.2025-24.08.2025\nWstęp wolny!\nMiejsce: Kolegiata pw. Najświętszej Maryi Panny Królowej Świata\n22.06. / 16:00 \nBogdan Narloch- organy\n\nIrena Davidson – harfa\n\nLindsay Davidson (Szkocja)\n06.07. / 16:00 \nKarol Hilla – organy\n\nZespół muzyki dawnej „Consortium Sedinum”\n\nMikołaj Zgółka – skrzypce barokowe\n\nJustyna Młynarczyk – viola da gamba\n\nUrszula Stawicka – klawesyn\n20.07. / 16:00 \nElżbieta Budnik – orgny\n\nWiktor Łyjak – organy\n\nZespół muzyki cerkiewnej „Partes” (Ukraina)\n\nSerhiy Bida – tenor\, dyrygent\n\nOlena Tsygankova – alt\n\nVasyl Huliak – tenor\n\nKostiantyn Lenchyk – bas\n\nIvan Yarems – bas\n03.08. / 16:00 \n„Stuttgarter Barock Collegium”\n\nMarcus Raiser (Niemcy) – organy\n\nEckhard Schmidt\, Rudi Scheck (Niemcy) – trąbki\, rogi myśliwskie\n\n24.08. / 16:00 \nAgnieszka Radwan-Stefańska – organy\n\nMarek Stefański – organy\n\nJan Jakub Bokun – klarnet\n\nJakub Kościuszko – gitara\nOrganizatorzy: Miasto Stargard\, Stargardzkie Centrum Kultury\, Parafia pw. NMP Królowej Świata w Stargardzie \nKierownictwo artystyczne: Bogdan Narloch \nProwadzenie koncertów: Damian Grabowski \nKoncerty finansuje Urząd Miejski w Stargardzie.
URL:https://infostargard.pl/event/ii-mariackie-koncerty-muzyki-organowej/
LOCATION:kościół NMP KŚ
END:VEVENT
BEGIN:VEVENT
DTSTART;TZID=Europe/Helsinki:20250804T000000
DTEND;TZID=Europe/Helsinki:20250828T000000
DTSTAMP:20260420T083546
CREATED:20250806T060041Z
LAST-MODIFIED:20250806T060232Z
UID:19326-1754265600-1756339200@infostargard.pl
SUMMARY:Plan pracy PZERiI na sierpień 25
DESCRIPTION:
URL:https://infostargard.pl/event/plan-pracy-pzerii-na-sierpien-25/
END:VEVENT
BEGIN:VEVENT
DTSTART;TZID=Europe/Helsinki:20250806T000000
DTEND;TZID=Europe/Helsinki:20250828T000000
DTSTAMP:20260420T083546
CREATED:20250731T070512Z
LAST-MODIFIED:20250802T051613Z
UID:18863-1754438400-1756339200@infostargard.pl
SUMMARY:Sierpień w Książnicy Stargardzkiej
DESCRIPTION:
URL:https://infostargard.pl/event/sierpien-w-ksiaznicy-stargardzkiej/
LOCATION:Książnica Stargardzka
END:VEVENT
BEGIN:VEVENT
DTSTART;TZID=Europe/Helsinki:20250808T000000
DTEND;TZID=Europe/Helsinki:20250817T000000
DTSTAMP:20260420T083546
CREATED:20250731T071551Z
LAST-MODIFIED:20250802T051552Z
UID:18866-1754611200-1755388800@infostargard.pl
SUMMARY:52. Ińskie Lato Filmowe 2025: program\, wydarzenia towarzyszące\, bajki dla dzieci
DESCRIPTION:Ińskie Lato Filmowe odbędzie się od 8 do 17 sierpnia 2025 roku w Ińsku.  \nProgram festiwalu obejmie około 80 projekcji filmowych oraz wydarzenia towarzyszące\, takie jak spotkania z twórcami\, debaty\, wystawy\, spacery edukacyjne\, koncerty\, prelekcje i wykłady.  \nPrzewidziane są dyskusje po seansach\, a na festiwal przyjedzie około 30 gości\, w tym reżyserzy i aktorzy. Swój udział w imprezie potwierdzili m.in. Maria Zbąska ( reżyserka – „To nie mój film”)\, Piotr Dumała (reżyser)\, Dominika Montean-Pańkow (reżyserka – „Skrzyżowanie”)\, Anna Romantowska (aktorka – „Skrzyżowanie”)\, Marcin Sztabiński (aktor – „To nie mój film”)\, Kamila Tarabura (reżyserka – „Rzeczy niezbędne”)\, Krzysztof Globisz (aktor – „Pieśń wieloryba”)\, Michał Hytroś (reżyser – „Pieśń wieloryba”)\, Joanna Ratajczak (reżyserka – „Zaufaj mi”)… \n  \nHarmonogram wydarzeń: \n8 sierpnia (piątek)\n19.00 – INAUGURACJA FESTIWALU:  „Pieśń wieloryba” . Projekcja filmu z udziałem reżysera Michała Hytrosia i bohatera filmu Krzysztofa Globisza (Kino Morena) (X) \n21.15 – Nowe kino polskie: „Pieśń wieloryba” – (Kino Morena) (K) – 64 min \n21.15 – Kino plenerowe: „A oni dalej grzeszą\, dobry Boże” – (Gospodarstwo Rybackie) (B) – 99 min \n9 sierpnia (sobota)  \n9.00 – Bajki dla dzieci:  „Dzielna banda i tajemnica wujka” (Kino Morena) (B) – 82 min \n11.00 – Bliżej natury:  Spacer z entomologiem Grzegorzem Michońskim (start z plaży przy molo na ul. Słonecznej) (Z) \n11.00 – Dokumenty świata-obrazy współczesności:  „2000 metrów do Andrijiwki” (Kino Morena) (K) – 107 min \n13.00 – Nowe kino polskie: „Teściowie 3” (Kino Morena) (K) – 117 min \n13.00 – KSIĘGARNIA W O.MEDZE: Spotkanie z Szymonem Drobniakiem\, autorem książki „Gęsi odpoczywają na Gotlandii” (Galeria O.Mega) – (B) \n16.00 – Nowe kino polskie: „Teściowie 3” (Kino Morena) (K) – 117 min \n16.00  – Sezon 2024/2025: „Nasienie świętej figi” (Jaskinia zapomnianych snów) (K) – 158 min \n19.00 –  Spotkanie z reżyserem filmu „Pieśń wieloryba” Michałem Hytrosiem i bohaterem filmu Krzysztofem Globiszem. Prowadzenie: Krzysztof Spór (Gospodarstwo Rybackie) (B) \n20.15 –  Nowe kino polskie: „Silver”. Po projekcji spotkanie z reżyserką Natalią Koniarz i operatorem Stasiem Cuske. Prowadzenie: Krzysztof Spór (Kino Morena) (K)  – 78 min \n20.00 – Sezon 2024/2025: „Punkty zwrotne” (Jaskinia Zapomnianych Snów) (K) –  90 min \n22.00 – SILENT DISCO (Plac przed kinem Morena) (K) \n10 sierpnia (niedziela)         \n9.00 –  Bajki dla dzieci: „Heidi ratuje rysia” (Kino Morena) (B)  – 79 min \n10.45 – Otwarcie sceny muzycznej Kamienna Buczyna. Koncert Compadres (start z plaży przy ulicy Słonecznej) (K) \n10.45 – Dookoła świata: „Sirat” (Kino Morena) (K) – 120 min \n13.00 – Filmoterapia: „Rzeczy niezbędne”. Po projekcji spotkanie z udziałem reżyserki Kamili Tarabury. Prowadzenie: Monika Borzym (Kino Morena) (K) \n13.00 – KSIĘGARNIA W O.MEDZE: Spotkanie z Pawłem Mościckim\, autorem książki „Gaza. Rzecz o eksterminacji” (Galeria O.Mega) (B) \n16.00  – Nowe kino polskie: „Dziecko z pyłu”. Po projekcji spotkanie z reżyserką filmu Weroniką Mliczewską. Prowadzenie: Krzysztof Spór (Kino Morena) (K) – 90 min \n16.00  – Sezon 2024/2025: „Sanatorium pod Klepsydrą według braci Quai” (Jaskinia Zapomnianych Snów) (K) – 75 min \n20.00 – Sezon 2024/2025: „Niech płonie”  (Kino Morena) (K) – 105 min \n20.00 – Dokumenty świata – obrazy współczesności:  „Pan Nikt kontra Putin” (Jaskinia Zapomnianych Snów) (K)  –  90 min \n21.00 – OGNIEM I BLACHĄ (ognisko przy bazie nurkowej) (B) \n11 sierpnia (poniedziałek)\n09.00 – Bajki dla dzieci: „Felek i Tola ratują las” (Kino Morena) (B) – 70 min \n11.00 – „Ińsko i jego mieszkańcy. Pamięć zapisana w kadrach”. Spacer z Teresą Furman i Przemkiem Lewandowskim szlakiem wystawy (start spod wieży widokowej w Ińsku) (B) \n11.00  – Nowe kino polskie:  „Zapaleńcy. Historia polskiego filmu animowanego”. Po projekcji spotkanie z producentem Januszem Skałkowskim. Prowadzenie: Krzysztof Spór (Kino Morena) – 89 min \n13.00  – Dookoła świata: „8 widoków na jezioro Biwa” (Kino Morena) (K) – 126 min \n13.00  – KSIĘGARNIA W O.MEDZE: Spotkanie autorskie z Barbarą Elmanowską\, autorką książki „Woliera”. Prowadzenie: Joanna Cybruch (Galeria O.Mega) (B) \n16.00 – Filmoterapia: „Zaufaj mi” (Kino Morena) (K) – Po projekcji spotkanie z udziałem reżyserki Joanny Ratajczak oraz bohaterów dokumentu Alicji i Sebastiana Rost. Prowadzenie: Monika Borzym – 90 min \n16.00  – Dookoła świata: „Grand Tour” (Jaskinia Zapomnianych Snów) (K)- 129 min \n20.00  – Sezon 2024/2025: „Follemente” (Kino Morena) (K) – 97 min \n20.00 – Dokumenty świata – obrazy współczesności: „Yintah” (Jaskinia Zapomnianych Snów) (K) – 125 min \n22.00 –  KONCERT: „Ciśnienie” (Kino Morena) (K) \n12 sierpnia (wtorek)\n9.00 – Bajki dla dzieci: „Elfy rozrabiają” (Kino Morena) (B) – 76 min \n10.00 – Wycieczka do Drawieńskiego Parku Narodowego (wyjazd autobusem spod kina Morena) (Z) \n11.00 – WOKÓŁ BAŁTYKU – KONKURS FILMOWY:  „Nude”\, „Crying_1”\, „Oda do lasu”\, „Tsentrum”\, „Jeżyki”\, „Karl Gustaw”\, „Happy Things”\, „Na krzywe łby”\, „Rosół z kaczki”\, „Natsukashi”\, „Za zimno na burzę” (Kino Morena) (K) – 94 min \n13.00  – Przegląd Filmów Australijskich: „Back of Beyond”. Wprowadzenie: Marek Tomalik (Kino Morena) (K) – 66 min \n13.00  – POMERANIKA:  „SHORASHIM”. Po projekcji spotkanie z twórcami filmu Kingą Konieczny i Pawłem Sroką. Prowadzenie: Katarzyna Rembacka. (O.Mega) (B) –  60 min \n16.00 – Nowe Kino Polskie:  „Wrooklyn Z00” (Kino Morena) (K) – 128 min \n16.00 – Dokumenty świata: „Akta Bibiego” (Jaskinia Zapomnianych Snów) (K) – 115 min \n19.30 – Przegląd Filmów Australijskich:  „Kraina Charliego” (Kino Morena) (K) – 108 min \n19.30 –  Sezon 2024/2025: „Drugi akt” (Jaskinia Zapomnianych Snów) (K) – 80 min \n22.00 – Teatr Impro Szczecin – TEATR IMPROWIZOWANY (Kino Morena) (K) \n13 sierpnia (środa)  \n09:00 – Bajki dla dzieci: „Królestwo Kensuke” (Kino Morena) (B) – 85 min \n11.00  – Spotkanie i spacer nad Inę ze Zbigniewiem Mieczkowskim – autorem monografii rzek Drawy\, Regii oraz Iny (start w O.Medze) (Z) \n11.00 – Przegląd Filmów Australijskich: „My Name is Gulpilil”. Wstęp Marek Tomalik (Kino Morena) (K) – 101 min \n13.00 – POMERANIKA – „Imperium Stoewerów. Od pralki do limuzyny” Po projekcji spotkanie z twórczynią filmu Heleną Kwiatkowską. Prowadzenie: Katarzyna Rembacka (Kino Morena) (K) – 45 min \n13. 00 – PREZENTACJA MULTIMEDIALNA: Michał Jędrzejczyk „Opowieści Bałtyckie” (Galeria O.Mega) (B) \n13.00 – „Cięcie 2 – warsztaty literackie do filmów Bohdana Kowalskiego” (Galeria O.Mega – sala warsztatowa) (W) \n16.00  – Nowe kino polskie: „To nie mój film” (Kino Morena) (K) – 99 min \n16.00  – Dookoła świata: „Shambhala” (Jaskinia Zapomnianych Snów) (K) – 150 min \n19.00  – Spotkanie z twórcami filmu „To nie mój film” – reżyserką Marią Zbąską i aktorem Marcinem Sztabińskim. Prowadzenie: Krzysztof Spór (Gospodarstwo Rybackie)(B) \n20.00 – Sezon 2024/2025: „To był zwykły przypadek” (Kino Morena) (K) – 105 min \n20.00 – Dookoła świata: „Przypływy” (Jaskinia Zapomnianych Snów) (K) –  111 min \n22.00 – KONCERT: „Subbumboo” (Scena przed kinem Morena)(B) \n21.15 – Kino plenerowe: „Milionerzy” (Gospodarstwo Rybackie) (B) – 103 min \n14 sierpnia (czwartek)         \n09.00 – Bajki dla dzieci: „Smok Diplodok” (Kino Morena) (B) – 93 min \n11.00 – Bliżej natury: Ornitologiczny spacer z Jackiem Karczewskim (start przy kinie Morena) (Z) \n11.00 – Szkoły filmowe prezentują: Katedra Filmu Eksperymentalnego Akademii Sztuki w Szczecinie\, Akademia Sztuk Pięknych w Norymberdze\, Grupa ANIMUSZ z Uniwersytetu Artystycznego im. Magdaleny Abakanowicz w Poznaniu (Kino Morena) (K) \n13.00 – Nowe kino polskie: „Skrzyżowanie” (Kino Morena) (K) – 99 min \n13.00 – POMERANIKA: Andrzej Zadworny „Heweliusz”. Prowadzenie: Kasia Rembacka i Krzysztof Spór (Galeria O.Mega) (B) \n13.00 – „Cięcie 2 – warsztaty literackie do filmów Bohdana Kowalskiego” (Galeria O.Mega – sala warsztowa) (W) \n16.00 – Nowe kino polskie: „Skrzyżowanie” (Kino Morena) (K)- 99 min \n16.00 –  Przegląd Filmów Australijskich: „Limbo” (Jaskinia Zapomnianych Snów) (K) –  108 min \n19.00  – Spotkanie z twórcami filmu „Skrzyżowanie”\,  reżyserką Dominiką Montean – Pańkow i aktorką Anną Romantowską. Prowadzenie: Krzysztof Spór (Gospodarstwo Rybackie) (B) \n20.00 – Sezon 2024/2025: „Paw zwyczajny” (Kino Morena) (K) – 102 min \n20.00 – Pokaz specjalny: „Rega Axis Mundi” (Jaskinia Zapomnianych Snów) (B) \n22.00 – KONCERT: JULIA ROVER (Galeria O.Mega) (K) \n21.15 – Kino plenerowe: „Pieprzyć Mickiewicza 2” (Gospodarstwo Rybackie) (B) – 102 min \n15 sierpnia (piątek)\n9:00  – „Ozi: głos deszczowego lasu” (Kino Morena) (K) – 87 min \n11.00 – Spotkanie i spacer po Ińsku z Mietkiem Drewniakiem. Opowieści o dawnym Ińsku (O.Mega) (B) \n11.00 – Przegląd Kina Australijskiego: „Tracker” (Kino Morena) (K) – 90 min \n13.00 – Nowe kino polskie: „Pociągi”. Po projekcji spotkanie z reżyserem Maciejem Drygasem (Kino Morena) (K) – 80 min \n16.00 – Nowe kino polskie: „Pociągi”. Po projekcji spotkanie z reżyserem Maciejem Drygasem (Kino Morena) (K) – 80 min \n16.00 – Sezon 2024/2025: „Stan wyjątkowy” (Jaskinia Zapomnianych Snów) (K) – 100 min \n18.00 – „Cięcie 2 – powarsztatowe występy literackie do filmów Bohdana Kowalskiego” (Galeria O.Mega) (B) \n20.00  – Nowe kino polskie: „Kompleta”.  Po projekcji spotkanie z Magdą Hueckel i Tomkiem Śliwińskim. Prowadzenie: Krzysztof Spór (Kino Morena) (K) – 66 min \n20.00 – Sezon 2024/2025: „Kąpiel diabła” (Jaskinia Zapomnianych Snów) (K) – 121 min \n21.30 – Ińskie Fale Dźwięku – selekcja muzyczna na dwa gramofony i jeden mikser\, Stargardzka Giełda Płytowa (Galeria O.Mega) (B) \n22.00 – „Leśmian/Relaks” (Park przy wieży widokowej) (B) \n16 sierpnia (sobota)                                              \n11.00 – Spotkanie z artystą plastykiem Jarkiem Koziarą (Galeria O.Mega) (B) \n11.00 – Piotr Dumała prezentuje: „Biały pokój” + „Las” (Kino Morena) (K) – 94 min \n13.00 – Dookoła świata: „Zmartwychwstanie” (Kino Morena) (K) – 160 min \n13.00 – Spotkanie autorskie z reżyserem\, malarzem i poetą Piotrem Dumałą. Prowadzenie: Krzysztof Spór (Galeria O.Mega) (B) \n16.00 – Przegląd Kina Australijskiego: „Piknik pod Wiszącą Skałą”. Wprowadzenie: Krzysztof Spór (Kino Morena) (K) – 110 min \n16.00 – Nowe kino polskie: „Najgłupsza płyta świata” (Jaskinia Zapomnianych Snów) (K) – 72 min \n19.00  – Zakończenie festiwalu:  „Szkoda\, że nareszcie”. (Kino Morena) (K) – 93 min \n21.00  – Urodziny Budynia PROLOG – Zuzanna  Wrońska Superstar (Scena przed kinem Morena) (B) \n17 sierpnia (niedziela)\n10.00 – Projekcja filmu nagrodzonego Złotą Rybką (Kino Morena) (K) \n12.15 – Urodziny Budynia – SEKCJA FILMOWA: „Poniedziałek: Paprotka”\, „Szkoda\, że nareszcie” (Kino Morena) (K) – 108 min \n14.15 – Urodziny Budynia – KONCERTY: „franznieferdinand”\,  „BIFF” (Fochman + Brachaczek)\, „Bajzel”\, „Rabeatz”… (Scena przed kinem Morena) (B) \nNiżej na plakacie wieczorne imprezy towarzyszące:   \n \nPodczas festiwalu nie zabraknie projekcji dla najmłodszych: \n \n  \n  \n  \n  \n  \n  \n  \n  \n  \n  \n  \n  \n  \n  \n  \n  \n  \n  \n  \n  \n  \n  \n  \n  \nNa wydarzenia w ramach ILF zaprasza galeria O.Mega:
URL:https://infostargard.pl/event/52-inskie-lato-filmowe-2025/
LOCATION:Ińsko: kino Morena\, Galeria O.Mega\, Gospodarstwo Rybackie\, plener
END:VEVENT
BEGIN:VEVENT
DTSTART;TZID=Europe/Helsinki:20250815T000000
DTEND;TZID=Europe/Helsinki:20250817T000000
DTSTAMP:20260420T083546
CREATED:20250811T091026Z
LAST-MODIFIED:20250811T091026Z
UID:19959-1755216000-1755388800@infostargard.pl
SUMMARY:III Weekend Otwartych Winnic Pomorza Zachodniego
DESCRIPTION:W najbliższy weekend (15-17 sierpnia) zachodniopomorskie winnice otworzą swoje bramy\, zamieniając się w miejsca pikników i spotkań miłośników wina.  \nW ramach III edycji Weekendu Otwartych Winnic Pomorza Zachodniego aż 17 winnic zaprosi mieszkańców i turystów do swoich malowniczych terenów. Odwiedzający będą mogli liczyć na wyjątkowe spotkania z winiarzami\, degustacje\, spacery wśród winorośli oraz liczne atrakcje towarzyszące. \nPrzez trzy dni – od piątku do niedzieli – winiarze oprowadzać będą gości po swoich winnicach\, opowiadając o procesie powstawania wina. Nie zabraknie też degustacji\, pysznych potraw i dobrej zabawy. To doskonała okazja\, aby spędzić letni weekend wśród winorośli z kieliszkiem lokalnego trunku. W tym roku otwartych będzie aż 17 winnic – o dwie więcej niż podczas poprzedniej edycji. \n– Coraz liczniejsze winnice stają się wizytówką naszego regionu\, przyciągając turystów i miłośników wina z całej Polski. Weekend Otwartych Winnic to doskonała okazja\, by spotkać pasjonatów wina\, poczuć klimat naszych winnic i spędzić czas wśród natury. Zapraszamy wszystkich do wspólnej zabawy i odkrywania smaków Pomorza Zachodniego – mówi Marszałek Województwa Zachodniopomorskiego\, Olgierd Geblewicz. \nW wydarzeniu udział biorą: \n\nWinnica BARD\nWinnica Bekasiak\nWinnica de Lewin\nWinnica Dębowe Szepty\nWinnica Binowo (Winnica GRABOWSKI)\nWinnica Gwda Mała (debiut)\nWinnica Invictus\nWinnica Jassa\nWinnica JULO Szczecin (debiut)\nWinnice Kojder\nWinnica Korzen\nWinnica Molias\nWinnica Pałac Rajkowo & Dwór Białe Wino\nWinnica Sydonia\nLeśny Dworek Winnica (Winnica SZUBERT – Darłowo)\nWinnica Turnau\nWinnica Zodiak\n\nKażda winnica przygotowała własny program i atrakcje towarzyszące – od koncertów i warsztatów po specjalne menu degustacyjne. Szczegółowy harmonogram godzin otwarcia i opis atrakcji dostępne będą na profilach poszczególnych winnic oraz na profilu Winnice Pomorza Zachodniego\, które regularnie udostępnia aktualne informacje o wydarzeniu. Warto zabrać ze sobą koc lub leżak. \nLink do wydarzenia: https://www.facebook.com/events/1643555919569475/?active_tab=discussion \nOrganizatorem jest Stowarzyszenie Winnice Pomorza Zachodniego oraz Województwo Zachodniopomorskie. \nWstęp do winnic jest bezpłatny i nie wymaga wcześniejszych rezerwacji. \nInf. organizatorzy
URL:https://infostargard.pl/event/iii-weekend-otwartych-winnic-pomorza-zachodniego/
LOCATION:Winnica Sydonia
END:VEVENT
BEGIN:VEVENT
DTSTART;TZID=Europe/Helsinki:20250815T110000
DTEND;TZID=Europe/Helsinki:20250815T110000
DTSTAMP:20260420T083546
CREATED:20250812T124842Z
LAST-MODIFIED:20250812T124842Z
UID:20077-1755255600-1755255600@infostargard.pl
SUMMARY:II edycja Polówka 25
DESCRIPTION:
URL:https://infostargard.pl/event/ii-edycja-polowka-25/
LOCATION:boisko w Dzwonowie
END:VEVENT
BEGIN:VEVENT
DTSTART;TZID=Europe/Helsinki:20250815T190000
DTEND;TZID=Europe/Helsinki:20250815T190000
DTSTAMP:20260420T083546
CREATED:20250813T063033Z
LAST-MODIFIED:20250813T064602Z
UID:20091-1755284400-1755284400@infostargard.pl
SUMMARY:Pyrzyce zabrzmią muzyką „Mistrzów Europy”
DESCRIPTION:15 sierpnia o godz. 19:00 w kościele pw. Wniebowzięcia NMP w Pyrzycach wystąpi wybitny organista Karol Gołębiowski – laureat międzynarodowych konkursów\, profesor Uniwersytetu Jana Kochanowskiego w Kielcach i artysta o europejskiej renomie. \nW programie koncertu „Mistrzowie Europy” znajdą się utwory od renesansowej Tabulatury Jana z Lublina po romantyczne dzieła Karg-Elerta i gotycką toccatę Boëllmana. Publiczność usłyszy także barokowe arcydzieła Bacha i królewską suitę Romana pisaną na ślub szwedzkiego monarchy. \nGołębiowski\, kształcony m.in. w Warszawie\, Genewie i Brukseli u takich mistrzów jak Joachim Grubich czy Lionel Rogg\, koncertował w całej Europie\, a także w Izraelu i Libanie. Jego interpretacje łączą techniczną precyzję z głęboką ekspresją. \nArtysta zagra na 35-głosowych organach sprowadzonych do Pyrzyc w 2021 r. z Berlina – jednym z największych instrumentów Pomorza Zachodniego\, służącym parafii od połowy 2023 r. \n–Wydarzenie otworzy tegoroczną edycję festiwalu Nastrojone Pyrzyce\, organizowanego przez parafię św. Ottona i stowarzyszenie Kierunek Pyrzyce – informuje Remigiusz Pajor-Kubicki\, przewodniczący stowarzyszenia. \nDrugi koncert odbędzie się we wrześniu. Festiwal wspiera program „Społecznik na 5” oraz Wojewódzki Urząd Ochrony Zabytków. \nWstęp wolny. Początek o godz. 19:00.
URL:https://infostargard.pl/event/pyrzyce-zabrzmia-muzyka-mistrzow-europy/
LOCATION:kościół w Pyrzycach
END:VEVENT
BEGIN:VEVENT
DTSTART;TZID=Europe/Helsinki:20250815T210000
DTEND;TZID=Europe/Helsinki:20250815T210000
DTSTAMP:20260420T083546
CREATED:20250727T070015Z
LAST-MODIFIED:20250812T125858Z
UID:18555-1755291600-1755291600@infostargard.pl
SUMMARY:Kino w Parku pod Gwiazdą - "Konklawe"
DESCRIPTION: 
URL:https://infostargard.pl/event/kino-w-parku-pod-gwiazda-konklawe/
LOCATION:Teatr Letni w Parku Chrobrego
END:VEVENT
END:VCALENDAR