BEGIN:VCALENDAR
VERSION:2.0
PRODID:-//Info Stargard - ECPv6.15.20//NONSGML v1.0//EN
CALSCALE:GREGORIAN
METHOD:PUBLISH
X-WR-CALNAME:Info Stargard
X-ORIGINAL-URL:https://infostargard.pl
X-WR-CALDESC:Wydarzenia dla Info Stargard
REFRESH-INTERVAL;VALUE=DURATION:PT1H
X-Robots-Tag:noindex
X-PUBLISHED-TTL:PT1H
BEGIN:VTIMEZONE
TZID:Europe/Helsinki
BEGIN:DAYLIGHT
TZOFFSETFROM:+0200
TZOFFSETTO:+0300
TZNAME:EEST
DTSTART:20240331T010000
END:DAYLIGHT
BEGIN:STANDARD
TZOFFSETFROM:+0300
TZOFFSETTO:+0200
TZNAME:EET
DTSTART:20241027T010000
END:STANDARD
BEGIN:DAYLIGHT
TZOFFSETFROM:+0200
TZOFFSETTO:+0300
TZNAME:EEST
DTSTART:20250330T010000
END:DAYLIGHT
BEGIN:STANDARD
TZOFFSETFROM:+0300
TZOFFSETTO:+0200
TZNAME:EET
DTSTART:20251026T010000
END:STANDARD
BEGIN:DAYLIGHT
TZOFFSETFROM:+0200
TZOFFSETTO:+0300
TZNAME:EEST
DTSTART:20260329T010000
END:DAYLIGHT
BEGIN:STANDARD
TZOFFSETFROM:+0300
TZOFFSETTO:+0200
TZNAME:EET
DTSTART:20261025T010000
END:STANDARD
END:VTIMEZONE
BEGIN:VEVENT
DTSTART;TZID=Europe/Helsinki:20250622T160000
DTEND;TZID=Europe/Helsinki:20250824T160000
DTSTAMP:20260420T083515
CREATED:20250620T070425Z
LAST-MODIFIED:20250620T073757Z
UID:15142-1750608000-1756051200@infostargard.pl
SUMMARY:II Mariackie Koncerty Muzyki Organowej
DESCRIPTION:II Mariackie Koncerty Muzyki Organowej i Kameralnej 2025 \n22.06.2025-24.08.2025\nWstęp wolny!\nMiejsce: Kolegiata pw. Najświętszej Maryi Panny Królowej Świata\n22.06. / 16:00 \nBogdan Narloch- organy\n\nIrena Davidson – harfa\n\nLindsay Davidson (Szkocja)\n06.07. / 16:00 \nKarol Hilla – organy\n\nZespół muzyki dawnej „Consortium Sedinum”\n\nMikołaj Zgółka – skrzypce barokowe\n\nJustyna Młynarczyk – viola da gamba\n\nUrszula Stawicka – klawesyn\n20.07. / 16:00 \nElżbieta Budnik – orgny\n\nWiktor Łyjak – organy\n\nZespół muzyki cerkiewnej „Partes” (Ukraina)\n\nSerhiy Bida – tenor\, dyrygent\n\nOlena Tsygankova – alt\n\nVasyl Huliak – tenor\n\nKostiantyn Lenchyk – bas\n\nIvan Yarems – bas\n03.08. / 16:00 \n„Stuttgarter Barock Collegium”\n\nMarcus Raiser (Niemcy) – organy\n\nEckhard Schmidt\, Rudi Scheck (Niemcy) – trąbki\, rogi myśliwskie\n\n24.08. / 16:00 \nAgnieszka Radwan-Stefańska – organy\n\nMarek Stefański – organy\n\nJan Jakub Bokun – klarnet\n\nJakub Kościuszko – gitara\nOrganizatorzy: Miasto Stargard\, Stargardzkie Centrum Kultury\, Parafia pw. NMP Królowej Świata w Stargardzie \nKierownictwo artystyczne: Bogdan Narloch \nProwadzenie koncertów: Damian Grabowski \nKoncerty finansuje Urząd Miejski w Stargardzie.
URL:https://infostargard.pl/event/ii-mariackie-koncerty-muzyki-organowej/
LOCATION:kościół NMP KŚ
END:VEVENT
BEGIN:VEVENT
DTSTART;TZID=Europe/Helsinki:20250801T000000
DTEND;TZID=Europe/Helsinki:20250810T000000
DTSTAMP:20260420T083515
CREATED:20250804T115834Z
LAST-MODIFIED:20250804T115834Z
UID:19250-1754006400-1754784000@infostargard.pl
SUMMARY:XXIII Warsztaty Artystyczne SAIE
DESCRIPTION:
URL:https://infostargard.pl/event/xxiii-warsztaty-artystyczne-saie/
LOCATION:Nad Miedwiem
END:VEVENT
BEGIN:VEVENT
DTSTART;TZID=Europe/Helsinki:20250803T100000
DTEND;TZID=Europe/Helsinki:20250803T120000
DTSTAMP:20260420T083515
CREATED:20250801T083123Z
LAST-MODIFIED:20250802T053127Z
UID:18974-1754215200-1754222400@infostargard.pl
SUMMARY:Joga przy DKK
DESCRIPTION:Darmowe zajęcia przy Domu Kultury Kolejarza w Stargardzie odbywają się w wakacje w każdą niedzielę o godzinie 10. Godzinę później mogą z nich korzystać rodzice\, w tym czasie ich pociechami zajmują się wolontariuszki. Jogę prowadzi Fundacja Równowagi – Szkoła Jogi.\nWstęp na to wydarzenie jest darmowy.
URL:https://infostargard.pl/event/joga-przy-dkk/
END:VEVENT
BEGIN:VEVENT
DTSTART;TZID=Europe/Helsinki:20250803T120000
DTEND;TZID=Europe/Helsinki:20250803T190000
DTSTAMP:20260420T083515
CREATED:20250731T174221Z
LAST-MODIFIED:20250802T051739Z
UID:18900-1754222400-1754247600@infostargard.pl
SUMMARY:Festiwal dmuchańców
DESCRIPTION:Zapraszamy na PLENEROWY FESTIWAL DMUCHAŃCÓW ! \nNajwiększa tego typu impreza w Polsce odbędzie się już 3 sierpnia 2025 \, Przy MDK w Parku Chrobrego \nCzekać na Was będą: Dmuchane Zamki\, Dmuchane Zjeżdżalnie\, Dmuchane Place Zabaw\, Tor Przeszkód\, Strefa słodkości\nŚwietna zabawa gwarantowana! \n Ceny biletów:1h – 40 zł\,Bilet całodniowy – 69 zł.Bilety obowiązują wyłącznie dzieci!Opiekunowie wchodzą bezpłatniei nie korzystają z dmuchańców ! \nTermin: 3 sierpnia – 12:00 – 19:00\,Przy MDK w Parku Chrobrego\nZapraszamy całymi rodzinami Cały dzień z dmuchańcami Ale będzie zabawa!\nInf. organizatora
URL:https://infostargard.pl/event/festiwal-dmuchancow/
LOCATION:Teren przy MDK
END:VEVENT
BEGIN:VEVENT
DTSTART;TZID=Europe/Helsinki:20250803T160000
DTEND;TZID=Europe/Helsinki:20250803T160000
DTSTAMP:20260420T083515
CREATED:20250708T044512Z
LAST-MODIFIED:20250802T051722Z
UID:17004-1754236800-1754236800@infostargard.pl
SUMMARY:II Mariackie Koncerty Muzyki Organowej i Kameralnej 2025
DESCRIPTION:
URL:https://infostargard.pl/event/ii-mariackie-koncerty-muzyki-organowej-i-kameralnej-2025-3/
LOCATION:Kolegiata NMP KŚ
END:VEVENT
BEGIN:VEVENT
DTSTART;TZID=Europe/Helsinki:20250803T170000
DTEND;TZID=Europe/Helsinki:20250803T170000
DTSTAMP:20260420T083515
CREATED:20250731T180050Z
LAST-MODIFIED:20250802T051657Z
UID:18909-1754240400-1754240400@infostargard.pl
SUMMARY:Holi Magia Kolorów
DESCRIPTION:3 sierpnia\, start 17:00\, Przy MDK w Parku Chrobrego\n 𝗪𝗦𝗧𝗘̨𝗣 𝗕𝗘𝗭𝗣Ł𝗔𝗧𝗡𝗬 \n𝙋𝙧𝙯𝙮𝙜𝙤𝙩𝙤𝙬𝙖𝙡𝙞𝙨́𝙢𝙮 𝙙𝙡𝙖 𝙒𝙖𝙨: Kolorowe PROSZKI HOLI Wyrzuty kolorowych chmur Bazooki CO2 aby więcej proszku Holi unosiło się w powietrzu\nPrzyjdź z przyjaciółmi na tą niepowtarzalną imprezę przeżyj niezapomniane chwile\, obrzucaj się kolorowymi holi \nPamiętajcie\, im więcej ludzi tym lepszy klimat\,który Wy będziecie tworzyć dlatego zapraszajcie swoich znajomych i pomóżcie nam dotrzeć do wszystkich\nHoli jest dla wszystkich\, bez ograniczeń wiekowych \nNie może Was tam zabraknąć\n𝗪 𝗦𝗞𝗥𝗢́𝗖𝗜𝗘  3 sierpnia start 17:00 Przy MDK w Parku Chrobrego Wstęp bezpłatny\nZe względów bezpieczeństwa na teren imprezy obowiązuje zakaz wnoszenia własnych proszków.\ninf. organizatora
URL:https://infostargard.pl/event/holi-magia-kolorow/
END:VEVENT
END:VCALENDAR