BEGIN:VCALENDAR
VERSION:2.0
PRODID:-//Info Stargard - ECPv6.15.20//NONSGML v1.0//EN
CALSCALE:GREGORIAN
METHOD:PUBLISH
X-WR-CALNAME:Info Stargard
X-ORIGINAL-URL:https://infostargard.pl
X-WR-CALDESC:Wydarzenia dla Info Stargard
REFRESH-INTERVAL;VALUE=DURATION:PT1H
X-Robots-Tag:noindex
X-PUBLISHED-TTL:PT1H
BEGIN:VTIMEZONE
TZID:Europe/Helsinki
BEGIN:DAYLIGHT
TZOFFSETFROM:+0200
TZOFFSETTO:+0300
TZNAME:EEST
DTSTART:20240331T010000
END:DAYLIGHT
BEGIN:STANDARD
TZOFFSETFROM:+0300
TZOFFSETTO:+0200
TZNAME:EET
DTSTART:20241027T010000
END:STANDARD
BEGIN:DAYLIGHT
TZOFFSETFROM:+0200
TZOFFSETTO:+0300
TZNAME:EEST
DTSTART:20250330T010000
END:DAYLIGHT
BEGIN:STANDARD
TZOFFSETFROM:+0300
TZOFFSETTO:+0200
TZNAME:EET
DTSTART:20251026T010000
END:STANDARD
BEGIN:DAYLIGHT
TZOFFSETFROM:+0200
TZOFFSETTO:+0300
TZNAME:EEST
DTSTART:20260329T010000
END:DAYLIGHT
BEGIN:STANDARD
TZOFFSETFROM:+0300
TZOFFSETTO:+0200
TZNAME:EET
DTSTART:20261025T010000
END:STANDARD
END:VTIMEZONE
BEGIN:VEVENT
DTSTART;TZID=Europe/Helsinki:20250622T160000
DTEND;TZID=Europe/Helsinki:20250824T160000
DTSTAMP:20260420T083935
CREATED:20250620T070425Z
LAST-MODIFIED:20250620T073757Z
UID:15142-1750608000-1756051200@infostargard.pl
SUMMARY:II Mariackie Koncerty Muzyki Organowej
DESCRIPTION:II Mariackie Koncerty Muzyki Organowej i Kameralnej 2025 \n22.06.2025-24.08.2025\nWstęp wolny!\nMiejsce: Kolegiata pw. Najświętszej Maryi Panny Królowej Świata\n22.06. / 16:00 \nBogdan Narloch- organy\n\nIrena Davidson – harfa\n\nLindsay Davidson (Szkocja)\n06.07. / 16:00 \nKarol Hilla – organy\n\nZespół muzyki dawnej „Consortium Sedinum”\n\nMikołaj Zgółka – skrzypce barokowe\n\nJustyna Młynarczyk – viola da gamba\n\nUrszula Stawicka – klawesyn\n20.07. / 16:00 \nElżbieta Budnik – orgny\n\nWiktor Łyjak – organy\n\nZespół muzyki cerkiewnej „Partes” (Ukraina)\n\nSerhiy Bida – tenor\, dyrygent\n\nOlena Tsygankova – alt\n\nVasyl Huliak – tenor\n\nKostiantyn Lenchyk – bas\n\nIvan Yarems – bas\n03.08. / 16:00 \n„Stuttgarter Barock Collegium”\n\nMarcus Raiser (Niemcy) – organy\n\nEckhard Schmidt\, Rudi Scheck (Niemcy) – trąbki\, rogi myśliwskie\n\n24.08. / 16:00 \nAgnieszka Radwan-Stefańska – organy\n\nMarek Stefański – organy\n\nJan Jakub Bokun – klarnet\n\nJakub Kościuszko – gitara\nOrganizatorzy: Miasto Stargard\, Stargardzkie Centrum Kultury\, Parafia pw. NMP Królowej Świata w Stargardzie \nKierownictwo artystyczne: Bogdan Narloch \nProwadzenie koncertów: Damian Grabowski \nKoncerty finansuje Urząd Miejski w Stargardzie.
URL:https://infostargard.pl/event/ii-mariackie-koncerty-muzyki-organowej/
LOCATION:kościół NMP KŚ
END:VEVENT
BEGIN:VEVENT
DTSTART;TZID=Europe/Helsinki:20250801T000000
DTEND;TZID=Europe/Helsinki:20250810T000000
DTSTAMP:20260420T083935
CREATED:20250804T115834Z
LAST-MODIFIED:20250804T115834Z
UID:19250-1754006400-1754784000@infostargard.pl
SUMMARY:XXIII Warsztaty Artystyczne SAIE
DESCRIPTION:
URL:https://infostargard.pl/event/xxiii-warsztaty-artystyczne-saie/
LOCATION:Nad Miedwiem
END:VEVENT
BEGIN:VEVENT
DTSTART;TZID=Europe/Helsinki:20250802T110000
DTEND;TZID=Europe/Helsinki:20250802T110000
DTSTAMP:20260420T083935
CREATED:20250729T182119Z
LAST-MODIFIED:20250730T083650Z
UID:18770-1754132400-1754132400@infostargard.pl
SUMMARY:Fun Beach Festival nad Miedwiem
DESCRIPTION:FUN BEACH FESTIVAL to nie tylko wydarzenie muzyczne – to prawdziwa\, letnia energia dobra. Odbędzie się on w sobotę\, 2 sierpnia w Zieleniewie nad jeziorem Miedwie. \n\nInformacja organizatora: \n\nSpotykamy się co roku nad jeziorem Miedwie\, by połączyć muzykę i pomoc potrzebującym. Tu każdy beat ma znaczenie\, a każda nuta gra dla wyższego celu. Festiwal narodził się z czystej pasji. W 2024 roku\, grupa znajomych – DJ-e\, animatorzy\, artyści\, ludzie z sercem – postanowiła zrobić coś\, co łączy muzykę z realnym działaniem. Bez komercji\, bez wielkich marek\, bez kalkulowania zysków. W 2024 roku zorganizowaliśmy pierwszą edycję\, która pokazała\, że można – z energią\, lokalnym wsparciem i masą dobrej woli. I tak narodziła się tradycja\, którą chcemy kontynuować co roku.\n\nCo to właściwie za festiwal?To plenerowe wydarzenie artystyczno-charytatywne organizowane latem przy głównej plaży jeziora Miedwie\, przy współpracy z lokalnym Beach Barem i całą masą niesamowitych ludzi. To miejsce\, gdzie debiutanci i twórcy z pasją – niezależnie od wieku – mają swoje pięć minut. Bo młody talent to nie wiek – to serce\, odwaga i chęć pokazania się światu.\n\nCo dzieje się na festiwalu?-koncerty i występy artystyczne – od wokalistów\, przez zespoły\, po performerów i tancerzy\n-pokazy\, animacje i strefy chilloutowe\n– akcje charytatywne i licytacje\n-radość\, uśmiech i pozytywna atmosfera – totalna energia słońca i muzyki-a wieczorem\, tradycyjnie dyskoteka na piasku pod gołym niebem\, Sety DJ-skie – house\, latino\, trance\, melodic i taneczne rytmy do zachodu słońca.\nFun Beach Festival to nie tylko zabawa – to cel.Każdego roku wspieramy inną akcję charytatywną – realną\, lokalną\, potrzebną.\nW 2025 roku festiwal jest częścią zbiórki „Centymetry dla Antosi” – dziewczynki walczącej z ciężką chorobą genetyczną. Cały dochód z licytacji i część aktywności przeznaczamy na jej leczenie i wsparcie rodziny.\nDla kogo jest ten festiwal?\n\n-dla artystów\, którzy chcą się pokazać i zagrać z serca\n-dla publiczności\, która kocha muzykę i luz\n-dla ludzi\, którzy wierzą\, że dobro wraca\n-dla partnerów\, firm\, instytucji\, które chcą pomóc i być częścią czegoś większego.\n\n\nDla rodzin z dziećmi:\n– dmuchańce\,\n– piana party na plaży\,\n– animacje\,\n– konkursy\,\n– pokazy\,\n– coś pysznego do zjedzenia\,\n– dużo uśmiechu i pozytywnej energii!\n\n\n A wieczorem… dyskoteka pod gwiazdami.\n\n\n\nTo nie jest kolejny festiwal. To ruch społeczny z beatem w tle. To emocje\, wspomnienia\, prawdziwe relacje. To Fun Beach Festival.\nDołącz. Zatańcz. Pomóż.\n\nInf. /fejsbuk
URL:https://infostargard.pl/event/fun-beach-festival-nad-miedwiem/
LOCATION:Zieleniewo
END:VEVENT
BEGIN:VEVENT
DTSTART;TZID=Europe/Helsinki:20250802T170000
DTEND;TZID=Europe/Helsinki:20250802T170000
DTSTAMP:20260420T083935
CREATED:20250731T074843Z
LAST-MODIFIED:20250802T052032Z
UID:18876-1754154000-1754154000@infostargard.pl
SUMMARY:Urodzinowy piknik stowarzyszenia Studnica OdNowa
DESCRIPTION:Piknik Urodzinowy Stowarzyszenia Studnica OdNowa odbędzie się 2 sierpnia w Studnicy\, gm. Ińsko. \n\nUwaga! Zapiszcie sobie datę 2 sierpnia (sobota) od godziny 17:00 spotykamy się w Studnicy\, żeby wspólnie świętować pierwsze urodziny naszego stowarzyszenia. Dla najmłodszych i starszych będzie dużo atrakcji:\n Animacje Strefa drewnianych gier Tatuaże brokatowe Balonowe zoo Tworzenie gniotków Bańki mydlane Wata cukrowa i popcorn Dmuchaniec\n Loteria fantowa\n Nie zabraknie też stoiska gastronomicznego z pysznym\, swojskim jedzeniem!\n Zaproszeni goście\, niespodzianki i dodatkowe atrakcje dla całych rodzin!\n A od godziny 20:00 zapraszamy wszystkich na imprezę z DJ-em – tańczymy do rana! \n\nZadanie publiczne współfinansowane przez Gminę Ińsko.\n\nInf. organizatora
URL:https://infostargard.pl/event/urodzinowy-piknik-stowarzyszenia-studnica-odnowa/
LOCATION:teren przy świetlicy w Studnicy
END:VEVENT
BEGIN:VEVENT
DTSTART;TZID=Europe/Helsinki:20250802T174500
DTEND;TZID=Europe/Helsinki:20250802T174500
DTSTAMP:20260420T083935
CREATED:20250731T184554Z
LAST-MODIFIED:20250802T052008Z
UID:18918-1754156700-1754156700@infostargard.pl
SUMMARY:Koncert w Starej Dąbrowie
DESCRIPTION:„Echa przeszłości – Pamięci I sierpnia” – koncert pieśni Powstania Warszawskiego „Godzina W” w wykonaniu Teatru Rozmaitości Gwitajcie odbędzie się 2 sierpnia w Starej Dąbrowie. \n\n\n\n godz. 17:45\n Kościół św. Józefa w Starej Dąbrowie.\nZapraszają wójt Gminy Stara Dąbrowa\, Centrum Kultury i Rekreacji oraz ks. proboszcz Witold Seredyński. Wyjątkowy koncert będzie poświęcony bohaterom Powstania Warszawskiego.\n\n\n-Razem uczcijmy pamięć tych\, którzy walczyli o wolność! – zapraszają organizatorzy.
URL:https://infostargard.pl/event/koncert-w-starej-dabrowie/
LOCATION:kościół św. Józefa w Starej Dąbrowie
END:VEVENT
BEGIN:VEVENT
DTSTART;TZID=Europe/Helsinki:20250802T190000
DTEND;TZID=Europe/Helsinki:20250802T190000
DTSTAMP:20260420T083935
CREATED:20250731T174414Z
LAST-MODIFIED:20250802T084930Z
UID:18905-1754161200-1754161200@infostargard.pl
SUMMARY:Koncert zespołu Divers
DESCRIPTION:W ramach Coolturalnych Wakacji\, Stargardzkie Centrum Kultury zaprasza na rockowy koncert zespołu Divers.  \nWydarzenie odbędzie się w najbliższą sobotę\, 2 sierpnia\, o godz. 19 w Teatrze Letnim Parku Chrobrego. \n– Będzie to energiczny\, letni występ\, który rozgrzeje publiczność za sprawą charyzmatycznego wokalisty Andrzeja Kokosa Kosko i doskonałych instrumentalistów – zachęcają organizatorzy. – Wstęp wolny\, wydarzenie bezpłatne.  \nKoncert miał się odbyć 12 lipca\, ale ze względu na niekorzystne prognozy pogody został odwołany. \n 
URL:https://infostargard.pl/event/koncert-zespolu-divers-2/
LOCATION:Teatr Letni w Parku Chrobrego
END:VEVENT
END:VCALENDAR